{"text_format":"1","workbook":"xlsx","n_sheets":43,"sheets":["START","Instructions","Template names","Lookup and lists","Org structure","Contacts","B1-Sum","B2-FinPerf SC","B2B","B3-FinPerf V","B3B","B4-FinPerf RE","B5-Capex","B5B","B6-FinPos","B7-CFlow","B8-ResRecon","B9-Asset","B10-SerDel","SB1","SB2","SB3","SB4","SB5","SB6","SB7","SB8","SB9","SB10","SB11","SB12","SB13","SB14","SB15","SB16","SB17","SB18a","SB18b","SB18c","SB18d","SB18e","SB19","SB20"],"not_rendered":{"charts":0,"images":20,"macros":1,"external_links":0,"defined_names":1985,"comments":1,"pivot_tables":0},"unopened":[],"bounds":{"document_bytes":16777216,"sheet_cells":100000,"rows_first":2000,"rows_last":500,"rows_between":2000,"halvings":0,"cell_chars":16384,"cell_head_chars":4096},"cells_cut":0,"cells_raw":0,"read":"whole","date_system":"1900"}

{"sheet":"START","index":0,"n_rows":1,"n_cols":1,"rows_kept":1,"cut":false,"hidden":false,"merged":[]}
[{"$f":"muni","v":"WC031 Theewaterskloof"}]

{"sheet":"Instructions","index":1,"n_rows":38,"n_cols":24,"rows_kept":38,"cut":false,"hidden":false,"merged":[]}
[]
[null,null,null,2020]
[]
[null,null,null,null,null,null,null,null,null,null,null,null,null,null,null,null,null,null,null,null,null,null,null,"Yes"]
[null,null,null,null,null,null,null,null,null,null,null,null,null,null,null,null,null,null,null,null,null,null,null,"No"]
[]
[null,null,null,null,null,null,null,null,null,null,null,null,null,null,null,null,null,null,null,null,null,null,"Type of Entities Range:","Parent Municipality"]
[null,null,null,null,null,null,null,null,null,null,null,null,null,null,null,null,null,null,null,null,null,null,null,"Consolidated Information"]
[]
[null,null,null,null,null,null,null,null,null,null,null,null,null,null,null,null,null,null,null,null,null,null,"Date of Adjustment","16 April 2026"]
[]
[]
[]
[]
[]
[]
[]
[]
[null,null,null,null,null,null,null,null,null,null,null,null,null,null,null,null,null,null,null,null,null,null,"MTREF Range:",2013]
[null,null,null,null,null,null,null,null,null,null,null,null,null,null,null,null,null,null,null,null,null,null,null,2014]
[null,null,null,null,null,null,null,null,null,null,null,null,null,null,null,null,null,null,null,null,null,null,null,2015]
[null,null,null,null,null,null,null,null,null,null,null,null,null,null,null,null,null,null,null,null,null,null,null,2016]
[null,null,null,null,null,null,null,null,null,null,null,null,null,null,null,null,null,null,null,null,null,null,null,2017]
[null,null,null,null,null,null,null,null,null,null,null,null,null,null,null,null,null,null,null,null,null,null,null,2018]
[null,null,null,null,null,null,null,null,null,null,null,null,null,null,null,null,null,null,null,null,null,null,null,2019]
[null,null,null,null,null,null,null,null,null,null,null,null,null,null,null,null,null,null,null,null,null,null,null,2020]
[null,null,null,null,null,null,null,null,null,null,null,null,null,null,null,null,null,null,null,null,null,null,null,2021]
[null,null,null,null,null,null,null,null,null,null,null,null,null,null,null,null,null,null,null,null,null,null,null,2022]
[null,null,null,null,null,null,null,null,null,null,null,null,null,null,null,null,null,null,null,null,null,null,null,2023]
[null,null,null,null,null,null,null,null,null,null,null,null,null,null,null,null,null,null,null,null,null,null,null,2024]
[null,null,null,null,null,null,null,null,null,null,null,null,null,null,null,null,null,null,null,null,null,null,null,2025]
[null,null,null,null,null,null,null,null,null,null,null,null,null,null,null,null,null,null,null,null,null,null,null,2026]
[null,null,null,null,null,null,null,null,null,null,null,null,null,null,null,null,null,null,null,null,null,null,"MTREF Linked:"]
[null,null,null,null,null,null,null,null,null,null,null,null,null,null,null,null,null,null,null,null,null,null,"MTREF:"]
[null,null,null,null,null,null,null,null,null,null,null,null,null,null,null,null,null,null,null,null,null,null,null,13]
[null,null,null,null,null,null,null,null,null,null,null,null,null,null,null,null,null,null,null,null,null,null,"Fin Year:",{"$f":"INDEX(X19:X33,X35,1)","v":2025}]
[]
[null,null,null,null,null,null,null,null,null,null,null,null,null,null,null,null,null,null,null,null,null,null,null,{"$f":"MTREF&\"/\"&RIGHT(MTREF,2)+1","v":"2025/26"}]

{"sheet":"Template names","index":2,"n_rows":101,"n_cols":6,"rows_kept":101,"cut":false,"hidden":true,"merged":[[0,0,0,3],[61,0,61,3],[65,0,65,1]]}
["Common sheet headings"]
["Head1",{"$f":"HLOOKUP(MTREF,Headings,2)","v":"2024/25"},"Prior year -1"]
["Head1A",{"$f":"HLOOKUP(MTREF,Headings,3)","v":"2023/24"},"Prior year -2"]
["Head1B",{"$f":"HLOOKUP(MTREF,Headings,4)","v":"2022/23"},"Prior year -3"]
["Head2",{"$f":"HLOOKUP(MTREF,Headings,7)","v":"Budget Year 2025/26"},"Year of approved budget"]
["Head2A",{"$f":"HLOOKUP(MTREF,Headings,6)","v":"2025/26"},"Approved budget year"]
["Head3",{"$f":"HLOOKUP(MTREF,Headings,5)","v":"2025/26 Medium Term Revenue & Expenditure Framework"},"MTREF header name"]
["Head3A","Medium Term Revenue and Expenditure Framework"]
["Head4","Current year"]
["Head5","Audited Outcome"]
["Head5A","Outcome"]
["Head5B","Pre-audit outcome"]
["Head6","Original Budget"]
["Head7","Adjusted Budget"]
["Head8","Full Year Forecast"]
["Head9",{"$f":"HLOOKUP(MTREF,Headings,7)","v":"Budget Year 2025/26"},"1st year of MTREF","Year1"]
["Head10",{"$f":"HLOOKUP(MTREF,Headings,8)","v":"Budget Year +1 2026/27"},"2nd year of MTREF","Year2"]
["Head11",{"$f":"HLOOKUP(MTREF,Headings,9)","v":"Budget Year +2 2027/28"},"3rd year of MTREF","Year3"]
["Head24","Description",null,"Desc"]
["Head26","Vote Description",null,"VDesc"]
["Head27","Ref"]
["Head27a","References"]
["Head28","Surplus/ (Deficit) for the year",null,"Result"]
["Head29","Annual target 2007/08"]
["Head30","Revised target 2007/08"]
["Head31","Quarter ended 30 September"]
["Head32","Quarter ended 31 December"]
["Head33","Quarter ended 31 March"]
["Head34","Quarter ended 30 June"]
["Head35","Variance explanation"]
["Head36","YTD  Actual 31 Dec"]
["Head37","YTD  Budget 31 Dec"]
["Head38","Monthly actual"]
["Head39","YearTD actual"]
["Head40","YearTD budget"]
["Head41","YTD variance"]
["Head42","Surplus/ (Deficit) for the yr/period"]
["Head43",{"$f":"Head3&\" Summary\"","v":"2025/26 Medium Term Revenue & Expenditure Framework Summary"}]
["Head44","2001 Census"]
["Head45","2011 Census"]
["Head46"," - Adjustments Budget - January 2007"]
["Head47","Previous target year to complete"]
["Head48","Present value"]
["Head49"]
["Head50","Other Adjusts."]
["Head51","Accum. Funds"]
["Head52","Multi-year capital"]
["Head53","Unfore. Unavoid."]
["Head54","Prior Adjusted"]
["Head55","Nat. or Prov. Govt"]
["Head56","Total Adjusts."]
["Head57","Month DD, YYYY - "]
["Head58","Parent muni."]
["Head59","Downward adjusts"]
["SFPerf1","Budgeted Financial Performance"]
["SFPerf2","Forecast Financial Performance"]
["SFPos1","Budgeted Financial Position"]
["SFPos2","Forecast Financial Position"]
["Cash1","Budget Cash Flow"]
["Cash2","Forecast Cash Flow"]
["RandM","Expenditure includes repairs & maintenance of R'000"]
["Standard nomenclature"]
["Muni",{"$f":"'Lookup and lists'!B28","v":"WC031 Theewaterskloof"}]
["Municipal Entities",2,"Type of report:",3]
[{"$f":"IF((MuniEntities=1)*(MuniType=2),\"YES\",\"NO\")","v":"NO"},"Does this municipality have entities (consolidated budget and entity budgets required)? YES/NO"]
["Mid Year Review/Adjustment Budget schedules & tables",null,null,null,"Consolidated header","Parent municipality header"]
["ADJSum",{"$f":"D67&IF(Consolques=\"YES\",E67,F67)","v":"Table B1 Adjustments Budget Summary"},null,"Table B1 ",{"$f":"\"Consolidated \"&F67","v":"Consolidated Adjustments Budget Summary"},{"$f":"\"Adjustments Budget Summary\"","v":"Adjustments Budget Summary"}]
["ADJ2","Table B3 Adjustments Budget Financial Performance (revenue and expenditure by municipal vote)",null,"Table B3 ",{"$f":"\"Consolidated \"&F68","v":"Consolidated Adjustments Budget Financial Performance (revenue and expenditure by municipal vote)"},{"$f":"\"Adjustments Budget Financial Performance (revenue and expenditure by municipal vote)\"","v":"Adjustments Budget Financial Performance (revenue and expenditure by municipal vote)"}]
["ADJ3","Table B2 Adjustments Budget Financial Performance (functional classification)",null,"Table B2 ","Consolidated Adjustments Budget Financial Performance (functional classification)",{"$f":"\"Adjustments Budget Financial Performance (functional classification)\"","v":"Adjustments Budget Financial Performance (functional classification)"}]
["ADJ4","Table B4 Adjustments Budget Financial Performance (revenue and expenditure)",null,"Table B4 ","Consolidated Adjustments Budget Financial Performance (revenue and expenditure)",{"$f":"\"Adjustments Budget Financial Performance (revenue and expenditure)\"","v":"Adjustments Budget Financial Performance (revenue and expenditure)"}]
["ADJ5","Table B5 Adjustments Capital Expenditure Budget by vote and funding",null,"Table B5 ","Consolidated Adjustments Capital Expenditure Budget by vote and funding",{"$f":"\"Adjustments Capital Expenditure Budget by vote and funding\"","v":"Adjustments Capital Expenditure Budget by vote and funding"}]
["ADJ6","Table B6 Adjustments Budget Financial Position",null,"Table B6 ","Consolidated Adjustments Budget Financial Position",{"$f":"\"Adjustments Budget Financial Position\"","v":"Adjustments Budget Financial Position"}]
["ADJ7","Table B7 Adjustments Budget Cash Flows",null,"Table B7 ","Consolidated Adjustments Budget Cash Flows",{"$f":"\"Adjustments Budget Cash Flows\"","v":"Adjustments Budget Cash Flows"}]
["ADJ8","Table B8 Cash backed reserves/accumulated surplus reconciliation",null,"Table B8 ","Consolidated Cash backed reserves/accumulated surplus reconciliation",{"$f":"\"Cash backed reserves/accumulated surplus reconciliation\"","v":"Cash backed reserves/accumulated surplus reconciliation"}]
["ADJ9","Table B9 Asset Management",null,"Table B9 ","Consolidated Asset Management",{"$f":"\"Asset Management\"","v":"Asset Management"}]
["ADJ10","Table B10 Basic service delivery measurement",null,"Table B10 ","Consolidated Basic service delivery measurement",{"$f":"\"Basic service delivery measurement\"","v":"Basic service delivery measurement"}]
["ADJB1","Supporting Table SB1 Supporting detail to 'Budgeted Financial Performance'",null,{"$f":"D101&\"Table SB1 \"","v":"Supporting Table SB1 "},"Consolidated Supporting detail to 'Budgeted Financial Performance'",{"$f":"\"Supporting detail to 'Budgeted Financial Performance'\"","v":"Supporting detail to 'Budgeted Financial Performance'"}]
["ADJB2","Supporting Table SB2 Supporting detail to 'Financial Position Budget'",null,{"$f":"D101&\"Table SB2 \"","v":"Supporting Table SB2 "},"Consolidated Supporting detail to 'Financial Position Budget'",{"$f":"\"Supporting detail to 'Financial Position Budget'\"","v":"Supporting detail to 'Financial Position Budget'"}]
["ADJB3","Supporting Table SB3 Adjustments to the SDBIP - performance objectives",null,{"$f":"D101&\"Table SB3 \"","v":"Supporting Table SB3 "},"Consolidated Adjustments to the SDBIP - performance objectives",{"$f":"\"Adjustments to the SDBIP - performance objectives\"","v":"Adjustments to the SDBIP - performance objectives"}]
["ADJB4","Supporting Table SB4 Adjustments to budgeted performance indicators and benchmarks",null,{"$f":"D101&\"Table SB4 \"","v":"Supporting Table SB4 "},"Consolidated Adjustments to budgeted performance indicators and benchmarks",{"$f":"\"Adjustments to budgeted performance indicators and benchmarks\"","v":"Adjustments to budgeted performance indicators and benchmarks"}]
["ADJB5","Supporting Table SB5 Adjustments Budget - social, economic and demographic statistics and assumptions",null,{"$f":"D101&\"Table SB5 \"","v":"Supporting Table SB5 "},"Consolidated Adjustments Budget - social, economic and demographic statistics and assumptions",{"$f":"\"Adjustments Budget - social, economic and demographic statistics and assumptions\"","v":"Adjustments Budget - social, economic and demographic statistics and assumptions"}]
["ADJB6","Supporting Table SB6 Adjustments Budget - funding measurement",null,{"$f":"D101&\"Table SB6 \"","v":"Supporting Table SB6 "},"Consolidated Adjustments Budget - funding measurement",{"$f":"\"Adjustments Budget - funding measurement\"","v":"Adjustments Budget - funding measurement"}]
["ADJB7","Supporting Table SB7 Adjustments Budget - transfers and grant receipts",null,{"$f":"D101&\"Table SB7 \"","v":"Supporting Table SB7 "},"Consolidated Adjustments Budget - transfers and grant receipts",{"$f":"\"Adjustments Budget - transfers and grant receipts\"","v":"Adjustments Budget - transfers and grant receipts"}]
["ADJB8","Supporting Table SB8 Adjustments Budget - expenditure on transfers and grant programme",null,{"$f":"D101&\"Table SB8 \"","v":"Supporting Table SB8 "},"Consolidated Adjustments Budget - expenditure on transfers and grant programme",{"$f":"\"Adjustments Budget - expenditure on transfers and grant programme\"","v":"Adjustments Budget - expenditure on transfers and grant programme"}]
["ADJB9","Supporting Table SB9 Adjustments Budget - reconciliation of transfers, grant receipts, and unspent funds",null,{"$f":"D101&\"Table SB9 \"","v":"Supporting Table SB9 "},"Consolidated Adjustments Budget - reconciliation of transfers, grant receipts, and unspent funds",{"$f":"\"Adjustments Budget - reconciliation of transfers, grant receipts, and unspent funds\"","v":"Adjustments Budget - reconciliation of transfers, grant receipts, and unspent funds"}]
["ADJB10","Supporting Table SB10 Adjustments Budget - transfers and grants made by the municipality",null,{"$f":"D101&\"Table SB10 \"","v":"Supporting Table SB10 "},"Consolidated Adjustments Budget - transfers and grants made by the municipality",{"$f":"\"Adjustments Budget - transfers and grants made by the municipality\"","v":"Adjustments Budget - transfers and grants made by the municipality"}]
["ADJB11","Supporting Table SB11 Adjustments Budget - councillor and staff benefits",null,{"$f":"D101&\"Table SB11 \"","v":"Supporting Table SB11 "},"Consolidated Adjustments Budget - councillor and staff benefits",{"$f":"\"Adjustments Budget - councillor and staff benefits\"","v":"Adjustments Budget - councillor and staff benefits"}]
["ADJB12","Supporting Table SB12 Adjustments Budget - monthly revenue and expenditure (municipal vote)",null,{"$f":"D101&\"Table SB12 \"","v":"Supporting Table SB12 "},"Consolidated Adjustments Budget - monthly revenue and expenditure (municipal vote)",{"$f":"\"Adjustments Budget - monthly revenue and expenditure (municipal vote)\"","v":"Adjustments Budget - monthly revenue and expenditure (municipal vote)"}]
["ADJB13","Supporting Table SB13 Adjustments Budget - monthly revenue and expenditure (functional classification)",null,{"$f":"D101&\"Table SB13 \"","v":"Supporting Table SB13 "},"Consolidated Adjustments Budget - monthly revenue and expenditure (functional classification)",{"$f":"\"Adjustments Budget - monthly revenue and expenditure (functional classification)\"","v":"Adjustments Budget - monthly revenue and expenditure (functional classification)"}]
["ADJB14","Supporting Table SB14 Adjustments Budget - monthly revenue and expenditure",null,{"$f":"D101&\"Table SB14 \"","v":"Supporting Table SB14 "},"Consolidated Adjustments Budget - monthly revenue and expenditure",{"$f":"\"Adjustments Budget - monthly revenue and expenditure\"","v":"Adjustments Budget - monthly revenue and expenditure"}]
["ADJB15","Supporting Table SB15 Adjustments Budget - monthly cash flow",null,{"$f":"D101&\"Table SB15 \"","v":"Supporting Table SB15 "},"Consolidated Adjustments Budget - monthly cash flow",{"$f":"\"Adjustments Budget - monthly cash flow\"","v":"Adjustments Budget - monthly cash flow"}]
["ADJB16","Supporting Table SB16 Adjustments Budget - monthly capital expenditure (municipal vote)",null,{"$f":"D101&\"Table SB16 \"","v":"Supporting Table SB16 "},"Consolidated Adjustments Budget - monthly capital expenditure (municipal vote)",{"$f":"\"Adjustments Budget - monthly capital expenditure (municipal vote)\"","v":"Adjustments Budget - monthly capital expenditure (municipal vote)"}]
["ADJB17","Supporting Table SB17 Adjustments Budget - monthly capital expenditure (functional classification)",null,{"$f":"D101&\"Table SB17 \"","v":"Supporting Table SB17 "},"Consolidated Adjustments Budget - monthly capital expenditure (functional classification)",{"$f":"\"Adjustments Budget - monthly capital expenditure (functional classification)\"","v":"Adjustments Budget - monthly capital expenditure (functional classification)"}]
["ADJB18a","Supporting Table SB18a Adjustments Budget - capital expenditure on new assets by asset class",null,{"$f":"D101&\"Table SB18a \"","v":"Supporting Table SB18a "},"Consolidated Adjustments Budget - capital expenditure on new assets by asset class",{"$f":"\"Adjustments Budget - capital expenditure on new assets by asset class\"","v":"Adjustments Budget - capital expenditure on new assets by asset class"}]
["ADJB18b","Supporting Table SB18b Adjustments Budget - capital expenditure on renewal of existing assets by asset class",null,{"$f":"D101&\"Table SB18b \"","v":"Supporting Table SB18b "},{"$f":"\"Consolidated \"&F95","v":"Consolidated Adjustments Budget - capital expenditure on renewal of existing assets by asset class"},{"$f":"\"Adjustments Budget - capital expenditure on renewal of existing assets by asset class\"","v":"Adjustments Budget - capital expenditure on renewal of existing assets by asset class"}]
["ADJB18c","Supporting Table SB18c Adjustments Budget - expenditure on repairs and maintenance by asset class",null,{"$f":"D101&\"Table SB18c \"","v":"Supporting Table SB18c "},{"$f":"\"Consolidated \"&F96","v":"Consolidated Adjustments Budget - expenditure on repairs and maintenance by asset class"},{"$f":"\"Adjustments Budget - expenditure on repairs and maintenance by asset class\"","v":"Adjustments Budget - expenditure on repairs and maintenance by asset class"}]
["ADJB18d","Supporting Table SB18d Adjustments Budget - depreciation by asset class",null,{"$f":"D101&\"Table SB18d \"","v":"Supporting Table SB18d "},{"$f":"\"Consolidated \"&F97","v":"Consolidated Adjustments Budget - depreciation by asset class"},{"$f":"\"Adjustments Budget - depreciation by asset class\"","v":"Adjustments Budget - depreciation by asset class"}]
["ADJB18e","Supporting Table SB18e Adjustments Budget - capital expenditure on upgrading of existing assets by asset class",null,{"$f":"D101&\"Table SB18e \"","v":"Supporting Table SB18e "},{"$f":"\"Consolidated \"&F98","v":"Consolidated Adjustments Budget - capital expenditure on upgrading of existing assets by asset class"},{"$f":"\"Adjustments Budget - capital expenditure on upgrading of existing assets by asset class\"","v":"Adjustments Budget - capital expenditure on upgrading of existing assets by asset class"}]
["ADJB19","Supporting Table SB19 List of capital programmes and projects affected by Adjustments Budget",null,{"$f":"D101&\"Table SB19 \"","v":"Supporting Table SB19 "},"Consolidated List of capital programmes and projects affected by Adjustments Budget",{"$f":"\"List of capital programmes and projects affected by Adjustments Budget\"","v":"List of capital programmes and projects affected by Adjustments Budget"}]
["ADJB20","Supporting Table SB20 Not required",null,{"$f":"D101&\"Table SB20 \"","v":"Supporting Table SB20 "},{"$f":"\"Adjusted Budget Municipal Entity Performance Summary\"","v":"Adjusted Budget Municipal Entity Performance Summary"},"Not required"]
[null,null,null,"Supporting "]

{"sheet":"Lookup and lists","index":3,"n_rows":308,"n_cols":22,"rows_kept":308,"cut":false,"hidden":true,"merged":[]}
["Description",2013,2014,2015,2016,2017,2018,2019,2020,2021,2022,2023,2024,2025,2026,null,"Grants:","National - opex","Provincial - opex","National - capex","Provincial - capex","YESNO"]
[{"$f":"'Template names'!C2","v":"Prior year -1"},{"$f":"B1-1&\"/\"&RIGHT(B1,2)-0","v":"2012/13"},{"$f":"C1-1&\"/\"&RIGHT(C1,2)-0","v":"2013/14"},{"$f":"D1-1&\"/\"&RIGHT(D1,2)-0","v":"2014/15"},{"$f":"E1-1&\"/\"&RIGHT(E1,2)-0","v":"2015/16"},"2016/17","2017/18","2018/19","2019/20","2020/21","2021/22","2022/23","2023/24","2024/25","2025/26",null,null,"Local Government Equitable Share","Health subsidy"," Municipal Infrastructure Grant (MIG)","Agriculture","Yes"]
[{"$f":"'Template names'!C3","v":"Prior year -2"},{"$f":"B1-2&\"/\"&RIGHT(B1,2)-1","v":"2011/12"},{"$f":"C1-2&\"/\"&RIGHT(C1,2)-1","v":"2012/13"},{"$f":"D1-2&\"/\"&RIGHT(D1,2)-1","v":"2013/14"},{"$f":"E1-2&\"/\"&RIGHT(E1,2)-1","v":"2014/15"},"2015/16","2016/17","2017/18","2018/19","2019/20","2020/21","2021/22","2022/23","2023/24","2024/25",null,null,"RSC Levy Replacement ","Ambulance subsidy"," Public Transport and Systems","Education","No"]
[{"$f":"'Template names'!C4","v":"Prior year -3"},{"$f":"B1-3&\"/\"&RIGHT(B1,2)-2","v":"2010/11"},{"$f":"C1-3&\"/\"&RIGHT(C1,2)-2","v":"2011/12"},{"$f":"D1-3&\"/\"&RIGHT(D1,2)-2","v":"2012/13"},{"$f":"E1-3&\"/\"&RIGHT(E1,2)-2","v":"2013/14"},"2014/15","2015/16","2016/17","2017/18","2018/19","2019/20","2020/21","2021/22","2022/23","2023/24",null,null,"Finance Management ","Housing","Rural Transport Services and Infrastructure","Health"]
[{"$f":"'Template names'!C7","v":"MTREF header name"},{"$f":"B1&\"/\"&RIGHT(B1,2)+1&\" Medium Term Revenue & Expenditure Framework\"","v":"2013/14 Medium Term Revenue & Expenditure Framework"},{"$f":"C1&\"/\"&RIGHT(C1,2)+1&\" Medium Term Revenue & Expenditure Framework\"","v":"2014/15 Medium Term Revenue & Expenditure Framework"},{"$f":"D1&\"/\"&RIGHT(D1,2)+1&\" Medium Term Revenue & Expenditure Framework\"","v":"2015/16 Medium Term Revenue & Expenditure Framework"},{"$f":"E1&\"/\"&RIGHT(E1,2)+1&\" Medium Term Revenue & Expenditure Framework\"","v":"2016/17 Medium Term Revenue & Expenditure Framework"},"2017/18 Medium Term Revenue & Expenditure Framework","2018/19 Medium Term Revenue & Expenditure Framework","2019/20 Medium Term Revenue & Expenditure Framework","2020/21 Medium Term Revenue & Expenditure Framework","2021/22 Medium Term Revenue & Expenditure Framework","2022/23 Medium Term Revenue & Expenditure Framework","2023/24 Medium Term Revenue & Expenditure Framework","2024/25 Medium Term Revenue & Expenditure Framework","2025/26 Medium Term Revenue & Expenditure Framework","2026/27 Medium Term Revenue & Expenditure Framework",null,null,"Municipal Systems Improvement","Sport and Recreation","Regional Bulk Infrastructure","Housing and Local Government "]
[{"$f":"'Template names'!C6","v":"Approved budget year"},{"$f":"B1&\"/\"&RIGHT(B1,2)+1","v":"2013/14"},{"$f":"C1&\"/\"&RIGHT(C1,2)+1","v":"2014/15"},{"$f":"D1&\"/\"&RIGHT(D1,2)+1","v":"2015/16"},{"$f":"E1&\"/\"&RIGHT(E1,2)+1","v":"2016/17"},"2017/18","2018/19","2019/20","2020/21","2021/22","2022/23","2023/24","2024/25","2025/26","2026/27",null,null,"Water Services Operating Subsidy ",null,"Rural Households Infrastructure ","Other Departments"]
[{"$f":"'Template names'!C16","v":"1st year of MTREF"},{"$f":"\"Budget Year \"&B1&\"/\"&RIGHT(B1,2)+1","v":"Budget Year 2013/14"},{"$f":"\"Budget Year \"&C1&\"/\"&RIGHT(C1,2)+1","v":"Budget Year 2014/15"},{"$f":"\"Budget Year \"&D1&\"/\"&RIGHT(D1,2)+1","v":"Budget Year 2015/16"},{"$f":"\"Budget Year \"&E1&\"/\"&RIGHT(E1,2)+1","v":"Budget Year 2016/17"},"Budget Year 2017/18","Budget Year 2018/19","Budget Year 2019/20","Budget Year 2020/21","Budget Year 2021/22","Budget Year 2022/23","Budget Year 2023/24","Budget Year 2024/25","Budget Year 2025/26","Budget Year 2026/27",null,null,"Energy Efficiency  and Demand Management",null,"Neighbourhood Development Partnership","Public Works, Roads, Transport "]
[{"$f":"'Template names'!C17","v":"2nd year of MTREF"},{"$f":"\"Budget Year +1 \"&B1+1&\"/\"&RIGHT(B1,2)+2","v":"Budget Year +1 2014/15"},{"$f":"\"Budget Year +1 \"&C1+1&\"/\"&RIGHT(C1,2)+2","v":"Budget Year +1 2015/16"},{"$f":"\"Budget Year +1 \"&D1+1&\"/\"&RIGHT(D1,2)+2","v":"Budget Year +1 2016/17"},{"$f":"\"Budget Year +1 \"&E1+1&\"/\"&RIGHT(E1,2)+2","v":"Budget Year +1 2017/18"},"Budget Year +1 2018/19","Budget Year +1 2019/20","Budget Year +1 2020/21","Budget Year +1 2021/22","Budget Year +1 2022/23","Budget Year +1 2023/24","Budget Year +1 2024/25","Budget Year +1 2025/26","Budget Year +1 2026/27","Budget Year +1 2027/28",null,null,"Integrated National Electrification Programme",null,"2010 FIFA World Cup Stadiums Development","Sport and Recreation"]
[{"$f":"'Template names'!C18","v":"3rd year of MTREF"},{"$f":"\"Budget Year +2 \"&B1+2&\"/\"&RIGHT(B1,2)+3","v":"Budget Year +2 2015/16"},{"$f":"\"Budget Year +2 \"&C1+2&\"/\"&RIGHT(C1,2)+3","v":"Budget Year +2 2016/17"},{"$f":"\"Budget Year +2 \"&D1+2&\"/\"&RIGHT(D1,2)+3","v":"Budget Year +2 2017/18"},{"$f":"\"Budget Year +2 \"&E1+2&\"/\"&RIGHT(E1,2)+3","v":"Budget Year +2 2018/19"},"Budget Year +2 2019/20","Budget Year +2 2020/21","Budget Year +2 2021/22","Budget Year +2 2022/23","Budget Year +2 2023/24","Budget Year +2 2024/25","Budget Year +2 2025/26","Budget Year +2 2026/27","Budget Year +2 2027/28","Budget Year +2 2028/29",null,null,"Municipal Drought Relief "]
["Adjustments Budget",{"$f":"\"Annual target \" & B1&\"/\"&RIGHT(B1,2)+1","v":"Annual target 2013/14"},{"$f":"\"Annual target \" & C1&\"/\"&RIGHT(C1,2)+1","v":"Annual target 2014/15"},{"$f":"\"Annual target \" & D1&\"/\"&RIGHT(D1,2)+1","v":"Annual target 2015/16"},{"$f":"\"Annual target \" & E1&\"/\"&RIGHT(E1,2)+1","v":"Annual target 2016/17"},"Annual target 2017/18","Annual target 2018/19","Annual target 2019/20","Annual target 2020/21","Annual target 2021/22","Annual target 2022/23","Annual target 2023/24","Annual target 2024/25","Annual target 2025/26","Annual target 2026/27",null,null,"2010 FIFA World Cup Operating"]
["NOTE: This sheet should not be directly amended - select headings from sheet 'S'",null,null,null,null,null,null,null,null,null,null,null,null,null,null,null,null,"Electricity Demand Side Management"]
[null,null,null,null,null,null,null,null,null,null,null,null,null,null,null,null,null,"EPWP Incentive"]
[]
[]
[null,null,null,null,null,null,null,null,null,null,null,null,null,null,null,null,null,"Asset Class","Asset sub-class Old","Asset sub-class","IUDF","MTSF"]
[]
[null,null,null,null,null,null,null,null,null,null,null,null,null,null,null,null,null,"Roads Infrastructure","Roads, Pavements & Bridges","Roads","Spatial integration","Quality basic education"]
[null,null,null,null,null,null,null,null,null,null,null,null,null,null,null,null,null,"Storm water Infrastructure","Storm water","Road Structures","Inclusion and access","A long and healthy life for all South Africans"]
[null,null,null,null,null,null,null,null,null,null,null,null,null,null,null,null,null,"Electrical Infrastructure","Generation","Road Furniture","Growth","All people in South Africa are and feel safe"]
[null,null,null,null,null,null,null,null,null,null,null,null,null,null,null,null,null,"Water Supply Infrastructure","Transmission & Reticulation","Capital Spares","Governance","Decent employment through inclusive growth"]
[null,null,null,null,null,null,null,null,null,null,null,null,null,null,null,null,null,"Sanitation Infrastructure","Street Lighting","Drainage Collection",null,"A skilled and capable workforce to support an inclusive growth path"]
[null,null,null,null,null,null,null,null,null,null,null,null,null,null,null,null,null,"Solid Waste Infrastructure","Dams & Reservoirs","Storm water Conveyance",null,"An efficient, competitive and responsive economic infrastructure network"]
[null,null,null,null,null,null,null,null,null,null,null,null,null,null,null,null,null,"Rail Infrastructure","Water purification","Attenuation",null,"Vibrant, equitable, sustainable rural communities contributing towards food security for all"]
[null,null,null,null,null,null,null,null,null,null,null,null,null,null,null,null,null,"Coastal Infrastructure","Reticulation","Power Plants",null,"Sustainable human settlements and improved quality of household life"]
[null,null,null,null,null,null,null,null,null,null,null,null,null,null,null,null,null,"Information and Communication Infrastructure","Sewerage purification","HV Substations",null,"Responsive, accountable, effective and efficient local government"]
[null,null,null,null,null,null,null,null,null,null,null,null,null,null,null,null,null,"Community Facilities","Waste Management","HV Switching Station",null,"Protect and enhance our environmental assets and natural resources"]
["Name link",242,null,null,null,null,null,null,null,null,null,null,null,null,null,null,null,"Sport and Recreation Facilities","Transportation","HV Transmission Conductors",null,"Create a better South Africa and contribute to a better Africa and a better world"]
["Name of Muni",{"$f":"INDEX(B29:B312,B27,1)","v":"WC031 Theewaterskloof"},null,null,null,null,null,null,null,null,null,null,null,null,null,null,null,"Heritage assets","Gas","MV Substations",null,"An efficient, effective and development-oriented public service"]
[null,"Choose name from list","Set name on 'Instructions' sheet",null,null,null,null,null,null,null,null,null,null,null,null,null,null,"Revenue Generating","Parks & gardens","MV Switching Stations",null,"A comprehensive, responsive and sustainable social protection system"]
[null,"BUF Buffalo City","EC EASTERN CAPE",null,null,null,null,null,null,null,null,null,null,null,null,null,null,"Non-revenue Generating","Sportsfields & stadia","MV Networks",null,"A diverse, socially cohesive society with a common national identity"]
[null,"NMA Nelson Mandela Bay","EC EASTERN CAPE",null,null,null,null,null,null,null,null,null,null,null,null,null,null,"Operational Buildings","Swimming pools","LV Networks"]
[null,"EC101 Dr Beyers Naude","EC EASTERN CAPE",null,null,null,null,null,null,null,null,null,null,null,null,null,null,"Housing","Community halls","Capital Spares"]
[null,"EC102 Blue Crane Route","EC EASTERN CAPE",null,null,null,null,null,null,null,null,null,null,null,null,null,null,"Biological or Cultivated Assets","Libraries","Dams and Weirs"]
[null,"EC104 Makana","EC EASTERN CAPE",null,null,null,null,null,null,null,null,null,null,null,null,null,null,"Servitudes","Recreational facilities","Boreholes"]
[null,"EC105 Ndlambe","EC EASTERN CAPE",null,null,null,null,null,null,null,null,null,null,null,null,null,null,"Licences and Rights","Fire, safety & emergency","Reservoirs"]
[null,"EC106 Sundays River Valley","EC EASTERN CAPE",null,null,null,null,null,null,null,null,null,null,null,null,null,null,"Computer Equipment","Security and policing","Pump Stations"]
[null,"EC108 Kouga","EC EASTERN CAPE",null,null,null,null,null,null,null,null,null,null,null,null,null,null,"Furniture and Office Equipment","Buses","Water Treatment Works"]
[null,"EC109 Kou-Kamma","EC EASTERN CAPE",null,null,null,null,null,null,null,null,null,null,null,null,null,null,"Machinery and Equipment","Clinics","Bulk Mains"]
[null,"DC10 Sarah Baartman","EC EASTERN CAPE",null,null,null,null,null,null,null,null,null,null,null,null,null,null,"Transport Assets","Museums & Art Galleries","Distribution"]
[null,"EC121 Mbhashe","EC EASTERN CAPE",null,null,null,null,null,null,null,null,null,null,null,null,null,null,"Land","Cemeteries","Distribution Points"]
[null,"EC122 Mnquma","EC EASTERN CAPE",null,null,null,null,null,null,null,null,null,null,null,null,null,null,"Zoo's, Marine and Non-biological Animals","Social rental housing","PRV Stations"]
[null,"EC123 Great Kei","EC EASTERN CAPE",null,null,null,null,null,null,null,null,null,null,null,null,null,null,null,"Buildings","Capital Spares"]
[null,"EC124 Amahlathi","EC EASTERN CAPE",null,null,null,null,null,null,null,null,null,null,null,null,null,null,null,"Housing development","Pump Station"]
[null,"EC126 Ngqushwa","EC EASTERN CAPE",null,null,null,null,null,null,null,null,null,null,null,null,null,null,null,"General vehicles","Reticulation"]
[null,"EC129 Raymond Mhlaba","EC EASTERN CAPE",null,null,null,null,null,null,null,null,null,null,null,null,null,null,null,"Specialised vehicles - Refuse","Waste Water Treatment Works"]
[null,"DC12 Amathole","EC EASTERN CAPE",null,null,null,null,null,null,null,null,null,null,null,null,null,null,null,"Specialised vehicles - Fire","Outfall Sewers"]
[null,"EC131 Inxuba Yethemba","EC EASTERN CAPE",null,null,null,null,null,null,null,null,null,null,null,null,null,null,null,"Specialised vehicles - Conservancy","Toilet Facilities"]
[null,"EC135 Intsika Yethu","EC EASTERN CAPE",null,null,null,null,null,null,null,null,null,null,null,null,null,null,null,"Specialised vehicles - Ambulances","Capital Spares"]
[null,"EC136 Emalahleni (Ec)","EC EASTERN CAPE",null,null,null,null,null,null,null,null,null,null,null,null,null,null,null,"Plant & equipment","Landfill Sites"]
[null,"EC137 Engcobo","EC EASTERN CAPE",null,null,null,null,null,null,null,null,null,null,null,null,null,null,null,"Computers - hardware/equipment","Waste Transfer Stations"]
[null,"EC138 Sakhisizwe","EC EASTERN CAPE",null,null,null,null,null,null,null,null,null,null,null,null,null,null,null,"Furniture and other office equipment","Waste Processing Facilities"]
[null,"EC139 Enoch Mgijima","EC EASTERN CAPE",null,null,null,null,null,null,null,null,null,null,null,null,null,null,null,"Abattoirs","Waste Drop-off Points"]
[null,"DC13 Chris Hani","EC EASTERN CAPE",null,null,null,null,null,null,null,null,null,null,null,null,null,null,null,"Markets","Waste Separation Facilities"]
[null,"EC141 Elundini","EC EASTERN CAPE",null,null,null,null,null,null,null,null,null,null,null,null,null,null,null,"Civic Land and Buildings","Electricity Generation Facilities"]
[null,"EC142 Senqu","EC EASTERN CAPE",null,null,null,null,null,null,null,null,null,null,null,null,null,null,null,"Other Buildings","Capital Spares"]
[null,"EC145 Walter Sisulu","EC EASTERN CAPE",null,null,null,null,null,null,null,null,null,null,null,null,null,null,null,"Other Land","Rail Lines"]
[null,"DC14 Joe Gqabi","EC EASTERN CAPE",null,null,null,null,null,null,null,null,null,null,null,null,null,null,null,"Surplus Assets - (Investment or Inventory)","Rail Structures"]
[null,"EC153 Ngquza Hills","EC EASTERN CAPE",null,null,null,null,null,null,null,null,null,null,null,null,null,null,null,"Computers - software & programming","Rail Furniture"]
[null,"EC154 Port St Johns","EC EASTERN CAPE",null,null,null,null,null,null,null,null,null,null,null,null,null,null,null,"Other","Drainage Collection"]
[null,"EC155 Nyandeni","EC EASTERN CAPE",null,null,null,null,null,null,null,null,null,null,null,null,null,null,null,null,"Storm water Conveyance"]
[null,"EC156 Mhlontlo","EC EASTERN CAPE",null,null,null,null,null,null,null,null,null,null,null,null,null,null,"SB 19",null,"Attenuation"]
[null,"EC157 King Sabata Dalindyebo","EC EASTERN CAPE",null,null,null,null,null,null,null,null,null,null,null,null,null,null,"Yes",null,"MV Substations"]
[null,"DC15 O .R. Tambo","EC EASTERN CAPE",null,null,null,null,null,null,null,null,null,null,null,null,null,null,"No",null,"LV Networks"]
[null,"EC441 Matatiele","EC EASTERN CAPE",null,null,null,null,null,null,null,null,null,null,null,null,null,null,null,null,"Capital Spares"]
[null,"EC442 Umzimvubu","EC EASTERN CAPE",null,null,null,null,null,null,null,null,null,null,null,null,null,null,null,null,"Sand Pumps"]
[null,"EC443 Winnie Madikizela Mandela","EC EASTERN CAPE",null,null,null,null,null,null,null,null,null,null,null,null,null,null,null,null,"Piers"]
[null,"EC444 Ntabankulu","EC EASTERN CAPE",null,null,null,null,null,null,null,null,null,null,null,null,null,null,null,null,"Revetments"]
[null,"DC44 Alfred Nzo","EC EASTERN CAPE",null,null,null,null,null,null,null,null,null,null,null,null,null,null,null,null,"Promenades"]
[null,"MAN Mangaung","FS FREE STATE",null,null,null,null,null,null,null,null,null,null,null,null,null,null,null,null,"Capital Spares"]
[null,"FS161 Letsemeng","FS FREE STATE",null,null,null,null,null,null,null,null,null,null,null,null,null,null,null,null,"Data Centres"]
[null,"FS162 Kopanong","FS FREE STATE",null,null,null,null,null,null,null,null,null,null,null,null,null,null,null,null,"Core Layers"]
[null,"FS163 Mohokare","FS FREE STATE",null,null,null,null,null,null,null,null,null,null,null,null,null,null,null,null,"Distribution Layers"]
[null,"DC16 Xhariep","FS FREE STATE",null,null,null,null,null,null,null,null,null,null,null,null,null,null,null,null,"Capital Spares"]
[null,"FS181 Masilonyana","FS FREE STATE",null,null,null,null,null,null,null,null,null,null,null,null,null,null,null,null,"Halls"]
[null,"FS182 Tokologo","FS FREE STATE",null,null,null,null,null,null,null,null,null,null,null,null,null,null,null,null,"Centres"]
[null,"FS183 Tswelopele","FS FREE STATE",null,null,null,null,null,null,null,null,null,null,null,null,null,null,null,null,"Crèches"]
[null,"FS184 Matjhabeng","FS FREE STATE",null,null,null,null,null,null,null,null,null,null,null,null,null,null,null,null,"Clinics/Care Centres"]
[null,"FS185 Nala","FS FREE STATE",null,null,null,null,null,null,null,null,null,null,null,null,null,null,null,null,"Fire/Ambulance Stations"]
[null,"DC18 Lejweleputswa","FS FREE STATE",null,null,null,null,null,null,null,null,null,null,null,null,null,null,null,null,"Testing Stations"]
[null,"FS191 Setsoto","FS FREE STATE",null,null,null,null,null,null,null,null,null,null,null,null,null,null,null,null,"Museums"]
[null,"FS192 Dihlabeng","FS FREE STATE",null,null,null,null,null,null,null,null,null,null,null,null,null,null,null,null,"Galleries"]
[null,"FS193 Nketoana","FS FREE STATE",null,null,null,null,null,null,null,null,null,null,null,null,null,null,null,null,"Theatres"]
[null,"FS194 Maluti-a-Phofung","FS FREE STATE",null,null,null,null,null,null,null,null,null,null,null,null,null,null,null,null,"Libraries"]
[null,"FS195 Phumelela","FS FREE STATE",null,null,null,null,null,null,null,null,null,null,null,null,null,null,null,null,"Cemeteries/Crematoria"]
[null,"FS196 Mantsopa","FS FREE STATE",null,null,null,null,null,null,null,null,null,null,null,null,null,null,null,null,"Police"]
[null,"DC19 Thabo Mofutsanyana","FS FREE STATE",null,null,null,null,null,null,null,null,null,null,null,null,null,null,null,null,"Purls"]
[null,"FS201 Moqhaka","FS FREE STATE",null,null,null,null,null,null,null,null,null,null,null,null,null,null,null,null,"Public Open Space"]
[null,"FS203 Ngwathe","FS FREE STATE",null,null,null,null,null,null,null,null,null,null,null,null,null,null,null,null,"Nature Reserves"]
[null,"FS204 Metsimaholo","FS FREE STATE",null,null,null,null,null,null,null,null,null,null,null,null,null,null,null,null,"Public Ablution Facilities"]
[null,"FS205 Mafube","FS FREE STATE",null,null,null,null,null,null,null,null,null,null,null,null,null,null,null,null,"Markets"]
[null,"DC20 Fezile Dabi","FS FREE STATE",null,null,null,null,null,null,null,null,null,null,null,null,null,null,null,null,"Stalls"]
[null,"EKU City of Ekurhuleni","GT GAUTENG",null,null,null,null,null,null,null,null,null,null,null,null,null,null,null,null,"Abattoirs"]
[null,"JHB City Of Johannesburg","GT GAUTENG",null,null,null,null,null,null,null,null,null,null,null,null,null,null,null,null,"Airports"]
[null,"TSH City Of Tshwane","GT GAUTENG",null,null,null,null,null,null,null,null,null,null,null,null,null,null,null,null,"Taxi Ranks/Bus Terminals"]
[null,"GT421 Emfuleni","GT GAUTENG",null,null,null,null,null,null,null,null,null,null,null,null,null,null,null,null,"Capital Spares"]
[null,"GT422 Midvaal","GT GAUTENG",null,null,null,null,null,null,null,null,null,null,null,null,null,null,null,null,"Indoor Facilities"]
[null,"GT423 Lesedi","GT GAUTENG",null,null,null,null,null,null,null,null,null,null,null,null,null,null,null,null,"Outdoor Facilities"]
[null,"DC42 Sedibeng","GT GAUTENG",null,null,null,null,null,null,null,null,null,null,null,null,null,null,null,null,"Capital Spares"]
[null,"GT481 Mogale City","GT GAUTENG",null,null,null,null,null,null,null,null,null,null,null,null,null,null,null,null,"Monuments"]
[null,"GT484 Merafong City","GT GAUTENG",null,null,null,null,null,null,null,null,null,null,null,null,null,null,null,null,"Historic Buildings"]
[null,"GT485 Rand West City","GT GAUTENG",null,null,null,null,null,null,null,null,null,null,null,null,null,null,null,null,"Works of Art"]
[null,"DC48 West Rand","GT GAUTENG",null,null,null,null,null,null,null,null,null,null,null,null,null,null,null,null,"Conservation Areas"]
[null,"ETH eThekwini","KZN KWAZULU-NATAL",null,null,null,null,null,null,null,null,null,null,null,null,null,null,null,null,"Other Heritage"]
[null,"KZN212 Umdoni","KZN KWAZULU-NATAL",null,null,null,null,null,null,null,null,null,null,null,null,null,null,null,null,"Improved Property"]
[null,"KZN213 Umzumbe","KZN KWAZULU-NATAL",null,null,null,null,null,null,null,null,null,null,null,null,null,null,null,null,"Unimproved Property"]
[null,"KZN214 uMuziwabantu","KZN KWAZULU-NATAL",null,null,null,null,null,null,null,null,null,null,null,null,null,null,null,null,"Municipal Offices"]
[null,"KZN216 Ray Nkonyeni","KZN KWAZULU-NATAL",null,null,null,null,null,null,null,null,null,null,null,null,null,null,null,null,"Pay/Enquiry Points"]
[null,"DC21 Ugu","KZN KWAZULU-NATAL",null,null,null,null,null,null,null,null,null,null,null,null,null,null,null,null,"Building Plan Offices"]
[null,"KZN221 uMshwathi","KZN KWAZULU-NATAL",null,null,null,null,null,null,null,null,null,null,null,null,null,null,null,null,"Workshops"]
[null,"KZN222 uMngeni","KZN KWAZULU-NATAL",null,null,null,null,null,null,null,null,null,null,null,null,null,null,null,null,"Yards"]
[null,"KZN223 Mpofana","KZN KWAZULU-NATAL",null,null,null,null,null,null,null,null,null,null,null,null,null,null,null,null,"Stores"]
[null,"KZN224 Impendle","KZN KWAZULU-NATAL",null,null,null,null,null,null,null,null,null,null,null,null,null,null,null,null,"Laboratories"]
[null,"KZN225 Msunduzi","KZN KWAZULU-NATAL",null,null,null,null,null,null,null,null,null,null,null,null,null,null,null,null,"Training Centres"]
[null,"KZN226 Mkhambathini","KZN KWAZULU-NATAL",null,null,null,null,null,null,null,null,null,null,null,null,null,null,null,null,"Manufacturing Plant"]
[null,"KZN227 Richmond","KZN KWAZULU-NATAL",null,null,null,null,null,null,null,null,null,null,null,null,null,null,null,null,"Depots"]
[null,"DC22 uMgungundlovu","KZN KWAZULU-NATAL",null,null,null,null,null,null,null,null,null,null,null,null,null,null,null,null,"Capital Spares"]
[null,"KZN235 Okhahlamba","KZN KWAZULU-NATAL",null,null,null,null,null,null,null,null,null,null,null,null,null,null,null,null,"Staff Housing"]
[null,"KZN237 Inkosi Langalibalele","KZN KWAZULU-NATAL",null,null,null,null,null,null,null,null,null,null,null,null,null,null,null,null,"Social Housing"]
[null,"KZN238 Alfred Duma","KZN KWAZULU-NATAL",null,null,null,null,null,null,null,null,null,null,null,null,null,null,null,null,"Capital Spares"]
[null,"DC23 Uthukela","KZN KWAZULU-NATAL",null,null,null,null,null,null,null,null,null,null,null,null,null,null,null,null,"Water Rights"]
[null,"KZN241 Endumeni","KZN KWAZULU-NATAL",null,null,null,null,null,null,null,null,null,null,null,null,null,null,null,null,"Effluent Licenses"]
[null,"KZN242 Nquthu","KZN KWAZULU-NATAL",null,null,null,null,null,null,null,null,null,null,null,null,null,null,null,null,"Solid Waste Licenses"]
[null,"KZN244 Msinga","KZN KWAZULU-NATAL",null,null,null,null,null,null,null,null,null,null,null,null,null,null,null,null,"Computer Software and Applications"]
[null,"KZN245 Umvoti","KZN KWAZULU-NATAL",null,null,null,null,null,null,null,null,null,null,null,null,null,null,null,null,"Load Settlement Software Applications"]
[null,"DC24 Umzinyathi","KZN KWAZULU-NATAL",null,null,null,null,null,null,null,null,null,null,null,null,null,null,null,null,"Unspecified"]
[null,"KZN252 Newcastle","KZN KWAZULU-NATAL"]
[null,"KZN253 Emadlangeni","KZN KWAZULU-NATAL"]
[null,"KZN254 Dannhauser","KZN KWAZULU-NATAL"]
[null,"DC25 Amajuba","KZN KWAZULU-NATAL"]
[null,"KZN261 eDumbe","KZN KWAZULU-NATAL"]
[null,"KZN262 uPhongolo","KZN KWAZULU-NATAL"]
[null,"KZN263 Abaqulusi","KZN KWAZULU-NATAL"]
[null,"KZN265 Nongoma","KZN KWAZULU-NATAL"]
[null,"KZN266 Ulundi","KZN KWAZULU-NATAL"]
[null,"DC26 Zululand","KZN KWAZULU-NATAL"]
[null,"KZN271 Umhlabuyalingana","KZN KWAZULU-NATAL"]
[null,"KZN272 Jozini","KZN KWAZULU-NATAL"]
[null,"KZN275 Mtubatuba","KZN KWAZULU-NATAL"]
[null,"KZN276 Hlabisa Big Five","KZN KWAZULU-NATAL"]
[null,"DC27 Umkhanyakude","KZN KWAZULU-NATAL"]
[null,"KZN281 Mfolozi","KZN KWAZULU-NATAL"]
[null,"KZN282 uMhlathuze","KZN KWAZULU-NATAL"]
[null,"KZN284 uMlalazi","KZN KWAZULU-NATAL"]
[null,"KZN285 Mthonjaneni","KZN KWAZULU-NATAL"]
[null,"KZN286 Nkandla","KZN KWAZULU-NATAL"]
[null,"DC28 King Cetshwayo","KZN KWAZULU-NATAL"]
[null,"KZN291 Mandeni","KZN KWAZULU-NATAL"]
[null,"KZN292 KwaDukuza","KZN KWAZULU-NATAL"]
[null,"KZN293 Ndwedwe","KZN KWAZULU-NATAL"]
[null,"KZN294 Maphumulo","KZN KWAZULU-NATAL"]
[null,"DC29 iLembe","KZN KWAZULU-NATAL"]
[null,"KZN433 Greater Kokstad","KZN KWAZULU-NATAL"]
[null,"KZN434 Johannes Phumani Phungula","KZN KWAZULU-NATAL"]
[null,"KZN435 Umzimkhulu","KZN KWAZULU-NATAL"]
[null,"KZN436 Dr Nkosazana Dlamini Zuma","KZN KWAZULU-NATAL"]
[null,"DC43 Harry Gwala","KZN KWAZULU-NATAL"]
[null,"LIM331 Greater Giyani","LIM LIMPOPO"]
[null,"LIM332 Greater Letaba","LIM LIMPOPO"]
[null,"LIM333 Greater Tzaneen","LIM LIMPOPO"]
[null,"LIM334 Ba-Phalaborwa","LIM LIMPOPO"]
[null,"LIM335 Maruleng","LIM LIMPOPO"]
[null,"DC33 Mopani","LIM LIMPOPO"]
[null,"LIM341 Musina","LIM LIMPOPO"]
[null,"LIM343 Thulamela","LIM LIMPOPO"]
[null,"LIM344 Makhado","LIM LIMPOPO"]
[null,"LIM345 Collins Chabane","LIM LIMPOPO"]
[null,"DC34 Vhembe","LIM LIMPOPO"]
[null,"LIM351 Blouberg","LIM LIMPOPO"]
[null,"LIM353 Molemole","LIM LIMPOPO"]
[null,"LIM354 Polokwane","LIM LIMPOPO"]
[null,"LIM355 Lepelle-Nkumpi","LIM LIMPOPO"]
[null,"DC35 Capricorn","LIM LIMPOPO"]
[null,"LIM361 Thabazimbi","LIM LIMPOPO"]
[null,"LIM362 Lephalale","LIM LIMPOPO"]
[null,"LIM366 Bela Bela","LIM LIMPOPO"]
[null,"LIM367 Mogalakwena","LIM LIMPOPO"]
[null,"LIM368 Modimolle-Mookgopong","LIM LIMPOPO"]
[null,"DC36 Waterberg","LIM LIMPOPO"]
[null,"LIM471 Ephraim Mogale","LIM LIMPOPO"]
[null,"LIM472 Elias Motsoaledi","LIM LIMPOPO"]
[null,"LIM473 Makhuduthamaga","LIM LIMPOPO"]
[null,"LIM476 Tubatse Fetakgomo","LIM LIMPOPO"]
[null,"DC47 Sekhukhune","LIM LIMPOPO"]
[null,"MP301 Albert Luthuli","MP MPUMALANGA"]
[null,"MP302 Msukaligwa","MP MPUMALANGA"]
[null,"MP303 Mkhondo","MP MPUMALANGA"]
[null,"MP304 Pixley Ka Seme (MP)","MP MPUMALANGA"]
[null,"MP305 Lekwa","MP MPUMALANGA"]
[null,"MP306 Dipaleseng","MP MPUMALANGA"]
[null,"MP307 Govan Mbeki","MP MPUMALANGA"]
[null,"DC30 Gert Sibande","MP MPUMALANGA"]
[null,"MP311 Victor Khanye","MP MPUMALANGA"]
[null,"MP312 Emalahleni (Mp)","MP MPUMALANGA"]
[null,"MP313 Steve Tshwete","MP MPUMALANGA"]
[null,"MP314 Emakhazeni","MP MPUMALANGA"]
[null,"MP315 Thembisile Hani","MP MPUMALANGA"]
[null,"MP316 Dr J.S. Moroka","MP MPUMALANGA"]
[null,"DC31 Nkangala","MP MPUMALANGA"]
[null,"MP321 Thaba Chweu","MP MPUMALANGA"]
[null,"MP324 Nkomazi","MP MPUMALANGA"]
[null,"MP325 Bushbuckridge","MP MPUMALANGA"]
[null,"MP326 City of Mbombela","MP MPUMALANGA"]
[null,"DC32 Ehlanzeni","MP MPUMALANGA"]
[null,"NC451 Joe Morolong","NC NORTHERN CAPE"]
[null,"NC452 Ga-Segonyana","NC NORTHERN CAPE"]
[null,"NC453 Gamagara","NC NORTHERN CAPE"]
[null,"DC45 John Taolo Gaetsewe","NC NORTHERN CAPE"]
[null,"NC061 Richtersveld","NC NORTHERN CAPE"]
[null,"NC062 Nama Khoi","NC NORTHERN CAPE"]
[null,"NC064 Kamiesberg","NC NORTHERN CAPE"]
[null,"NC065 Hantam","NC NORTHERN CAPE"]
[null,"NC066 Karoo Hoogland","NC NORTHERN CAPE"]
[null,"NC067 Khai-Ma","NC NORTHERN CAPE"]
[null,"DC6 Namakwa","NC NORTHERN CAPE"]
[null,"NC071 Ubuntu","NC NORTHERN CAPE"]
[null,"NC072 Umsobomvu","NC NORTHERN CAPE"]
[null,"NC073 Emthanjeni","NC NORTHERN CAPE"]
[null,"NC074 Kareeberg","NC NORTHERN CAPE"]
[null,"NC075 Renosterberg","NC NORTHERN CAPE"]
[null,"NC076 Thembelihle","NC NORTHERN CAPE"]
[null,"NC077 Siyathemba","NC NORTHERN CAPE"]
[null,"NC078 Siyancuma","NC NORTHERN CAPE"]
[null,"DC7 Pixley Ka Seme (Nc)","NC NORTHERN CAPE"]
[null,"NC082 !Kai! Garib","NC NORTHERN CAPE"]
[null,"NC084 !Kheis","NC NORTHERN CAPE"]
[null,"NC085 Tsantsabane","NC NORTHERN CAPE"]
[null,"NC086 Kgatelopele","NC NORTHERN CAPE"]
[null,"NC087 Dawid Kruiper","NC NORTHERN CAPE"]
[null,"DC8 Z F Mgcawu","NC NORTHERN CAPE"]
[null,"NC091 Sol Plaatje","NC NORTHERN CAPE"]
[null,"NC092 Dikgatlong","NC NORTHERN CAPE"]
[null,"NC093 Magareng","NC NORTHERN CAPE"]
[null,"NC094 Phokwane","NC NORTHERN CAPE"]
[null,"DC9 Frances Baard","NC NORTHERN CAPE"]
[null,"NW371 Moretele","NW NORTH WEST"]
[null,"NW372 Madibeng","NW NORTH WEST"]
[null,"NW373 Rustenburg","NW NORTH WEST"]
[null,"NW374 Kgetlengrivier","NW NORTH WEST"]
[null,"NW375 Moses Kotane","NW NORTH WEST"]
[null,"DC37 Bojanala Platinum","NW NORTH WEST"]
[null,"NW381 Ratlou","NW NORTH WEST"]
[null,"NW382 Tswaing","NW NORTH WEST"]
[null,"NW383 Mafikeng","NW NORTH WEST"]
[null,"NW384 Ditsobotla","NW NORTH WEST"]
[null,"NW385 Ramotshere Moiloa","NW NORTH WEST"]
[null,"DC38 Ngaka Modiri Molema","NW NORTH WEST"]
[null,"NW392 Naledi (Nw)","NW NORTH WEST"]
[null,"NW393 Mamusa","NW NORTH WEST"]
[null,"NW394 Greater Taung","NW NORTH WEST"]
[null,"NW396 Lekwa-Teemane","NW NORTH WEST"]
[null,"NW397 Kagisano-Molopo","NW NORTH WEST"]
[null,"DC39 Dr Ruth Segomotsi Mompati","NW NORTH WEST"]
[null,"NW403 City Of Matlosana","NW NORTH WEST"]
[null,"NW404 Maquassi Hills","NW NORTH WEST"]
[null,"NW405 J B Marks","NW NORTH WEST"]
[null,"DC40 Dr Kenneth Kaunda","NW NORTH WEST"]
[null,"CPT Cape Town","WC WESTERN CAPE"]
[null,"WC011 Matzikama","WC WESTERN CAPE"]
[null,"WC012 Cederberg","WC WESTERN CAPE"]
[null,"WC013 Bergrivier","WC WESTERN CAPE"]
[null,"WC014 Saldanha Bay","WC WESTERN CAPE"]
[null,"WC015 Swartland","WC WESTERN CAPE"]
[null,"DC1 West Coast","WC WESTERN CAPE"]
[null,"WC022 Witzenberg","WC WESTERN CAPE"]
[null,"WC023 Drakenstein","WC WESTERN CAPE"]
[null,"WC024 Stellenbosch","WC WESTERN CAPE"]
[null,"WC025 Breede Valley","WC WESTERN CAPE"]
[null,"WC026 Langeberg","WC WESTERN CAPE"]
[null,"DC2 Cape Winelands DM","WC WESTERN CAPE"]
[null,"WC031 Theewaterskloof","WC WESTERN CAPE"]
[null,"WC032 Overstrand","WC WESTERN CAPE"]
[null,"WC033 Cape Agulhas","WC WESTERN CAPE"]
[null,"WC034 Swellendam","WC WESTERN CAPE"]
[null,"DC3 Overberg","WC WESTERN CAPE"]
[null,"WC041 Kannaland","WC WESTERN CAPE"]
[null,"WC042 Hessequa","WC WESTERN CAPE"]
[null,"WC043 Mossel Bay","WC WESTERN CAPE"]
[null,"WC044 George","WC WESTERN CAPE"]
[null,"WC045 Oudtshoorn","WC WESTERN CAPE"]
[null,"WC047 Bitou","WC WESTERN CAPE"]
[null,"WC048 Knysna","WC WESTERN CAPE"]
[null,"DC4 Garden Route","WC WESTERN CAPE"]
[null,"WC051 Laingsburg","WC WESTERN CAPE"]
[null,"WC052 Prince Albert","WC WESTERN CAPE"]
[null,"WC053 Beaufort West","WC WESTERN CAPE"]
[null,"DC5 Central Karoo","WC WESTERN CAPE"]
[]
[]
[]
[]
[]
[]
[]
[]
[]
[]
[]
[]
[]
[]
[]
[]
[]
[]
[]
[]
[]
[null,null,{"$f":"COUNTA(C30:C307)","v":257}]

{"sheet":"Org structure","index":4,"n_rows":191,"n_cols":5,"rows_kept":191,"cut":false,"hidden":false,"merged":[]}
["Organisational Structure Votes",null,"Organisational Structure Sub-Votes",null,"Display Sub-Votes"]
[{"$f":"B2&\" - \"&C2","v":"Vote 1 - Directorate Finance"},"Vote 1","Directorate Finance"]
[{"$f":"B13&\" - \"& C13","v":"Vote 2 - Community Services"},1.1000000000000001,"Asset Management",{"$f":"CONCATENATE(B3, \" - \", C3)","v":"1.1 - Asset Management"},"1,1 - Asset Management"]
[{"$f":"B32&\" - \"&C32","v":"Vote 3 - Corporate services"},1.2,"Budget Office","1.2 - Budget Office","1,2 - Budget Office"]
[{"$f":"B44&\" - \"&C44","v":"Vote 4 - Electricity"},1.3,"Financial Services","1.3 - Financial Services","1,3 - Financial Services"]
[{"$f":"B55&\" - \"&C55","v":"Vote 5 - Economic Development and Planning"},1.4,"Internal Audit","1.4 - Internal Audit","1,4 - Internal Audit"]
[{"$f":"B66&\" - \"&C66","v":"Vote 6 - Office of the Municipal Manager"},1.5,"Property Rates","1.5 - Property Rates","1,5 - Property Rates"]
[{"$f":"B77&\" - \"&C77","v":"Vote 7 - Housing"},1.6,"Risk Management","1.6 - Risk Management","1,6 - Risk Management"]
[{"$f":"B88&\" - \"&C88","v":"Vote 8 - Technical and Infrastructure Implementation Services"},1.7,"SCM","1.7 - SCM","1,7 - SCM"]
[{"$f":"B99&\" - \"&C99","v":"Vote 9 - Public safety"},1.8,"Valuation Services","1.8 - Valuation Services","1,8 - Valuation Services"]
[{"$f":"B110&\" - \"&C110","v":"Vote 10 - Road transport"},1.9,"[Name of sub-vote]","1.9 - [Name of sub-vote]","1,9 - [Name of sub-vote]"]
[{"$f":"B121&\" - \"&C121","v":"Vote 11 - Sport and recreation"},"1.10","[Name of sub-vote]","1.10 - [Name of sub-vote]","1.10 - [Name of sub-vote]"]
[{"$f":"B132&\" - \"&C132","v":"Vote 12 - Waste management"},"Vote 2","Community Services"]
[{"$f":"B143&\" - \"&C143","v":"Vote 13 - Waste water management"},2.1,"Cemeteries",{"$f":"CONCATENATE(B14, \" - \", C14)","v":"2.1 - Cemeteries"},"2,1 - Cemeteries"]
[{"$f":"B154&\" - \"&C154","v":"Vote 14 - Water"},2.2000000000000002,"Libraries","2.2 - Libraries","2,2 - Libraries"]
[{"$f":"B165&\" - \"&C165","v":"Vote 15 - Directorate Development and Community Services"},2.2999999999999998,"Community Services","2.3 - Community Services","2,3 - Community Services"]
[null,2.4,"Town Administration","2.4 - Town Administration","2,4 - Town Administration"]
[null,2.5,"Sustainable Development","2.5 - Sustainable Development","2,5 - Sustainable Development"]
[null,2.6,"Fleet","2.6 - Fleet","2,6 - Fleet"]
[null,2.7,"Property Services","2.7 - Property Services","2,7 - Property Services"]
[null,2.8,"Sports and Culture","2.8 - Sports and Culture","2,8 - Sports and Culture"]
[null,2.9,"Roads and Stormwater","2.9 - Roads and Stormwater","2,9 - Roads and Stormwater"]
[null,"2.10","Parks and Gardens","2.10 - Parks and Gardens","2.10 - Parks and Gardens"]
[null,"2.11","Disaster Management",null,"2.11 - Disaster Management"]
[null,"2.12","Pollution Control",null,"2.12 - Pollution Control"]
[null,"2.13","Nature Reserve",null,"2.13 - Nature Reserve"]
[null,"2.14","Community Halls",null,"2.14 - Community Halls"]
[null,"2.15","Traffic Services",null,"2.15 - Traffic Services"]
[null,"2.16","Law Enforcement",null,"2.16 - Law Enforcement"]
[null,"2.17","Motor Licensing and Testing Station",null,"2.17 - Motor Licensing and Testing Station"]
[null,"2.18","Animal Control and Pounds",null,"2.18 - Animal Control and Pounds"]
[null,"Vote 3","Corporate services"]
[null,3.1,"Administration: Planning",{"$f":"CONCATENATE(B33, \" - \", C33)","v":"3.1 - Administration: Planning"},"3,1 - Administration: Planning"]
[null,3.2,"Administration: Technical Services","3.2 - Administration: Technical Services","3,2 - Administration: Technical Services"]
[null,3.3,"Community Halls","3.3 - Community Halls","3,3 - Community Halls"]
[null,3.4,"Directorate: Corporate Services","3.4 - Directorate: Corporate Services","3,4 - Directorate: Corporate Services"]
[null,3.5,"Human Resources","3.5 - Human Resources","3,5 - Human Resources"]
[null,3.6,"IT Services","3.6 - IT Services","3,6 - IT Services"]
[null,3.7,"Legal Services","3.7 - Legal Services","3,7 - Legal Services"]
[null,3.8,"Property Services","3.8 - Property Services","3,8 - Property Services"]
[null,3.9,"Corporate services","3.9 - Corporate services","3,9 - Corporate services"]
[null,"3.10","Occupational Health and Safety","3.10 - Occupational Health and Safety","3,10 - Occupational Health and Safety"]
[null,"3.11","Council Support",null,"3.11 - Council Support"]
[null,"Vote 4","Electricity"]
[null,4.0999999999999996,"Electricity: Distribution",{"$f":"CONCATENATE(B45, \" - \", C45)","v":"4.1 - Electricity: Distribution"},"4,1 - Electricity: Distribution"]
[null,4.2,"Electricity: Street Lights","4.2 - Electricity: Street Lights","4,2 - Electricity: Street Lights"]
[null,4.3,"[Name of sub-vote]","4.3 - [Name of sub-vote]"]
[null,4.4000000000000004,"[Name of sub-vote]","4.4 - [Name of sub-vote]"]
[null,4.5,"[Name of sub-vote]","4.5 - [Name of sub-vote]"]
[null,4.5999999999999996,"[Name of sub-vote]","4.6 - [Name of sub-vote]"]
[null,4.7,"[Name of sub-vote]","4.7 - [Name of sub-vote]"]
[null,4.8,"[Name of sub-vote]","4.8 - [Name of sub-vote]"]
[null,4.9000000000000004,"[Name of sub-vote]","4.9 - [Name of sub-vote]"]
[null,"4.10","[Name of sub-vote]","4.10 - [Name of sub-vote]"]
[null,"Vote 5","Economic Development and Planning"]
[null,5.0999999999999996,"Economic Development and Planning",{"$f":"CONCATENATE(B56, \" - \", C56)","v":"5.1 - Economic Development and Planning"},"5,1 - Economic Development and Planning"]
[null,5.2,"Human Settlements","5.2 - Human Settlements","5,2 - Human Settlements"]
[null,5.3,"Informal Settlements","5.3 - Informal Settlements","5,3 - Informal Settlements"]
[null,5.4,"Town Planning","5.4 - Town Planning","5,4 - Town Planning"]
[null,5.5,"Building Control","5.5 - Building Control","5,5 - Building Control"]
[null,5.6,"Property Management","5.6 - Property Management","5,6 - Property Management"]
[null,5.7,"LED","5.7 - LED","5,7 - LED"]
[null,5.8,"Tourism","5.8 - Tourism","5,8 - Tourism"]
[null,5.9,"[Name of sub-vote]","5.9 - [Name of sub-vote]","5,9 - [Name of sub-vote]"]
[null,"5.10","[Name of sub-vote]","5.10 - [Name of sub-vote]","5.10 - [Name of sub-vote]"]
[null,"Vote 6","Office of the Municipal Manager"]
[null,6.1,"Administration: Towns",{"$f":"CONCATENATE(B67, \" - \", C67)","v":"6.1 - Administration: Towns"},"6,1 - Administration: Towns"]
[null,6.2,"Council General Expenses","6.2 - Council General Expenses","6,2 - Council General Expenses"]
[null,6.3,"Municipal Manager","6.3 - Municipal Manager","6,3 - Municipal Manager"]
[null,6.4,"Internal Audit","6.4 - Internal Audit","6,4 - Internal Audit"]
[null,6.5,"Strategic Support and IDP","6.5 - Strategic Support and IDP","6,5 - Strategic Support and IDP"]
[null,6.6,"[Name of sub-vote]","6.6 - [Name of sub-vote]","6,6 - [Name of sub-vote]"]
[null,6.7,"[Name of sub-vote]","6.7 - [Name of sub-vote]","6,7 - [Name of sub-vote]"]
[null,6.8,"[Name of sub-vote]","6.8 - [Name of sub-vote]","6,8 - [Name of sub-vote]"]
[null,6.9,"[Name of sub-vote]","6.9 - [Name of sub-vote]","6,9 - [Name of sub-vote]"]
[null,"6.10","[Name of sub-vote]","6.10 - [Name of sub-vote]","6.10 - [Name of sub-vote]"]
[null,"Vote 7","Housing"]
[null,7.1,"Administration: Housing",{"$f":"CONCATENATE(B78, \" - \", C78)","v":"7.1 - Administration: Housing"},"7,1 - Administration: Housing"]
[null,7.2,"Informal Settlements","7.2 - Informal Settlements","7,2 - Informal Settlements"]
[null,7.3,"[Name of sub-vote]","7.3 - [Name of sub-vote]","7,3 - [Name of sub-vote]"]
[null,7.4,"[Name of sub-vote]","7.4 - [Name of sub-vote]","7,4 - [Name of sub-vote]"]
[null,7.5,"[Name of sub-vote]","7.5 - [Name of sub-vote]","7,5 - [Name of sub-vote]"]
[null,7.6,"[Name of sub-vote]","7.6 - [Name of sub-vote]","7,6 - [Name of sub-vote]"]
[null,7.7,"[Name of sub-vote]","7.7 - [Name of sub-vote]","7,7 - [Name of sub-vote]"]
[null,7.8,"[Name of sub-vote]","7.8 - [Name of sub-vote]","7,8 - [Name of sub-vote]"]
[null,7.9,"[Name of sub-vote]","7.9 - [Name of sub-vote]","7,9 - [Name of sub-vote]"]
[null,"7.10","[Name of sub-vote]","7.10 - [Name of sub-vote]","7.10 - [Name of sub-vote]"]
[null,"Vote 8","Technical and Infrastructure Implementation Services"]
[null,8.1,"Building Control",{"$f":"CONCATENATE(B89, \" - \", C89)","v":"8.1 - Building Control"},"8,1 - Building Control"]
[null,8.1999999999999993,"IDP/SDBIP","8.2 - IDP/SDBIP","8,2 - IDP/SDBIP"]
[null,8.3000000000000007,"LED","8.3 - LED","8,3 - LED"]
[null,8.4,"Property Management","8.4 - Property Management","8,4 - Property Management"]
[null,8.5,"Tourism","8.5 - Tourism","8,5 - Tourism"]
[null,8.6,"Town Planning","8.6 - Town Planning","8,6 - Town Planning"]
[null,8.6999999999999993,"Proclaimed Roads","8.7 - Proclaimed Roads","8,7 - Proclaimed Roads"]
[null,8.8000000000000007,"Director: Technical Services and Planning","8.8 - Director: Technical Services and Planning","8,8 - Director: Technical Services and Planning"]
[null,8.9,"Human Settlements","8.9 - Human Settlements","8,9 - Human Settlements"]
[null,"8.10","Technical and Infrastructure Implementation Services","8.10 - Technical and Infrastructure Implementation Services","8.10 - Technical and Infrastructure Implementation Services"]
[null,"Vote 9","Public safety"]
[null,9.1,"Animal Control",{"$f":"CONCATENATE(B100, \" - \", C100)","v":"9.1 - Animal Control"},"9,1 - Animal Control"]
[null,9.1999999999999993,"Disaster Management","9.2 - Disaster Management","9,2 - Disaster Management"]
[null,9.3000000000000007,"Law Enforcement","9.3 - Law Enforcement","9,3 - Law Enforcement"]
[null,9.4,"Pound","9.4 - Pound","9,4 - Pound"]
[null,9.5,"Traffic Services","9.5 - Traffic Services","9,5 - Traffic Services"]
[null,9.6,"[Name of sub-vote]","9.6 - [Name of sub-vote]"]
[null,9.6999999999999993,"[Name of sub-vote]","9.7 - [Name of sub-vote]"]
[null,9.8000000000000007,"[Name of sub-vote]","9.8 - [Name of sub-vote]"]
[null,9.9,"[Name of sub-vote]","9.9 - [Name of sub-vote]"]
[null,"9.10","[Name of sub-vote]","9.10 - [Name of sub-vote]"]
[null,"Vote 10","Road transport"]
[null,10.1,"Proclaimed Roads",{"$f":"CONCATENATE(B111, \" - \", C111)","v":"10.1 - Proclaimed Roads"},"10,1 - Proclaimed Roads"]
[null,10.199999999999999,"Roads","10.2 - Roads","10,2 - Roads"]
[null,10.3,"Vehicle Licensing and Testing","10.3 - Vehicle Licensing and Testing","10,3 - Vehicle Licensing and Testing"]
[null,10.4,"[Name of sub-vote]","10.4 - [Name of sub-vote]"]
[null,10.5,"[Name of sub-vote]","10.5 - [Name of sub-vote]"]
[null,10.6,"[Name of sub-vote]","10.6 - [Name of sub-vote]"]
[null,10.7,"[Name of sub-vote]","10.7 - [Name of sub-vote]"]
[null,10.8,"[Name of sub-vote]","10.8 - [Name of sub-vote]"]
[null,10.9,"[Name of sub-vote]","10.9 - [Name of sub-vote]"]
[null,"10.10","[Name of sub-vote]","10.10 - [Name of sub-vote]"]
[null,"Vote 11","Sport and recreation"]
[null,11.1,"Nature Reserve",{"$f":"CONCATENATE(B122, \" - \", C122)","v":"11.1 - Nature Reserve"},"11,1 - Nature Reserve"]
[null,11.2,"Parks and Gardens","11.2 - Parks and Gardens","11,2 - Parks and Gardens"]
[null,11.3,"Sport and Recreation","11.3 - Sport and Recreation","11,3 - Sport and Recreation"]
[null,11.4,"[Name of sub-vote]","11.4 - [Name of sub-vote]"]
[null,11.5,"[Name of sub-vote]","11.5 - [Name of sub-vote]"]
[null,11.6,"[Name of sub-vote]","11.6 - [Name of sub-vote]"]
[null,11.7,"[Name of sub-vote]","11.7 - [Name of sub-vote]"]
[null,11.8,"[Name of sub-vote]","11.8 - [Name of sub-vote]"]
[null,11.9,"[Name of sub-vote]","11.9 - [Name of sub-vote]"]
[null,"11.10","[Name of sub-vote]","11.10 - [Name of sub-vote]"]
[null,"Vote 12","Waste management"]
[null,12.1,"Refuse Removal",{"$f":"CONCATENATE(B133, \" - \", C133)","v":"12.1 - Refuse Removal"},"12,1 - Refuse Removal"]
[null,12.2,"Refuse Sites","12.2 - Refuse Sites","12,2 - Refuse Sites"]
[null,12.3,"Street Cleansing","12.3 - Street Cleansing","12,3 - Street Cleansing"]
[null,12.4,"Refuse Removal (Head Office)","12.4 - Refuse Removal (Head Office)","12,4 - Refuse Removal (Head Office)"]
[null,12.5,"Refuse Sites (Head Office)","12.5 - Refuse Sites (Head Office)","12,5 - Refuse Sites (Head Office)"]
[null,12.6,"Street Cleansing (Head Office)","12.6 - Street Cleansing (Head Office)","12,6 - Street Cleansing (Head Office)"]
[null,12.7,"[Name of sub-vote]","12.7 - [Name of sub-vote]"]
[null,12.8,"[Name of sub-vote]","12.8 - [Name of sub-vote]"]
[null,12.9,"[Name of sub-vote]","12.9 - [Name of sub-vote]"]
[null,"12.10","[Name of sub-vote]","12.10 - [Name of sub-vote]"]
[null,"Vote 13","Waste water management"]
[null,13.1,"Sewerage: Networks",{"$f":"CONCATENATE(B144, \" - \", C144)","v":"13.1 - Sewerage: Networks"},"13,1 - Sewerage: Networks"]
[null,13.2,"Sewerage: Tank Services","13.2 - Sewerage: Tank Services","13,2 - Sewerage: Tank Services"]
[null,13.3,"Sewerage: Treatment Works","13.3 - Sewerage: Treatment Works","13,3 - Sewerage: Treatment Works"]
[null,13.4,"Sewerage: Networks (Head Office)","13.4 - Sewerage: Networks (Head Office)","13,4 - Sewerage: Networks (Head Office)"]
[null,13.5,"Sewerage: Treatment Works (Head Office)","13.5 - Sewerage: Treatment Works (Head Office)","13,5 - Sewerage: Treatment Works (Head Office)"]
[null,13.6,"Sewerage: Tank Services (Head Office)","13.6 - Sewerage: Tank Services (Head Office)","13,6 - Sewerage: Tank Services (Head Office)"]
[null,13.7,"[Name of sub-vote]","13.7 - [Name of sub-vote]"]
[null,13.8,"[Name of sub-vote]","13.8 - [Name of sub-vote]"]
[null,13.9,"[Name of sub-vote]","13.9 - [Name of sub-vote]"]
[null,"13.10","[Name of sub-vote]","13.10 - [Name of sub-vote]"]
[null,"Vote 14","Water"]
[null,14.1,"Water: Distribution",{"$f":"CONCATENATE(B155, \" - \", C155)","v":"14.1 - Water: Distribution"},"14,1 - Water: Distribution"]
[null,14.2,"Water: Treatment Works","14.2 - Water: Treatment Works","14,2 - Water: Treatment Works"]
[null,14.3,"Water: Distribution (Head Office)","14.3 - Water: Distribution (Head Office)","14,3 - Water: Distribution (Head Office)"]
[null,14.4,"Water: Treatment Works (Head Office)","14.4 - Water: Treatment Works (Head Office)","14,4 - Water: Treatment Works (Head Office)"]
[null,14.5,"[Name of sub-vote]","14.5 - [Name of sub-vote]"]
[null,14.6,"[Name of sub-vote]","14.6 - [Name of sub-vote]"]
[null,14.7,"[Name of sub-vote]","14.7 - [Name of sub-vote]"]
[null,14.8,"[Name of sub-vote]","14.8 - [Name of sub-vote]"]
[null,14.9,"[Name of sub-vote]","14.9 - [Name of sub-vote]"]
[null,"14.10","[Name of sub-vote]","14.10 - [Name of sub-vote]"]
[null,"Vote 15","Directorate Development and Community Services"]
[null,15.1,"Director: Development and Community Services",{"$f":"CONCATENATE(B166, \" - \", C166)","v":"15.1 - Director: Development and Community Services"},"15,1 - Director: Development and Community Services"]
[null,15.2,"Council Support","15.2 - Council Support","15,2 - Council Support"]
[null,15.3,"LED","15.3 - LED","15,3 - LED"]
[null,15.4,"Tourism","15.4 - Tourism","15,4 - Tourism"]
[null,15.5,"IT Services","15.5 - IT Services","15,5 - IT Services"]
[null,15.6,"Legal Services","15.6 - Legal Services","15,6 - Legal Services"]
[null,15.7,"Sports and Culture","15.7 - Sports and Culture","15,7 - Sports and Culture"]
[null,15.8,"Town Administration","15.8 - Town Administration","15,8 - Town Administration"]
[null,15.9,"Human Resources","15.9 - Human Resources","15,9 - Human Resources"]
[null,"15.10","Risk Management","15.10 - Risk Management","15.10 - Risk Management"]
[null,"15.11","Property Management",null,"    15.11 - Property Management"]
[null,"15.12","Informal Settlements",null,"    15.12 - Informal Settlements"]
[null,"15.13","Roads and Stormwater",null,"    15.13 - Roads and Stormwater"]
[null,"15.14","Fleet",null,"    15.14 - Fleet"]
[null,"15.15","Parks and Gardens",null,"    15.15 - Parks and Gardens"]
[null,"15.16","Disaster Management",null,"    15.16 - Disaster Management"]
[null,"15.17","Pollution Control",null,"    15.17 - Pollution Control"]
[null,"15.18","Nature Reserve",null,"    15.18 - Nature Reserve"]
[null,"15.19","Cemeteries",null,"    15.19 - Cemeteries"]
[null,"15.20","Community Halls",null,"    15.20 - Community Halls"]
[null,"15.21","Library Services",null,"    15.21 - Library Services"]
[null,"15.22","Traffic Services",null,"    15.22 - Traffic Services"]
[null,"15.23","Law Enforcement",null,"    15.23 - Law Enforcement"]
[null,"15.24","Motor Licensing and Testing Station",null,"    15.24 - Motor Licensing and Testing Station"]
[null,"15.25","Animal Control and Pounds",null,"    15.25 - Animal Control and Pounds"]
[null,"15.26","Sustainable Development",null,"    15.26 - Sustainable Development"]

{"sheet":"Contacts","index":5,"n_rows":140,"n_cols":4,"rows_kept":140,"cut":false,"hidden":false,"merged":[[92,0,92,1],[92,2,92,3],[124,0,124,1],[124,2,124,3],[132,0,132,1],[132,2,132,3],[100,0,100,1],[100,2,100,3],[108,0,108,1],[108,2,108,3],[116,0,116,1],[116,2,116,3],[67,2,67,3],[76,0,76,1],[76,2,76,3],[84,0,84,1],[84,2,84,3],[48,0,48,1],[48,2,48,3],[57,0,57,1],[57,2,57,3],[58,2,58,3],[30,2,30,3],[39,0,39,1],[7,2,7,3],[10,2,10,3],[12,2,12,3],[13,0,13,1],[29,0,29,1],[29,2,29,3],[39,2,39,3]]}
[{"$f":"'Template names'!$B$63&\" - \"&\" Contact Information\"","v":"WC031 Theewaterskloof -  Contact Information"}]
[]
["A. GENERAL INFORMATION"]
["Municipality",{"$f":"'Template names'!$B$63","v":"WC031 Theewaterskloof"},"Set name on 'Instructions' sheet"]
[]
["Grade",4,"1 Grade in terms of the Remuneration of Public Office Bearers Act."]
[]
["Province",{"$f":"IF(B4>\" \",VLOOKUP(B4,'Lookup and lists'!B29:C312,2, FALSE),\" \")","v":"WC WESTERN CAPE"}]
[]
["Web Address","www.twk.gov.za "]
[]
["e-mail Address","twkmun@twk.gov.za "]
[]
["B. CONTACT INFORMATION"]
["Postal address:"]
["P.O. Box",23]
["City / Town","Caldeon"]
["Postal Code",7230]
[]
["Street address"]
["Building"]
["Street No. & Name","6 Plein Street"]
["City / Town","Caldeon"]
["Postal Code",7230]
[]
["General Contacts"]
["Telephone number","028 214 3300"]
["Fax number","028 214 1289"]
[]
["C. POLITICAL LEADERSHIP"]
["Speaker:",null,"Secretary/PA to the Speaker:"]
["ID Number",null,"ID Number"]
["Title","Mr","Title","Ms"]
["Name","Weldon Herbert Wells","Name","Charne Lottering"]
["Telephone number","028 214 3300","Telephone number","028 214 3300"]
["Cell number","072 026 2638","Cell number","073 274 7271"]
["Fax number","028 214 1289","Fax number","028 214 1289"]
["E-mail address","wwells@twk.gov.za","E-mail address","charnelo@twk.gov.za"]
[]
["Mayor/Executive Mayor:",null,"Secretary/PA to the Mayor/Executive Mayor:"]
["ID Number",null,"ID Number"]
["Title","Mr ","Title","Ms"]
["Name","Lincoln de Bruyn","Name","Celeste Kellis"]
["Telephone number","028 214 3300","Telephone number","028 214 3300"]
["Cell number","082 413 6918","Cell number","073 377 4601"]
["Fax number","028 214 1289","Fax number","028 214 1289"]
["E-mail address","mayor@twk.gov.za","E-mail address","celesteke@twk.gov.za"]
[]
["Deputy Mayor/Executive Mayor:",null,"Secretary/PA to the Deputy Mayor/Executive Mayor:"]
["ID Number",null,"ID Number"]
["Title","Mr","Title","Ms"]
["Name","Cynthia Clayton","Name","Jane Arendse"]
["Telephone number","028 214 3300","Telephone number","028 214 3300"]
["Cell number","084 277 2255","Cell number","078 148 2016"]
["Fax number","028 214 1289","Fax number","028 214 1289"]
["E-mail address","cclayton@twk.gov.za","E-mail address","janear@twk.gov.za"]
[]
["D. MANAGEMENT LEADERSHIP"]
["Acting Municipal Manager:",null,"Secretary/PA to the Municipal Manager:"]
["ID Number",null,"ID Number"]
["Title","Mr","Title","Ms."]
["Name","G W Hermanus","Name","Annette Swart"]
["Telephone number","028-2143300 ","Telephone number","028 214 3363"]
["Cell number",null,"Cell number","N/A"]
["Fax number","N/A","Fax number","028 214 1289"]
["E-mail address","gwhe@twk.org.za","E-mail address","annettesw@twk.gov.za   "]
[]
["Acting Chief Financial Officer",null,"Secretary/PA to the Chief Financial Officer"]
["ID Number",null,"ID Number"]
["Title","Mr","Title"]
["Name","Ashwille Riddles","Name"]
["Telephone number","028 214 3300","Telephone number"]
["Cell number","082 739 0365","Cell number"]
["Fax number","028 214 1289","Fax number"]
["E-mail address","ashwilleri@twk.gov.za","E-mail address"]
[]
["Official responsible for submitting financial information",null,"Official responsible for submitting financial information"]
["ID Number",null,"ID Number"]
["Title","Ms","Title","Mr"]
["Name","Jacky Smith","Name","Ashwille Riddles"]
["Telephone number","028 214 3300","Telephone number","028 214 3300"]
["Cell number","084 604 0166","Cell number","082 739 0365"]
["Fax number","028 214 1289","Fax number","028 214 1289"]
["E-mail address","jackysm@twk.gov.za","E-mail address","ashwilleri@twk.gov.za"]
["Official responsible for submitting financial information",null,"Official responsible for submitting financial information"]
["ID Number",null,"ID Number"]
["Title","Ms","Title","Ms"]
["Name","Carisha Hendricks","Name","Zonke Komani"]
["Telephone number","028 214 3300","Telephone number","028 214 3300"]
["Cell number","NA","Cell number","NA"]
["Fax number","028 214 1289","Fax number","028 214 1289"]
["E-mail address","carishajo@twk.gov.za","E-mail address","zonkeko@twk.gov.za"]
["Official responsible for submitting financial information",null,"Official responsible for submitting financial information"]
["ID Number",null,"ID Number"]
["Title","Ms. ","Title"]
["Name","Agatha Sauls","Name"]
["Telephone number","028 214 3303","Telephone number"]
["Cell number","N/A","Cell number"]
["Fax number","028 214 1289","Fax number"]
["E-mail address","agathaho@twk.org.za","E-mail address"]
["Official responsible for submitting financial information",null,"Official responsible for submitting financial information"]
["ID Number",null,"ID Number"]
["Title",null,"Title"]
["Name",null,"Name"]
["Telephone number",null,"Telephone number"]
["Cell number",null,"Cell number"]
["Fax number",null,"Fax number"]
["E-mail address",null,"E-mail address"]
["Official responsible for submitting financial information",null,"Official responsible for submitting financial information"]
["ID Number",null,"ID Number"]
["Title",null,"Title"]
["Name",null,"Name"]
["Telephone number",null,"Telephone number"]
["Cell number",null,"Cell number"]
["Fax number",null,"Fax number"]
["E-mail address",null,"E-mail address"]
["Official responsible for submitting financial information",null,"Official responsible for submitting financial information"]
["ID Number",null,"ID Number"]
["Title",null,"Title"]
["Name",null,"Name"]
["Telephone number",null,"Telephone number"]
["Cell number",null,"Cell number"]
["Fax number",null,"Fax number"]
["E-mail address",null,"E-mail address"]
["Official responsible for submitting financial information",null,"Official responsible for submitting financial information"]
["ID Number",null,"ID Number"]
["Title",null,"Title"]
["Name",null,"Name"]
["Telephone number",null,"Telephone number"]
["Cell number",null,"Cell number"]
["Fax number",null,"Fax number"]
["E-mail address",null,"E-mail address"]
["Official responsible for submitting financial information"]
["ID Number"]
["Title"]
["Name"]
["Telephone number"]
["Cell number"]
["Fax number"]
["E-mail address"]

{"sheet":"B1-Sum","index":6,"n_rows":77,"n_cols":12,"rows_kept":77,"cut":false,"hidden":false,"merged":[[74,0,74,12],[76,0,76,12],[1,1,1,9],[1,0,3,0],[69,0,69,12],[70,0,70,12],[71,0,71,12],[72,0,72,12]]}
[{"$f":"muni&\" - \"&adjsum&\" - \"&Date","v":"WC031 Theewaterskloof - Table B1 Adjustments Budget Summary - 16 April 2026"}]
[{"$f":"desc","v":"Description"},{"$f":"Head2","v":"Budget Year 2025/26"},null,null,null,null,null,null,null,null,{"$f":"Head10","v":"Budget Year +1 2026/27"},{"$f":"Head11","v":"Budget Year +2 2027/28"}]
[null,{"$f":"Head6","v":"Original Budget"},{"$f":"Head54","v":"Prior Adjusted"},{"$f":"Head51","v":"Accum. Funds"},{"$f":"Head52","v":"Multi-year capital"},{"$f":"Head53","v":"Unfore. Unavoid."},{"$f":"Head55","v":"Nat. or Prov. Govt"},{"$f":"Head50","v":"Other Adjusts."},{"$f":"Head56","v":"Total Adjusts."},{"$f":"Head7","v":"Adjusted Budget"},{"$f":"Head7","v":"Adjusted Budget"},{"$f":"Head7","v":"Adjusted Budget"}]
[null,null,1,2,3,4,5,6,7,8]
["R thousands","A","A1","B","C","D","E","F","G","H"]
["Financial Performance"]
["Property rates",{"$f":"SUM('B4-FinPerf RE'!C24)","v":173070423},{"$f":"SUM('B4-FinPerf RE'!D24)","v":170753000},{"$f":"SUM('B4-FinPerf RE'!E24)","v":0},{"$f":"SUM('B4-FinPerf RE'!F24)","v":0},{"$f":"SUM('B4-FinPerf RE'!G24)","v":0},{"$f":"SUM('B4-FinPerf RE'!H24)","v":0},{"$f":"SUM('B4-FinPerf RE'!I24)","v":0},{"$f":"SUM('B4-FinPerf RE'!J24)","v":0},{"$f":"SUM('B4-FinPerf RE'!K24)","v":170753000},{"$f":"SUM('B4-FinPerf RE'!L24)","v":180858592},{"$f":"SUM('B4-FinPerf RE'!M24)","v":185380056}]
["Service charges",{"$f":"SUM('B4-FinPerf RE'!C8:C11)","v":370088245},{"$f":"SUM('B4-FinPerf RE'!D8:D11)","v":378571000},{"$f":"SUM('B4-FinPerf RE'!E8:E11)","v":0},{"$f":"SUM('B4-FinPerf RE'!F8:F11)","v":0},{"$f":"SUM('B4-FinPerf RE'!G8:G11)","v":0},{"$f":"SUM('B4-FinPerf RE'!H8:H11)","v":0},{"$f":"SUM('B4-FinPerf RE'!I8:I11)","v":0},{"$f":"SUM('B4-FinPerf RE'!J8:J11)","v":0},{"$f":"SUM('B4-FinPerf RE'!K8:K11)","v":378571000},{"$f":"SUM('B4-FinPerf RE'!L8:L11)","v":386742215},{"$f":"SUM('B4-FinPerf RE'!M8:M11)","v":396410767}]
["Investment revenue",{"$f":"'B4-FinPerf RE'!C16","v":6169069},{"$f":"'B4-FinPerf RE'!D16","v":3300000},{"$f":"'B4-FinPerf RE'!E16","v":0},{"$f":"'B4-FinPerf RE'!F16","v":0},{"$f":"'B4-FinPerf RE'!G16","v":0},{"$f":"'B4-FinPerf RE'!H16","v":0},{"$f":"'B4-FinPerf RE'!I16","v":0},{"$f":"'B4-FinPerf RE'!J16","v":0},{"$f":"'B4-FinPerf RE'!K16","v":3300000},{"$f":"'B4-FinPerf RE'!L16","v":6446677},{"$f":"'B4-FinPerf RE'!M16","v":6607844}]
["Transfers recognised - operational",{"$f":"'B4-FinPerf RE'!C28","v":182289609},{"$f":"'B4-FinPerf RE'!D28","v":190425151},{"$f":"'B4-FinPerf RE'!E28","v":0},{"$f":"'B4-FinPerf RE'!F28","v":0},{"$f":"'B4-FinPerf RE'!G28","v":0},{"$f":"'B4-FinPerf RE'!H28","v":0},{"$f":"'B4-FinPerf RE'!I28","v":-4273558},{"$f":"'B4-FinPerf RE'!J28","v":-4273558},{"$f":"'B4-FinPerf RE'!K28","v":186151593},{"$f":"'B4-FinPerf RE'!L28","v":176434180.30434781},{"$f":"'B4-FinPerf RE'!M28","v":184627286.47826087}]
["Other own revenue",{"$f":"+B12-SUM(B7:B10)","v":118931747},{"$f":"+C12-SUM(C7:C10)","v":133818933},0,0,0,0,-9532350,-9532350,124286583,123091021,125505744]
["Total Revenue (excluding capital transfers and contributions)",{"$f":"+'B4-FinPerf RE'!C35","v":850549093},{"$f":"+'B4-FinPerf RE'!D35","v":876868084},{"$f":"+'B4-FinPerf RE'!E35","v":0},{"$f":"+'B4-FinPerf RE'!F35","v":0},{"$f":"+'B4-FinPerf RE'!G35","v":0},{"$f":"+'B4-FinPerf RE'!H35","v":0},{"$f":"+'B4-FinPerf RE'!I35","v":-13805908},{"$f":"+'B4-FinPerf RE'!J35","v":-13805908},{"$f":"+'B4-FinPerf RE'!K35","v":863062176},{"$f":"+'B4-FinPerf RE'!L35","v":873572685.30434775},{"$f":"+'B4-FinPerf RE'!M35","v":898531697.47826087}]
["Employee costs",{"$f":"'B4-FinPerf RE'!C38","v":315821111},{"$f":"'B4-FinPerf RE'!D38","v":315416465},{"$f":"'B4-FinPerf RE'!E38","v":0},{"$f":"'B4-FinPerf RE'!F38","v":0},{"$f":"'B4-FinPerf RE'!G38","v":0},{"$f":"'B4-FinPerf RE'!H38","v":0},{"$f":"'B4-FinPerf RE'!I38","v":-1720653},{"$f":"SUM(D13:H13)","v":-1720653},{"$f":"IF(C13=0,B13+I13,C13+I13)","v":313695812},{"$f":"'B4-FinPerf RE'!L38","v":330033053},{"$f":"'B4-FinPerf RE'!M38","v":338283901}]
["Remuneration of councillors",{"$f":"'B4-FinPerf RE'!C39","v":15017379},{"$f":"'B4-FinPerf RE'!D39","v":15017379},{"$f":"'B4-FinPerf RE'!E39","v":0},{"$f":"'B4-FinPerf RE'!F39","v":0},{"$f":"'B4-FinPerf RE'!G39","v":0},{"$f":"'B4-FinPerf RE'!H39","v":0},{"$f":"'B4-FinPerf RE'!I39","v":0},0,15017379,{"$f":"'B4-FinPerf RE'!L39","v":15693161},{"$f":"'B4-FinPerf RE'!M39","v":16085489}]
["Depreciation & asset impairment",{"$f":"'B4-FinPerf RE'!C42+'B4-FinPerf RE'!C43","v":152132467},{"$f":"'B4-FinPerf RE'!D42+'B4-FinPerf RE'!D43","v":154761541},{"$f":"'B4-FinPerf RE'!E42+'B4-FinPerf RE'!E43","v":0},{"$f":"'B4-FinPerf RE'!F42+'B4-FinPerf RE'!F43","v":0},{"$f":"'B4-FinPerf RE'!G42+'B4-FinPerf RE'!G43","v":0},{"$f":"'B4-FinPerf RE'!H42+'B4-FinPerf RE'!H43","v":0},{"$f":"'B4-FinPerf RE'!I42+'B4-FinPerf RE'!I43","v":0},{"$f":"'B4-FinPerf RE'!J42+'B4-FinPerf RE'!J43","v":0},{"$f":"'B4-FinPerf RE'!K42+'B4-FinPerf RE'!K43","v":154761541},{"$f":"'B4-FinPerf RE'!L42+'B4-FinPerf RE'!L43","v":157379069},{"$f":"'B4-FinPerf RE'!M42+'B4-FinPerf RE'!M43","v":160395014}]
["Finance charges",{"$f":"'B4-FinPerf RE'!C44","v":47550598},{"$f":"'B4-FinPerf RE'!D44","v":54458598},{"$f":"'B4-FinPerf RE'!E44","v":0},{"$f":"'B4-FinPerf RE'!F44","v":0},{"$f":"'B4-FinPerf RE'!G44","v":0},{"$f":"'B4-FinPerf RE'!H44","v":0},{"$f":"'B4-FinPerf RE'!I44","v":0},{"$f":"'B4-FinPerf RE'!J44","v":0},{"$f":"'B4-FinPerf RE'!K44","v":54458598},{"$f":"'B4-FinPerf RE'!L44","v":49690374},{"$f":"'B4-FinPerf RE'!M44","v":50932634}]
["Inventory consumed and bulk purchases",{"$f":"SUM('B4-FinPerf RE'!C40:C41)","v":180996552},{"$f":"SUM('B4-FinPerf RE'!D40:D41)","v":186162987},{"$f":"SUM('B4-FinPerf RE'!E40:E41)","v":0},{"$f":"SUM('B4-FinPerf RE'!F40:F41)","v":0},{"$f":"SUM('B4-FinPerf RE'!G40:G41)","v":0},{"$f":"SUM('B4-FinPerf RE'!H40:H41)","v":0},{"$f":"SUM('B4-FinPerf RE'!I40:I41)","v":-1116283},{"$f":"SUM('B4-FinPerf RE'!J40:J41)","v":-1116283},{"$f":"SUM('B4-FinPerf RE'!K40:K41)","v":185046704},{"$f":"SUM('B4-FinPerf RE'!L40:L41)","v":189141421},{"$f":"SUM('B4-FinPerf RE'!M40:M41)","v":193869975}]
["Transfers and subsidies",{"$f":"'B4-FinPerf RE'!C46","v":12080001},{"$f":"'B4-FinPerf RE'!D46","v":11549087},{"$f":"'B4-FinPerf RE'!E46","v":0},{"$f":"'B4-FinPerf RE'!F46","v":0},{"$f":"'B4-FinPerf RE'!G46","v":0},{"$f":"'B4-FinPerf RE'!H46","v":0},{"$f":"'B4-FinPerf RE'!I46","v":0},0,11549087,{"$f":"'B4-FinPerf RE'!L46","v":1},{"$f":"'B4-FinPerf RE'!M46","v":1}]
["Other expenditure",{"$f":"+B20-SUM(B13:B18)","v":160505092},{"$f":"+C20-SUM(C13:C18)","v":182799190},0,0,0,0,-11366513,-11366513,171432677,167727876,171921104]
["Total Expenditure",{"$f":"+'B4-FinPerf RE'!C51","v":884103200},{"$f":"+'B4-FinPerf RE'!D51","v":920165247},{"$f":"+'B4-FinPerf RE'!E51","v":0},{"$f":"+'B4-FinPerf RE'!F51","v":0},{"$f":"+'B4-FinPerf RE'!G51","v":0},{"$f":"+'B4-FinPerf RE'!H51","v":0},{"$f":"+'B4-FinPerf RE'!I51","v":-14203449},{"$f":"+'B4-FinPerf RE'!J51","v":-14203449},{"$f":"+'B4-FinPerf RE'!K51","v":905961798},{"$f":"+'B4-FinPerf RE'!L51","v":909664955},{"$f":"+'B4-FinPerf RE'!M51","v":931488118}]
["Surplus/(Deficit)",{"$f":"B12-B20","v":-33554107},-43297163,0,0,0,0,397541,397541,-42899622,-36092269.695652246,-32956420.521739125]
[{"$f":"'B4-FinPerf RE'!A54","v":"Transfers and subsidies - capital (monetary allocations)"},{"$f":"'B4-FinPerf RE'!C54","v":72237391},{"$f":"'B4-FinPerf RE'!D54","v":35973553},{"$f":"'B4-FinPerf RE'!E54","v":0},{"$f":"'B4-FinPerf RE'!F54","v":0},{"$f":"'B4-FinPerf RE'!G54","v":0},{"$f":"'B4-FinPerf RE'!H54","v":0},{"$f":"'B4-FinPerf RE'!I54","v":-3939732},{"$f":"'B4-FinPerf RE'!J54","v":-3939732},{"$f":"'B4-FinPerf RE'!K54","v":32033821},{"$f":"'B4-FinPerf RE'!L54","v":142919999.69565219},{"$f":"'B4-FinPerf RE'!M54","v":146579999.5217391}]
["Transfers and subsidies - capital (in-kind - all) ",{"$f":"'B4-FinPerf RE'!C55","v":50000},{"$f":"'B4-FinPerf RE'!D55","v":80136000},{"$f":"'B4-FinPerf RE'!E55","v":0},{"$f":"'B4-FinPerf RE'!F55","v":0},{"$f":"'B4-FinPerf RE'!G55","v":0},{"$f":"'B4-FinPerf RE'!H55","v":0},{"$f":"'B4-FinPerf RE'!I55","v":0},{"$f":"'B4-FinPerf RE'!J55","v":0},{"$f":"'B4-FinPerf RE'!K55","v":80136000},{"$f":"'B4-FinPerf RE'!L55","v":0},{"$f":"'B4-FinPerf RE'!M55","v":0}]
["Surplus/(Deficit) after capital transfers & contributions",{"$f":"B21+SUM(B22:B23)","v":38733284},72812390,0,0,0,0,-3542191,{"$f":"SUM(D24:H24)","v":-3542191},{"$f":"IF(C24=0,B24+I24,C24+I24)","v":69270199},106827729.99999994,113623578.99999997]
["Share of surplus/ (deficit) of associate",{"$f":"'B4-FinPerf RE'!C62","v":0},{"$f":"'B4-FinPerf RE'!D62","v":0},{"$f":"'B4-FinPerf RE'!E62","v":0},{"$f":"'B4-FinPerf RE'!F62","v":0},{"$f":"'B4-FinPerf RE'!G62","v":0},{"$f":"'B4-FinPerf RE'!H62","v":0},{"$f":"'B4-FinPerf RE'!I62","v":0},{"$f":"'B4-FinPerf RE'!J62","v":0},{"$f":"'B4-FinPerf RE'!K62","v":0},{"$f":"'B4-FinPerf RE'!L62","v":0},{"$f":"'B4-FinPerf RE'!M62","v":0}]
["Surplus/ (Deficit) for the year",{"$f":"B24+B25","v":38733284},72812390,0,0,0,0,-3542191,-3542191,69270199,106827729.99999994,113623578.99999997]
[]
["Capital expenditure & funds sources"]
["Capital expenditure",{"$f":"'B5-Capex'!C42","v":88830339.719652176},{"$f":"'B5-Capex'!D42","v":122475746.21652174},{"$f":"'B5-Capex'!E42","v":0},{"$f":"'B5-Capex'!F42","v":0},{"$f":"'B5-Capex'!G42","v":0},{"$f":"'B5-Capex'!H42","v":0},{"$f":"'B5-Capex'!I42","v":-4252213.216521739},{"$f":"SUM(D29:H29)","v":-4252213.216521739},{"$f":"IF(C29=0,B29+I29,C29+I29)","v":118223533},{"$f":"'B5-Capex'!L42","v":151707913},{"$f":"'B5-Capex'!M42","v":152037000}]
["Transfers recognised - capital",{"$f":"'B5-Capex'!C72","v":72237390.950000003},{"$f":"'B5-Capex'!D72","v":35973552.756521739},{"$f":"'B5-Capex'!E72","v":0},{"$f":"'B5-Capex'!F72","v":0},{"$f":"'B5-Capex'!G72","v":0},{"$f":"'B5-Capex'!H72","v":0},{"$f":"'B5-Capex'!I72","v":-3939731.7565217391},{"$f":"SUM(D30:H30)","v":-3939731.7565217391},{"$f":"IF(C30=0,B30+I30,C30+I30)","v":32033821},{"$f":"'B5-Capex'!L72","v":142919999.69565219},{"$f":"'B5-Capex'!M72","v":146579999.52173913}]
[]
["Borrowing",{"$f":"'B5-Capex'!C74","v":10000000},{"$f":"'B5-Capex'!D74","v":1E-8},{"$f":"'B5-Capex'!E74","v":0},{"$f":"'B5-Capex'!F74","v":0},{"$f":"'B5-Capex'!G74","v":0},{"$f":"'B5-Capex'!H74","v":0},{"$f":"'B5-Capex'!I74","v":-1E-8},{"$f":"SUM(D32:H32)","v":-1E-8},{"$f":"IF(C32=0,B32+I32,C32+I32)","v":0},{"$f":"'B5-Capex'!L74","v":0},{"$f":"'B5-Capex'!M74","v":0}]
["Internally generated funds",{"$f":"'B5-Capex'!C75","v":6592948.7696521701},{"$f":"'B5-Capex'!D75","v":86502193.460000008},{"$f":"'B5-Capex'!E75","v":0},{"$f":"'B5-Capex'!F75","v":0},{"$f":"'B5-Capex'!G75","v":0},{"$f":"'B5-Capex'!H75","v":0},{"$f":"'B5-Capex'!I75","v":-312481.46000000834},{"$f":"SUM(D33:H33)","v":-312481.46000000834},{"$f":"IF(C33=0,B33+I33,C33+I33)","v":86189712},{"$f":"'B5-Capex'!L75","v":8787913.3043478206},{"$f":"'B5-Capex'!M75","v":5457000.4782608673}]
["Total sources of capital funds",{"$f":"+B30+B32+B33","v":88830339.719652176},{"$f":"+C30+C32+C33","v":122475746.21652175},0,0,0,0,-4252213.2165217567,{"$f":"SUM(D34:H34)","v":-4252213.2165217567},{"$f":"IF(C34=0,B34+I34,C34+I34)","v":118223533},151707913,152037000]
[]
["Financial position"]
["Total current assets",{"$f":"'B6-FinPos'!C15","v":114556984.74057221},{"$f":"'B6-FinPos'!D15","v":95096750.88467437},{"$f":"'B6-FinPos'!E15","v":0},{"$f":"'B6-FinPos'!F15","v":0},{"$f":"'B6-FinPos'!G15","v":0},{"$f":"'B6-FinPos'!H15","v":0},{"$f":"'B6-FinPos'!I15","v":6491369.2165218294},{"$f":"SUM(D37:H37)","v":6491369.2165218294},{"$f":"IF(C37=0,B37+I37,C37+I37)","v":101588120.1011962},{"$f":"'B6-FinPos'!L15","v":109295731.40169382},{"$f":"'B6-FinPos'!M15","v":117569067.13803697}]
["Total non current assets",{"$f":"'B6-FinPos'!C27","v":1461548085.3807569},{"$f":"'B6-FinPos'!D27","v":1408089483.4742372},{"$f":"'B6-FinPos'!E27","v":0},{"$f":"'B6-FinPos'!F27","v":0},{"$f":"'B6-FinPos'!G27","v":0},{"$f":"'B6-FinPos'!H27","v":0},{"$f":"'B6-FinPos'!I27","v":-4252213.21652174},{"$f":"SUM(D38:H38)","v":-4252213.21652174},{"$f":"IF(C38=0,B38+I38,C38+I38)","v":1403837270.2577155},{"$f":"'B6-FinPos'!L27","v":1520003866.2577155},{"$f":"'B6-FinPos'!M27","v":1636529549.2577155}]
["Total current liabilities",{"$f":"'B6-FinPos'!C40","v":374159243.07178098},{"$f":"'B6-FinPos'!D40","v":315056983.24176723},{"$f":"'B6-FinPos'!E40","v":0},{"$f":"'B6-FinPos'!F40","v":0},{"$f":"'B6-FinPos'!G40","v":0},{"$f":"'B6-FinPos'!H40","v":0},{"$f":"'B6-FinPos'!I40","v":5781347.0000000894},{"$f":"SUM(D39:H39)","v":5781347.0000000894},{"$f":"IF(C39=0,B39+I39,C39+I39)","v":320838330.24176729},{"$f":"'B6-FinPos'!L40","v":333434801.37508529},{"$f":"'B6-FinPos'!M40","v":337517771.28022206}]
["Total non current liabilities",{"$f":"'B6-FinPos'!C47","v":329514252.05153739},{"$f":"'B6-FinPos'!D47","v":333799403.11253101},{"$f":"'B6-FinPos'!E47","v":0},{"$f":"'B6-FinPos'!F47","v":0},{"$f":"'B6-FinPos'!G47","v":0},{"$f":"'B6-FinPos'!H47","v":0},{"$f":"'B6-FinPos'!I47","v":0},{"$f":"SUM(D40:H40)","v":0},{"$f":"IF(C40=0,B40+I40,C40+I40)","v":333799403.11253101},{"$f":"'B6-FinPos'!L47","v":338249409.27971059},{"$f":"'B6-FinPos'!M47","v":345341879.11091697}]
["Community wealth/Equity",{"$f":"'B6-FinPos'!C56","v":872431574.99801064},{"$f":"'B6-FinPos'!D56","v":854329848.00461352},{"$f":"'B6-FinPos'!E56","v":0},{"$f":"'B6-FinPos'!F56","v":0},{"$f":"'B6-FinPos'!G56","v":0},{"$f":"'B6-FinPos'!H56","v":0},{"$f":"'B6-FinPos'!I56","v":-3542191},{"$f":"SUM(D41:H41)","v":-3542191},{"$f":"IF(C41=0,B41+I41,C41+I41)","v":850787657.00461352},{"$f":"'B6-FinPos'!L56","v":957615387.0046134},{"$f":"'B6-FinPos'!M56","v":1071238966.0046134}]
[]
["Cash flows"]
["Net cash from (used) operating",{"$f":"'B7-CFlow'!C19","v":96516248.770950437},{"$f":"'B7-CFlow'!D19","v":53116223.275664091},{"$f":"'B7-CFlow'!E19","v":0},{"$f":"'B7-CFlow'!F19","v":0},{"$f":"'B7-CFlow'!G19","v":0},{"$f":"'B7-CFlow'!H19","v":0},{"$f":"'B7-CFlow'!I19","v":4186923.3883622698},{"$f":"SUM(D44:H44)","v":4186923.3883622698},{"$f":"IF(C44=0,B44+I44,C44+I44)","v":57303146.664026365},{"$f":"'B7-CFlow'!L19","v":162115793.28035223},{"$f":"'B7-CFlow'!M19","v":174558023.904742}]
["Net cash from (used) investing",{"$f":"'B7-CFlow'!C29","v":-89422491.089252174},{"$f":"'B7-CFlow'!D29","v":-36038036.240151785},{"$f":"'B7-CFlow'!E29","v":0},{"$f":"'B7-CFlow'!F29","v":0},{"$f":"'B7-CFlow'!G29","v":0},{"$f":"'B7-CFlow'!H29","v":0},{"$f":"'B7-CFlow'!I29","v":2304445.8281596503},{"$f":"SUM(D45:H45)","v":2304445.8281596503},{"$f":"IF(C45=0,B45+I45,C45+I45)","v":-33733590.411992133},{"$f":"'B7-CFlow'!L29","v":-136318095.90269196},{"$f":"'B7-CFlow'!M29","v":-151832966.5169428}]
["Net cash from (used) financing",{"$f":"'B7-CFlow'!C38","v":-10866328.987081472},{"$f":"'B7-CFlow'!D38","v":-33134120.615734596},{"$f":"'B7-CFlow'!E38","v":0},{"$f":"'B7-CFlow'!F38","v":0},{"$f":"'B7-CFlow'!G38","v":0},{"$f":"'B7-CFlow'!H38","v":0},{"$f":"'B7-CFlow'!I38","v":-9.9999999999999995E-7},{"$f":"SUM(D46:H46)","v":-9.9999999999999995E-7},{"$f":"IF(C46=0,B46+I46,C46+I46)","v":-33134120.615735594},{"$f":"'B7-CFlow'!L38","v":-19753291.754162617},{"$f":"'B7-CFlow'!M38","v":-15608558.065456009}]
["Cash/cash equivalents at the year end",{"$f":"'B7-CFlow'!C42","v":7963859.6570670456},{"$f":"'B7-CFlow'!D42","v":1568496.7797777578},{"$f":"'B7-CFlow'!E42","v":0},{"$f":"'B7-CFlow'!F42","v":0},{"$f":"'B7-CFlow'!G42","v":0},{"$f":"'B7-CFlow'!H42","v":0},{"$f":"'B7-CFlow'!I42","v":6491369.2165209204},{"$f":"SUM(D47:H47)","v":6491369.2165209204},{"$f":"IF(C47=0,B47+I47,C47+I47)","v":8059865.9962986782},{"$f":"'B7-CFlow'!L42","v":14104271.619796354},{"$f":"'B7-CFlow'!M42","v":21220770.942139551}]
[]
["Cash backing/surplus reconciliation"]
["Cash and investments available",{"$f":"'B8-ResRecon'!C10","v":17304582.1496545},{"$f":"'B8-ResRecon'!D10","v":1842139.5931563275},{"$f":"'B8-ResRecon'!E10","v":0},{"$f":"'B8-ResRecon'!F10","v":0},{"$f":"'B8-ResRecon'!G10","v":0},{"$f":"'B8-ResRecon'!H10","v":0},{"$f":"'B8-ResRecon'!I10","v":6491369.2165218294},{"$f":"SUM(D50:H50)","v":6491369.2165218294},{"$f":"IF(C50=0,B50+I50,C50+I50)","v":8333508.8096781569},{"$f":"'B8-ResRecon'!L10","v":14377914.433175774},{"$f":"'B8-ResRecon'!M10","v":21494414.755518936}]
["Application of cash and investments",{"$f":"'B8-ResRecon'!C20","v":275499291.52639985},{"$f":"'B8-ResRecon'!D20","v":232391461.94989985},{"$f":"'B8-ResRecon'!E20","v":0},{"$f":"'B8-ResRecon'!F20","v":0},{"$f":"'B8-ResRecon'!G20","v":0},{"$f":"'B8-ResRecon'!H20","v":0},{"$f":"'B8-ResRecon'!I20","v":-4421213.3976199105},{"$f":"SUM(D51:H51)","v":-4421213.3976199105},{"$f":"IF(C51=0,B51+I51,C51+I51)","v":227970248.55227995},{"$f":"'B8-ResRecon'!L20","v":252450857.38316527},{"$f":"'B8-ResRecon'!M20","v":258592164.76646948}]
["Balance - surplus (shortfall)",{"$f":"B50-B51","v":-258194709.37674534},-230549322.35674351,0,0,0,0,10912582.61414174,10912582.61414174,-219636739.74260178,-238072942.9499895,-237097750.01095054]
[]
["Asset Management"]
["Asset register summary (WDV)",{"$f":"'B9-Asset'!C180","v":1447076027.9782243},{"$f":"'B9-Asset'!D180","v":1400578149.7042372},{"$f":"'B9-Asset'!E180","v":0},{"$f":"'B9-Asset'!F180","v":0},{"$f":"'B9-Asset'!G180","v":0},{"$f":"'B9-Asset'!H180","v":0},{"$f":"'B9-Asset'!I180","v":-4252213.21652174},{"$f":"SUM(D55:H55)","v":-4252213.21652174},{"$f":"IF(C55=0,B55+I55,C55+I55)","v":1396325936.4877155},{"$f":"'B9-Asset'!L180","v":1512492532.4877155},{"$f":"'B9-Asset'!M180","v":1629018215.4877157}]
["Depreciation ",{"$f":"'B9-Asset'!C183","v":35541317},{"$f":"'B9-Asset'!D183","v":43847541},{"$f":"'B9-Asset'!E183","v":0},{"$f":"'B9-Asset'!F183","v":0},{"$f":"'B9-Asset'!G183","v":0},{"$f":"'B9-Asset'!H183","v":0},{"$f":"'B9-Asset'!I183","v":0},{"$f":"SUM(D56:H56)","v":0},{"$f":"IF(C56=0,B56+I56,C56+I56)","v":43847541},{"$f":"'B9-Asset'!L183","v":35541317},{"$f":"'B9-Asset'!M183","v":35511317}]
["Renewal and Upgrading of Existing Assets",{"$f":"'B9-Asset'!C42+'B9-Asset'!C77","v":43067999.645652175},{"$f":"'B9-Asset'!D42+'B9-Asset'!D77","v":37309969.21652174},{"$f":"'B9-Asset'!E42+'B9-Asset'!E77","v":0},{"$f":"'B9-Asset'!F42+'B9-Asset'!F77","v":0},{"$f":"'B9-Asset'!G42+'B9-Asset'!G77","v":0},{"$f":"'B9-Asset'!H42+'B9-Asset'!H77","v":0},{"$f":"'B9-Asset'!I42+'B9-Asset'!I77","v":-2360084.21652174},{"$f":"SUM(D57:H57)","v":-2360084.21652174},{"$f":"IF(C57=0,B57+I57,C57+I57)","v":34949885},{"$f":"'B9-Asset'!L42+'B9-Asset'!L77","v":37687913},{"$f":"'B9-Asset'!M42+'B9-Asset'!M77","v":35566000}]
["Repairs and Maintenance",{"$f":"'B9-Asset'!C184","v":148680779},{"$f":"'B9-Asset'!D184","v":147894890},{"$f":"'B9-Asset'!E184","v":0},{"$f":"'B9-Asset'!F184","v":0},{"$f":"'B9-Asset'!G184","v":0},{"$f":"'B9-Asset'!H184","v":0},{"$f":"'B9-Asset'!I184","v":-3590673},{"$f":"SUM(D58:H58)","v":-3590673},{"$f":"IF(C58=0,B58+I58,C58+I58)","v":144304217},{"$f":"'B9-Asset'!L184","v":155371462},{"$f":"'B9-Asset'!M184","v":159255789}]
[]
["Free services"]
["Cost of Free Basic Services provided",{"$f":"'B10-SerDel'!C62","v":56991334},{"$f":"'B10-SerDel'!D62","v":53582000},{"$f":"'B10-SerDel'!E62","v":0},{"$f":"'B10-SerDel'!F62","v":0},{"$f":"'B10-SerDel'!G62","v":0},{"$f":"'B10-SerDel'!H62","v":0},{"$f":"'B10-SerDel'!I62","v":0},{"$f":"'B10-SerDel'!J62","v":0},{"$f":"'B10-SerDel'!K62","v":53582000},{"$f":"'B10-SerDel'!L62","v":59555945},{"$f":"'B10-SerDel'!M62","v":61044844}]
["Revenue cost of free services provided",{"$f":"'B10-SerDel'!C81","v":0},{"$f":"'B10-SerDel'!D81","v":0},{"$f":"'B10-SerDel'!E81","v":0},{"$f":"'B10-SerDel'!F81","v":0},{"$f":"'B10-SerDel'!G81","v":0},{"$f":"'B10-SerDel'!H81","v":0},{"$f":"'B10-SerDel'!I81","v":0},{"$f":"'B10-SerDel'!J81","v":0},{"$f":"'B10-SerDel'!K81","v":0},{"$f":"'B10-SerDel'!L81","v":0},{"$f":"'B10-SerDel'!M81","v":0}]
["Households below minimum service level"]
["Water:",{"$f":"'B10-SerDel'!C16","v":2120},{"$f":"'B10-SerDel'!D16","v":2120},{"$f":"'B10-SerDel'!E16","v":0},{"$f":"'B10-SerDel'!F16","v":0},{"$f":"'B10-SerDel'!G16","v":0},{"$f":"'B10-SerDel'!H16","v":0},{"$f":"'B10-SerDel'!I16","v":0},{"$f":"SUM(D64:H64)","v":0},{"$f":"IF(C64=0,B64+I64,C64+I64)","v":2120},{"$f":"'B10-SerDel'!L16","v":1970},{"$f":"'B10-SerDel'!M16","v":1770}]
["Sanitation/sewerage:",{"$f":"'B10-SerDel'!C28","v":630},{"$f":"'B10-SerDel'!D28","v":630},{"$f":"'B10-SerDel'!E28","v":0},{"$f":"'B10-SerDel'!F28","v":0},{"$f":"'B10-SerDel'!G28","v":0},{"$f":"'B10-SerDel'!H28","v":0},{"$f":"'B10-SerDel'!I28","v":0},{"$f":"SUM(D65:H65)","v":0},{"$f":"IF(C65=0,B65+I65,C65+I65)","v":630},{"$f":"'B10-SerDel'!L28","v":630},{"$f":"'B10-SerDel'!M28","v":630}]
["Energy:",{"$f":"'B10-SerDel'!C37","v":0},{"$f":"'B10-SerDel'!D37","v":0},{"$f":"'B10-SerDel'!E37","v":0},{"$f":"'B10-SerDel'!F37","v":0},{"$f":"'B10-SerDel'!G37","v":0},{"$f":"'B10-SerDel'!H37","v":0},{"$f":"'B10-SerDel'!I37","v":0},{"$f":"SUM(D66:H66)","v":0},{"$f":"IF(C66=0,B66+I66,C66+I66)","v":0},{"$f":"'B10-SerDel'!L37","v":0},{"$f":"'B10-SerDel'!M37","v":0}]
["Refuse:",{"$f":"'B10-SerDel'!C47","v":0},{"$f":"'B10-SerDel'!D47","v":0},{"$f":"'B10-SerDel'!E47","v":0},{"$f":"'B10-SerDel'!F47","v":0},{"$f":"'B10-SerDel'!G47","v":0},{"$f":"'B10-SerDel'!H47","v":0},{"$f":"'B10-SerDel'!I47","v":0},{"$f":"SUM(D67:H67)","v":0},{"$f":"IF(C67=0,B67+I67,C67+I67)","v":0},{"$f":"'B10-SerDel'!L47","v":0},{"$f":"'B10-SerDel'!M47","v":0}]
[]
["References"]
["1. Only complete if a previous adjusted budget has been approved in the same financial year. Reflect most recent adjusted budget."]
["2. Additional cash-backed accumulated funds/unspent funds (MFMA section 18(1)(b) and section 28(2)(e)) identified after the Original Budget approved and after annual financial statements audited (note: only where underspending could not reasonably have been foreseen)"]
["3. Increases of funds approved under MFMA section 31"]
["4. Adjustments approved in accordance with MFMA section 29 "]
["5. Adjustments to transfers from National or Provincial Government"]
["6. Adjusts. = 'Other' Adjustments proposed to be approved; including revenue under-collection (MFMA section 28(2)(a)); additional revenue appropriation on existing programmes (section 28(2))(b); projected savings (section 28(2)(d)); error correction (section 28(2)(f))"]
["7. G = B + C + D + E + F"]
["8. Adjusted Budget H = (A or A1/2 etc) + G"]

{"sheet":"B2-FinPerf SC","index":7,"n_rows":64,"n_cols":13,"rows_kept":64,"cut":false,"hidden":false,"merged":[[63,0,63,12],[58,0,58,12],[59,0,59,12],[61,0,61,12],[1,0,2,0],[1,1,2,1],[56,0,56,12],[57,0,57,12],[54,0,54,12],[1,2,1,10],[55,0,55,10]]}
[{"$f":"muni&\" - \"&_ADJ3&\" - \"&Date","v":"WC031 Theewaterskloof - Table B2 Adjustments Budget Financial Performance (functional classification) - 16 April 2026"}]
[{"$f":"\"Standard \"&desc","v":"Standard Description"},{"$f":"head27","v":"Ref"},{"$f":"Head2","v":"Budget Year 2025/26"},null,null,null,null,null,null,null,null,{"$f":"Head10","v":"Budget Year +1 2026/27"},{"$f":"Head11","v":"Budget Year +2 2027/28"}]
[null,null,{"$f":"Head6","v":"Original Budget"},{"$f":"Head54","v":"Prior Adjusted"},{"$f":"Head51","v":"Accum. Funds"},{"$f":"Head52","v":"Multi-year capital"},{"$f":"Head53","v":"Unfore. Unavoid."},{"$f":"Head55","v":"Nat. or Prov. Govt"},{"$f":"Head50","v":"Other Adjusts."},{"$f":"Head56","v":"Total Adjusts."},{"$f":"Head7","v":"Adjusted Budget"},{"$f":"Head7","v":"Adjusted Budget"},{"$f":"Head7","v":"Adjusted Budget"}]
[null,null,null,5,{"$f":"D4+1","v":6},7,8,9,10,11,12]
["R thousands","1, 4","A","A1","B","C","D","E","F","G","H"]
["Revenue - Functional"]
["Governance and administration",null,{"$f":"SUM(C8:C10)","v":341108886},{"$f":"SUM(D8:D10)","v":337543379},0,0,0,0,-11182350,{"$f":"SUM(J8:J10)","v":-11182350},{"$f":"SUM(K8:K10)","v":326361029},{"$f":"SUM(L8:L10)","v":355656645.30434781},{"$f":"SUM(M8:M10)","v":366514826.47826087}]
["Executive and council",null,{"$f":"B2B!C8","v":113000},{"$f":"B2B!D8","v":184545},{"$f":"B2B!E8","v":0},{"$f":"B2B!F8","v":0},{"$f":"B2B!G8","v":0},{"$f":"B2B!H8","v":0},{"$f":"B2B!I8","v":0},{"$f":"SUM(E8:I8)","v":0},{"$f":"IF(D8=0,C8+J8,D8+J8)","v":184545},{"$f":"B2B!L8","v":113000},{"$f":"B2B!M8","v":113000}]
["Finance and administration",null,{"$f":"B2B!C11","v":340995886},{"$f":"B2B!D11","v":337358834},{"$f":"B2B!E11","v":0},{"$f":"B2B!F11","v":0},{"$f":"B2B!G11","v":0},{"$f":"B2B!H11","v":0},{"$f":"B2B!I11","v":-11182350},{"$f":"SUM(E9:I9)","v":-11182350},{"$f":"IF(D9=0,C9+J9,D9+J9)","v":326176484},{"$f":"B2B!L11","v":355543645.30434781},{"$f":"B2B!M11","v":366401826.47826087}]
["Internal audit",null,{"$f":"B2B!C25","v":0},{"$f":"B2B!D25","v":0},{"$f":"B2B!E25","v":0},{"$f":"B2B!F25","v":0},{"$f":"B2B!G25","v":0},{"$f":"B2B!H25","v":0},{"$f":"B2B!I25","v":0},{"$f":"SUM(E10:I10)","v":0},{"$f":"IF(D10=0,C10+J10,D10+J10)","v":0},{"$f":"B2B!L25","v":0},{"$f":"B2B!M25","v":0}]
["Community and public safety",null,{"$f":"SUM(C12:C16)","v":94724108},{"$f":"SUM(D12:D16)","v":141431235},0,0,0,0,60000,{"$f":"SUM(J12:J16)","v":60000},{"$f":"SUM(K12:K16)","v":141491235},{"$f":"SUM(L12:L16)","v":146424143},{"$f":"SUM(M12:M16)","v":149328772}]
["Community and social services",null,{"$f":"B2B!C28","v":11151000},{"$f":"B2B!D28","v":11156745},{"$f":"B2B!E28","v":0},{"$f":"B2B!F28","v":0},{"$f":"B2B!G28","v":0},{"$f":"B2B!H28","v":0},{"$f":"B2B!I28","v":0},{"$f":"SUM(E12:I12)","v":0},{"$f":"IF(D12=0,C12+J12,D12+J12)","v":11156745},{"$f":"B2B!L28","v":11597980},{"$f":"B2B!M28","v":12315030}]
["Sport and recreation",null,{"$f":"B2B!C50","v":51000},{"$f":"B2B!D50","v":51000},{"$f":"B2B!E50","v":0},{"$f":"B2B!F50","v":0},{"$f":"B2B!G50","v":0},{"$f":"B2B!H50","v":0},{"$f":"B2B!I50","v":0},{"$f":"SUM(E13:I13)","v":0},{"$f":"IF(D13=0,C13+J13,D13+J13)","v":51000},{"$f":"B2B!L50","v":53295},{"$f":"B2B!M50","v":54627}]
["Public safety",null,{"$f":"B2B!C56","v":26742108},{"$f":"B2B!D56","v":40748108},{"$f":"B2B!E56","v":0},{"$f":"B2B!F56","v":0},{"$f":"B2B!G56","v":0},{"$f":"B2B!H56","v":0},{"$f":"B2B!I56","v":60000},{"$f":"SUM(E14:I14)","v":60000},{"$f":"IF(D14=0,C14+J14,D14+J14)","v":40808108},{"$f":"B2B!L56","v":26752868},{"$f":"B2B!M56","v":26759115}]
["Housing",null,{"$f":"B2B!C65","v":56780000},{"$f":"B2B!D65","v":89475382},{"$f":"B2B!E65","v":0},{"$f":"B2B!F65","v":0},{"$f":"B2B!G65","v":0},{"$f":"B2B!H65","v":0},{"$f":"B2B!I65","v":0},{"$f":"SUM(E15:I15)","v":0},{"$f":"IF(D15=0,C15+J15,D15+J15)","v":89475382},{"$f":"B2B!L65","v":108020000},{"$f":"B2B!M65","v":110200000}]
["Health",null,{"$f":"B2B!C68","v":0},{"$f":"B2B!D68","v":0},{"$f":"B2B!E68","v":0},{"$f":"B2B!F68","v":0},{"$f":"B2B!G68","v":0},{"$f":"B2B!H68","v":0},{"$f":"B2B!I68","v":0},{"$f":"SUM(E16:I16)","v":0},{"$f":"IF(D16=0,C16+J16,D16+J16)","v":0},{"$f":"B2B!L68","v":0},{"$f":"B2B!M68","v":0}]
["Economic and environmental services",null,{"$f":"SUM(C18:C20)","v":41009298},{"$f":"SUM(D18:D20)","v":52263023},0,0,0,0,-5154238,{"$f":"SUM(J18:J20)","v":-5154238},{"$f":"SUM(K18:K20)","v":47108785},{"$f":"SUM(L18:L20)","v":41737376.695652202},{"$f":"SUM(M18:M20)","v":43297468.521739095}]
["Planning and development",null,{"$f":"B2B!C77","v":32446891},{"$f":"B2B!D77","v":37400616},{"$f":"B2B!E77","v":0},{"$f":"B2B!F77","v":0},{"$f":"B2B!G77","v":0},{"$f":"B2B!H77","v":0},{"$f":"B2B!I77","v":-2662295},{"$f":"SUM(E18:I18)","v":-2662295},{"$f":"IF(D18=0,C18+J18,D18+J18)","v":34738321},{"$f":"B2B!L77","v":32796186.695652202},{"$f":"B2B!M77","v":34118374.521739095}]
["Road transport",null,{"$f":"B2B!C88","v":8562407},{"$f":"B2B!D88","v":14862407},{"$f":"B2B!E88","v":0},{"$f":"B2B!F88","v":0},{"$f":"B2B!G88","v":0},{"$f":"B2B!H88","v":0},{"$f":"B2B!I88","v":-2491943},{"$f":"SUM(E19:I19)","v":-2491943},{"$f":"IF(D19=0,C19+J19,D19+J19)","v":12370464},{"$f":"B2B!L88","v":8941190},{"$f":"B2B!M88","v":9179094}]
["Environmental protection",null,{"$f":"B2B!C93","v":0},{"$f":"B2B!D93","v":0},{"$f":"B2B!E93","v":0},{"$f":"B2B!F93","v":0},{"$f":"B2B!G93","v":0},{"$f":"B2B!H93","v":0},{"$f":"B2B!I93","v":0},{"$f":"SUM(E20:I20)","v":0},{"$f":"IF(D20=0,C20+J20,D20+J20)","v":0},{"$f":"B2B!L93","v":0},{"$f":"B2B!M93","v":0}]
["Trading services",null,{"$f":"SUM(C22:C25)","v":445994192},{"$f":"SUM(D22:D25)","v":461740000},0,0,0,0,-1469052,-1469052,460270948,472674520,485970630]
["Energy sources",null,{"$f":"B2B!C101","v":192659412},{"$f":"B2B!D101","v":198188000},{"$f":"B2B!E101","v":0},{"$f":"B2B!F101","v":0},{"$f":"B2B!G101","v":0},{"$f":"B2B!H101","v":0},{"$f":"B2B!I101","v":-1469052},{"$f":"SUM(E22:I22)","v":-1469052},{"$f":"IF(D22=0,C22+J22,D22+J22)","v":196718948},{"$f":"B2B!L101","v":207466421},{"$f":"B2B!M101","v":213079584}]
["Water management",null,{"$f":"B2B!C105","v":122030280},{"$f":"B2B!D105","v":133752000},{"$f":"B2B!E105","v":0},{"$f":"B2B!F105","v":0},{"$f":"B2B!G105","v":0},{"$f":"B2B!H105","v":0},{"$f":"B2B!I105","v":0},{"$f":"SUM(E23:I23)","v":0},{"$f":"IF(D23=0,C23+J23,D23+J23)","v":133752000},{"$f":"B2B!L105","v":127675664},{"$f":"B2B!M105","v":131210172}]
["Waste water management",null,{"$f":"B2B!C109","v":66372550},{"$f":"B2B!D109","v":65756000},{"$f":"B2B!E109","v":0},{"$f":"B2B!F109","v":0},{"$f":"B2B!G109","v":0},{"$f":"B2B!H109","v":0},{"$f":"B2B!I109","v":0},{"$f":"SUM(E24:I24)","v":0},{"$f":"IF(D24=0,C24+J24,D24+J24)","v":65756000},{"$f":"B2B!L109","v":69509742},{"$f":"B2B!M109","v":71582109}]
["Waste management",null,{"$f":"B2B!C114","v":64931950},{"$f":"B2B!D114","v":64044000},{"$f":"B2B!E114","v":0},{"$f":"B2B!F114","v":0},{"$f":"B2B!G114","v":0},{"$f":"B2B!H114","v":0},{"$f":"B2B!I114","v":0},{"$f":"SUM(E25:I25)","v":0},{"$f":"IF(D25=0,C25+J25,D25+J25)","v":64044000},{"$f":"B2B!L114","v":68022693},{"$f":"B2B!M114","v":70098765}]
["Other",null,{"$f":"B2B!C119","v":0},{"$f":"B2B!D119","v":0},{"$f":"B2B!E119","v":0},{"$f":"B2B!F119","v":0},{"$f":"B2B!G119","v":0},{"$f":"B2B!H119","v":0},{"$f":"B2B!I119","v":0},{"$f":"SUM(E26:I26)","v":0},{"$f":"IF(D26=0,C26+J26,D26+J26)","v":0},{"$f":"B2B!L119","v":0},{"$f":"B2B!M119","v":0}]
[{"$f":"\"Total \"&A6","v":"Total Revenue - Functional"},2,{"$f":"C7+C11+C17+C21+C26","v":922836484},{"$f":"D7+D11+D17+D21+D26","v":992977637},0,0,0,0,-17745640,-17745640,975231997,1016492685,1045111697]
[]
["Expenditure - Functional"]
["Governance and administration",null,{"$f":"SUM(C31:C33)","v":255559885},{"$f":"SUM(D31:D33)","v":254600596},0,0,0,0,-5490152,{"$f":"SUM(J31:J33)","v":-5490152},{"$f":"SUM(K31:K33)","v":249110444},{"$f":"SUM(L31:L33)","v":266791294},{"$f":"SUM(M31:M33)","v":273281763}]
["Executive and council",null,{"$f":"B2B!C130","v":26370013},{"$f":"B2B!D130","v":30371673},{"$f":"B2B!E130","v":0},{"$f":"B2B!F130","v":0},{"$f":"B2B!G130","v":0},{"$f":"B2B!H130","v":0},{"$f":"B2B!I130","v":-483742},{"$f":"SUM(E31:I31)","v":-483742},{"$f":"IF(D31=0,C31+J31,D31+J31)","v":29887931},{"$f":"B2B!L130","v":27556665},{"$f":"B2B!M130","v":28245581}]
["Finance and administration",null,{"$f":"B2B!C133","v":225867435},{"$f":"B2B!D133","v":220898471},{"$f":"B2B!E133","v":0},{"$f":"B2B!F133","v":0},{"$f":"B2B!G133","v":0},{"$f":"B2B!H133","v":0},{"$f":"B2B!I133","v":-4998421},{"$f":"SUM(E32:I32)","v":-4998421},{"$f":"IF(D32=0,C32+J32,D32+J32)","v":215900050},{"$f":"B2B!L133","v":235762681},{"$f":"B2B!M133","v":241477434}]
["Internal audit",null,{"$f":"B2B!C147","v":3322437},{"$f":"B2B!D147","v":3330452},{"$f":"B2B!E147","v":0},{"$f":"B2B!F147","v":0},{"$f":"B2B!G147","v":0},{"$f":"B2B!H147","v":0},{"$f":"B2B!I147","v":-7989},{"$f":"SUM(E33:I33)","v":-7989},{"$f":"IF(D33=0,C33+J33,D33+J33)","v":3322463},{"$f":"B2B!L147","v":3471948},{"$f":"B2B!M147","v":3558748}]
["Community and public safety",null,{"$f":"SUM(C35:C39)","v":118704737},{"$f":"SUM(D35:D39)","v":130596768},0,0,0,0,-3883784,{"$f":"SUM(J35:J39)","v":-3883784},{"$f":"SUM(K35:K39)","v":126712984},{"$f":"SUM(L35:L39)","v":111375964},{"$f":"SUM(M35:M39)","v":114134314}]
["Community and social services",null,{"$f":"B2B!C150","v":19290105},{"$f":"B2B!D150","v":20772904},{"$f":"B2B!E150","v":0},{"$f":"B2B!F150","v":0},{"$f":"B2B!G150","v":0},{"$f":"B2B!H150","v":0},{"$f":"B2B!I150","v":-1329418},{"$f":"SUM(E35:I35)","v":-1329418},{"$f":"IF(D35=0,C35+J35,D35+J35)","v":19443486},{"$f":"B2B!L150","v":20111252},{"$f":"B2B!M150","v":20587969}]
["Sport and recreation",null,{"$f":"B2B!C172","v":11605746},{"$f":"B2B!D172","v":11642344},{"$f":"B2B!E172","v":0},{"$f":"B2B!F172","v":0},{"$f":"B2B!G172","v":0},{"$f":"B2B!H172","v":0},{"$f":"B2B!I172","v":-1196376},{"$f":"SUM(E36:I36)","v":-1196376},{"$f":"IF(D36=0,C36+J36,D36+J36)","v":10445968},{"$f":"B2B!L172","v":12128011},{"$f":"B2B!M172","v":12431212}]
["Public safety",null,{"$f":"B2B!C178","v":59739486},{"$f":"B2B!D178","v":71312954},{"$f":"B2B!E178","v":0},{"$f":"B2B!F178","v":0},{"$f":"B2B!G178","v":0},{"$f":"B2B!H178","v":0},{"$f":"B2B!I178","v":-896742},{"$f":"SUM(E37:I37)","v":-896742},{"$f":"IF(D37=0,C37+J37,D37+J37)","v":70416212},{"$f":"B2B!L178","v":62427775},{"$f":"B2B!M178","v":63988481}]
["Housing",null,{"$f":"B2B!C187","v":28069400},{"$f":"B2B!D187","v":26868566},{"$f":"B2B!E187","v":0},{"$f":"B2B!F187","v":0},{"$f":"B2B!G187","v":0},{"$f":"B2B!H187","v":0},{"$f":"B2B!I187","v":-461248},{"$f":"SUM(E38:I38)","v":-461248},{"$f":"IF(D38=0,C38+J38,D38+J38)","v":26407318},{"$f":"B2B!L187","v":16708926},{"$f":"B2B!M187","v":17126652}]
["Health",null,{"$f":"B2B!C190","v":0},{"$f":"B2B!D190","v":0},{"$f":"B2B!E190","v":0},{"$f":"B2B!F190","v":0},{"$f":"B2B!G190","v":0},{"$f":"B2B!H190","v":0},{"$f":"B2B!I190","v":0},{"$f":"SUM(E39:I39)","v":0},{"$f":"IF(D39=0,C39+J39,D39+J39)","v":0},{"$f":"B2B!L190","v":0},{"$f":"B2B!M190","v":0}]
["Economic and environmental services",null,{"$f":"SUM(C41:C43)","v":86609275},{"$f":"SUM(D41:D43)","v":93049629},0,0,0,0,-4208219,{"$f":"SUM(J41:J43)","v":-4208219},{"$f":"SUM(K41:K43)","v":88841410},{"$f":"SUM(L41:L43)","v":90294606},{"$f":"SUM(M41:M43)","v":92434157}]
["Planning and development",null,{"$f":"B2B!C199","v":38274677},{"$f":"B2B!D199","v":38316960},{"$f":"B2B!E199","v":0},{"$f":"B2B!F199","v":0},{"$f":"B2B!G199","v":0},{"$f":"B2B!H199","v":0},{"$f":"B2B!I199","v":-261535},{"$f":"SUM(E41:I41)","v":-261535},{"$f":"IF(D41=0,C41+J41,D41+J41)","v":38055425},{"$f":"B2B!L199","v":39997044},{"$f":"B2B!M199","v":40996983}]
["Road transport",null,{"$f":"B2B!C210","v":48274598},{"$f":"B2B!D210","v":54672669},{"$f":"B2B!E210","v":0},{"$f":"B2B!F210","v":0},{"$f":"B2B!G210","v":0},{"$f":"B2B!H210","v":0},{"$f":"B2B!I210","v":-3886684},{"$f":"SUM(E42:I42)","v":-3886684},{"$f":"IF(D42=0,C42+J42,D42+J42)","v":50785985},{"$f":"B2B!L210","v":50234862},{"$f":"B2B!M210","v":51372907}]
["Environmental protection",null,{"$f":"B2B!C215","v":60000},{"$f":"B2B!D215","v":60000},{"$f":"B2B!E215","v":0},{"$f":"B2B!F215","v":0},{"$f":"B2B!G215","v":0},{"$f":"B2B!H215","v":0},{"$f":"B2B!I215","v":-60000},{"$f":"SUM(E43:I43)","v":-60000},{"$f":"IF(D43=0,C43+J43,D43+J43)","v":0},{"$f":"B2B!L215","v":62700},{"$f":"B2B!M215","v":64267}]
["Trading services",null,{"$f":"SUM(C45:C48)","v":422989302},{"$f":"SUM(D45:D48)","v":441502801},0,0,0,0,-606294,-606294,440896507,440952290,451380813]
["Energy sources",null,{"$f":"B2B!C223","v":182675121},{"$f":"B2B!D223","v":186732909},{"$f":"B2B!E223","v":0},{"$f":"B2B!F223","v":0},{"$f":"B2B!G223","v":0},{"$f":"B2B!H223","v":0},{"$f":"B2B!I223","v":-86252},{"$f":"SUM(E45:I45)","v":-86252},{"$f":"IF(D45=0,C45+J45,D45+J45)","v":186646657},{"$f":"B2B!L223","v":190734453},{"$f":"B2B!M223","v":195413326}]
["Water management",null,{"$f":"B2B!C227","v":92653753},{"$f":"B2B!D227","v":103357620},{"$f":"B2B!E227","v":0},{"$f":"B2B!F227","v":0},{"$f":"B2B!G227","v":0},{"$f":"B2B!H227","v":0},{"$f":"B2B!I227","v":-380007},{"$f":"SUM(E46:I46)","v":-380007},{"$f":"IF(D46=0,C46+J46,D46+J46)","v":102977613},{"$f":"B2B!L227","v":96496844},{"$f":"B2B!M227","v":98727977}]
["Waste water management",null,{"$f":"B2B!C231","v":67498809},{"$f":"B2B!D231","v":70867941},{"$f":"B2B!E231","v":0},{"$f":"B2B!F231","v":0},{"$f":"B2B!G231","v":0},{"$f":"B2B!H231","v":0},{"$f":"B2B!I231","v":7862},{"$f":"SUM(E47:I47)","v":7862},{"$f":"IF(D47=0,C47+J47,D47+J47)","v":70875803},{"$f":"B2B!L231","v":70113379},{"$f":"B2B!M231","v":71631293}]
["Waste management",null,{"$f":"B2B!C236","v":80161619},{"$f":"B2B!D236","v":80544331},{"$f":"B2B!E236","v":0},{"$f":"B2B!F236","v":0},{"$f":"B2B!G236","v":0},{"$f":"B2B!H236","v":0},{"$f":"B2B!I236","v":-147897},{"$f":"SUM(E48:I48)","v":-147897},{"$f":"IF(D48=0,C48+J48,D48+J48)","v":80396434},{"$f":"B2B!L236","v":83607614},{"$f":"B2B!M236","v":85608217}]
["Other",null,{"$f":"B2B!C241","v":240001},{"$f":"B2B!D241","v":415453},{"$f":"B2B!E241","v":0},{"$f":"B2B!F241","v":0},{"$f":"B2B!G241","v":0},{"$f":"B2B!H241","v":0},{"$f":"B2B!I241","v":-15000},{"$f":"SUM(E49:I49)","v":-15000},{"$f":"IF(D49=0,C49+J49,D49+J49)","v":400453},{"$f":"B2B!L241","v":250801},{"$f":"B2B!M241","v":257071}]
[{"$f":"\"Total \"&A29","v":"Total Expenditure - Functional"},3,{"$f":"C30+C34+C40+C44+C49","v":884103200},{"$f":"D30+D34+D40+D44+D49","v":920165247},0,0,0,0,-14203449,-14203449,905961798,909664955,931488118]
["Surplus/ (Deficit) for the year",null,{"$f":"C27-C50","v":38733284},72812390,0,0,0,0,-3542191,-3542191,69270199,106827730,113623579]
[{"$f":"head27a","v":"References"}]
["1. Government Finance Statistics Functions and Sub-functions are standardised to assist the compilation of national and international accounts for comparison purposes"]
["2. Total Revenue by standard classification must reconcile to Total Operating Revenue shown in the Adjustments Budget Financial Performance (revenue and expenditure)"]
["3. Total Operating Expenditure by standard classification must reconcile to Total Operating Expenditure shown in the Adjustments Budget Financial Performance (revenue and expenditure)"]
["4. All amounts must be classified under a standard classification (modified GFS). The GFS function 'Other' is only for Abbatoirs, Air Transport, Markets and Tourism - and if used must be supported by footnotes. Nothing else may be placed under 'Other'. Assign associate share to relevant classification"]
["5. Only complete if a previous adjusted budget has been approved in the same financial year. Reflect most recent adjusted budget."]
["6. Additional cash-backed accumulated funds/unspent funds (MFMA section 18(1)(b) and section 28(2)(e)) identified after the Original Budget approved and after annual financial statements audited (note: only where underspending could not reasonably have been foreseen)"]
["7. Increases of funds approved under MFMA section 31"]
["8. Adjustments approved in accordance with MFMA section 29 "]
["9. Adjustments to transfers from National or Provincial Government"]
["10. Adjusts. = 'Other' Adjustments proposed to be approved; including revenue under-collection (MFMA section 28(2)(a)); additional revenue appropriation on existing programmes (section 28(2))(b); projected savings (section 28(2)(d)); error correction (section 28(2)(f))"]
["11. G = B + C + D + E + F"]
["12. Adjusted Budget H = (A or A1/2 etc) + G"]

{"sheet":"B2B","index":8,"n_rows":256,"n_cols":22,"rows_kept":256,"cut":false,"hidden":false,"merged":[[253,0,253,10],[1,2,1,10]]}
[{"$f":"muni&\" - \"&_ADJ3&\" - B\"&\" - \"&Date","v":"WC031 Theewaterskloof - Table B2 Adjustments Budget Financial Performance (functional classification) - B - 16 April 2026"}]
[{"$f":"\"Standard Classification \"&desc","v":"Standard Classification Description"},{"$f":"head27","v":"Ref"},{"$f":"Head2","v":"Budget Year 2025/26"},null,null,null,null,null,null,null,null,{"$f":"Head10","v":"Budget Year +1 2026/27"},{"$f":"Head11","v":"Budget Year +2 2027/28"}]
[null,null,{"$f":"Head6","v":"Original Budget"},{"$f":"Head54","v":"Prior Adjusted"},{"$f":"Head51","v":"Accum. Funds"},{"$f":"Head52","v":"Multi-year capital"},{"$f":"Head53","v":"Unfore. Unavoid."},{"$f":"Head55","v":"Nat. or Prov. Govt"},{"$f":"Head50","v":"Other Adjusts."},{"$f":"Head56","v":"Total Adjusts."},{"$f":"Head7","v":"Adjusted Budget"},{"$f":"Head7","v":"Adjusted Budget"},{"$f":"Head7","v":"Adjusted Budget"},null,null,null,null,null,null,null,null,"Adjusted Budget"]
[null,null,null,5,{"$f":"D4+1","v":6},7,8,9,10,11,12,null,null,null,null,null,null,null,null,null,null,12]
["R thousand",1,"A","A1","B","C","D","E","F","G","H",null,null,null,null,null,null,null,null,null,null,"H"]
["Revenue - Functional"]
["Municipal governance and administration",null,341108886,337543379,0,0,0,0,-11182350,-11182350,326361029,355656645.30434781,366514826.47826087,null,null,null,null,null,null,null,null,337543379]
["Executive and council",null,113000,184545,0,0,0,0,0,0,184545,113000,113000,null,null,null,null,null,null,null,null,184545]
["Mayor and Council",null,113000,184545,0,0,0,0,0,0,184545,113000,113000,null,null,null,null,null,null,null,null,184545]
["Municipal Manager, Town Secretary and Chief Executive",null,0,0,0,0,0,0,0,0,0,0,0,null,null,null,null,null,null,null,null,0]
["Finance and administration",null,340995886,337358834,0,0,0,0,-11182350,-11182350,326176484,355543645.30434781,366401826.47826087,null,null,null,null,null,null,null,null,337358834]
["Administrative and Corporate Support",null,5546500,3640500,0,0,0,0,0,0,3640500,5796093,5940995,null,null,null,null,null,null,null,null,3640500]
["Asset Management",null,164164,2114154,0,0,0,0,0,0,2114154,119281,122283,null,null,null,null,null,null,null,null,2114154]
["Finance",null,332102397,326355521,0,0,0,0,-11182350,-11182350,315173171,346302219.30434781,356929343.47826087,null,null,null,null,null,null,null,null,326355521]
["Fleet Management",null,0,0,0,0,0,0,0,0,0,0,0,null,null,null,null,null,null,null,null,0]
["Human Resources",null,86825,404659,0,0,0,0,0,0,404659,90732,93001,null,null,null,null,null,null,null,null,404659]
["Information Technology",null,0,200000,0,0,0,0,0,0,200000,0,0,null,null,null,null,null,null,null,null,200000]
["Legal Services",null,1000000,2548000,0,0,0,0,0,0,2548000,1045000,1071125,null,null,null,null,null,null,null,null,2548000]
["Marketing, Customer Relations, Publicity and Media Co-ordination",null,0,0,0,0,0,0,0,0,0,0,0,null,null,null,null,null,null,null,null,0]
["Property Services",null,2096000,2096000,0,0,0,0,0,0,2096000,2190320,2245079,null,null,null,null,null,null,null,null,2096000]
["Risk Management",null,0,0,0,0,0,0,0,0,0,0,0,null,null,null,null,null,null,null,null,0]
["Security Services",null,0,0,0,0,0,0,0,0,0,0,0,null,null,null,null,null,null,null,null,0]
["Supply Chain Management ",null,0,0,0,0,0,0,0,0,0,0,0,null,null,null,null,null,null,null,null,0]
["Valuation Service",null,0,0,0,0,0,0,0,0,0,0,0,null,null,null,null,null,null,null,null,0]
["Internal audit",null,0,0,0,0,0,0,0,0,0,0,0,null,null,null,null,null,null,null,null,0]
["Governance Function",null,0,0,0,0,0,0,0,0,0,0,0,null,null,null,null,null,null,null,null,0]
["Community and public safety",null,94724108,141431235,0,0,0,0,60000,60000,141491235,146424143,149328772,null,null,null,null,null,null,null,null,141431235]
["Community and social services",null,11151000,11156745,0,0,0,0,0,0,11156745,11597980,12315030,null,null,null,null,null,null,null,null,11156745]
["Aged Care",null,0,0,0,0,0,0,0,0,0,0,0,null,null,null,null,null,null,null,null,0]
["Agricultural",null,0,0,0,0,0,0,0,0,0,0,0,null,null,null,null,null,null,null,null,0]
["Animal Care and Diseases",null,0,0,0,0,0,0,0,0,0,0,0,null,null,null,null,null,null,null,null,0]
["Cemeteries, Funeral Parlours and Crematoriums",null,750000,750000,0,0,0,0,0,0,750000,783750,803344,null,null,null,null,null,null,null,null,750000]
["Child Care Facilities",null,0,0,0,0,0,0,0,0,0,0,0,null,null,null,null,null,null,null,null,0]
["Community Halls and Facilities",null,0,5745,0,0,0,0,0,0,5745,150000,150000,null,null,null,null,null,null,null,null,5745]
["Consumer Protection",null,0,0,0,0,0,0,0,0,0,0,0,null,null,null,null,null,null,null,null,0]
["Cultural Matters",null,0,0,0,0,0,0,0,0,0,0,0,null,null,null,null,null,null,null,null,0]
["Disaster Management",null,0,0,0,0,0,0,0,0,0,0,0,null,null,null,null,null,null,null,null,0]
["Education",null,0,0,0,0,0,0,0,0,0,0,0,null,null,null,null,null,null,null,null,0]
["Indigenous and Customary Law",null,0,0,0,0,0,0,0,0,0,0,0,null,null,null,null,null,null,null,null,0]
["Industrial Promotion",null,0,0,0,0,0,0,0,0,0,0,0,null,null,null,null,null,null,null,null,0]
["Language Policy",null,0,0,0,0,0,0,0,0,0,0,0,null,null,null,null,null,null,null,null,0]
["Libraries and Archives",null,10401000,10401000,0,0,0,0,0,0,10401000,10664230,11361686,null,null,null,null,null,null,null,null,10401000]
["Literacy Programmes",null,0,0,0,0,0,0,0,0,0,0,0,null,null,null,null,null,null,null,null,0]
["Media Services",null,0,0,0,0,0,0,0,0,0,0,0,null,null,null,null,null,null,null,null,0]
["Museums and Art Galleries",null,0,0,0,0,0,0,0,0,0,0,0,null,null,null,null,null,null,null,null,0]
["Population Development",null,0,0,0,0,0,0,0,0,0,0,0,null,null,null,null,null,null,null,null,0]
["Provincial Cultural Matters",null,0,0,0,0,0,0,0,0,0,0,0,null,null,null,null,null,null,null,null,0]
["Theatres",null,0,0,0,0,0,0,0,0,0,0,0,null,null,null,null,null,null,null,null,0]
["Zoo's",null,0,0,0,0,0,0,0,0,0,0,0,null,null,null,null,null,null,null,null,0]
["Sport and recreation",null,51000,51000,0,0,0,0,0,0,51000,53295,54627,null,null,null,null,null,null,null,null,51000]
["Beaches and Jetties ",null,0,0,0,0,0,0,0,0,0,0,0,null,null,null,null,null,null,null,null,0]
["Casinos, Racing, Gambling, Wagering",null,0,0,0,0,0,0,0,0,0,0,0,null,null,null,null,null,null,null,null,0]
["Community Parks (including Nurseries)",null,1000,1000,0,0,0,0,0,0,1000,1045,1071,null,null,null,null,null,null,null,null,1000]
["Recreational Facilities",null,0,0,0,0,0,0,0,0,0,0,0,null,null,null,null,null,null,null,null,0]
["Sports Grounds and Stadiums",null,50000,50000,0,0,0,0,0,0,50000,52250,53556,null,null,null,null,null,null,null,null,50000]
["Public safety",null,26742108,40748108,0,0,0,0,60000,60000,40808108,26752868,26759115,null,null,null,null,null,null,null,null,40748108]
["Civil Defence",null,0,0,0,0,0,0,0,0,0,0,0,null,null,null,null,null,null,null,null,0]
["Cleansing",null,0,0,0,0,0,0,0,0,0,0,0,null,null,null,null,null,null,null,null,0]
["Control of Public Nuisances",null,0,0,0,0,0,0,0,0,0,0,0,null,null,null,null,null,null,null,null,0]
["Fencing and Fences ",null,0,0,0,0,0,0,0,0,0,0,0,null,null,null,null,null,null,null,null,0]
["Fire Fighting and Protection",null,0,0,0,0,0,0,0,0,0,0,0,null,null,null,null,null,null,null,null,0]
["Licensing and Control of Animals",null,143108,143108,0,0,0,0,0,0,143108,149548,153287,null,null,null,null,null,null,null,null,143108]
["Police Forces, Traffic and Street Parking Control",null,26599000,40605000,0,0,0,0,60000,60000,40665000,26603320,26605828,null,null,null,null,null,null,null,null,40605000]
["Pounds",null,0,0,0,0,0,0,0,0,0,0,0,null,null,null,null,null,null,null,null,0]
["Housing",null,56780000,89475382,0,0,0,0,0,0,89475382,108020000,110200000,null,null,null,null,null,null,null,null,89475382]
["Housing",null,56780000,89475382,0,0,0,0,0,0,89475382,108020000,110200000,null,null,null,null,null,null,null,null,89475382]
["Informal Settlements",null,0,0,0,0,0,0,0,0,0,0,0,null,null,null,null,null,null,null,null,0]
["Health",null,0,0,0,0,0,0,0,0,0,0,0,null,null,null,null,null,null,null,null,0]
["Ambulance",null,0,0,0,0,0,0,0,0,0,0,0,null,null,null,null,null,null,null,null,0]
["Health Services",null,0,0,0,0,0,0,0,0,0,0,0,null,null,null,null,null,null,null,null,0]
["Laboratory Services",null,0,0,0,0,0,0,0,0,0,0,0,null,null,null,null,null,null,null,null,0]
["Food Control",null,0,0,0,0,0,0,0,0,0,0,0,null,null,null,null,null,null,null,null,0]
["Health Surveillance and Prevention of Communicable Diseases including immunizations",null,0,0,0,0,0,0,0,0,0,0,0,null,null,null,null,null,null,null,null,0]
["Vector Control",null,0,0,0,0,0,0,0,0,0,0,0,null,null,null,null,null,null,null,null,0]
["Chemical Safety",null,0,0,0,0,0,0,0,0,0,0,0,null,null,null,null,null,null,null,null,0]
["Economic and environmental services",null,41009298,52263023,0,0,0,0,-5154238,-5154238,47108785,41737376.695652202,43297468.521739095,null,null,null,null,null,null,null,null,52263023]
["Planning and development",null,32446891,37400616,0,0,0,0,-2662295,-2662295,34738321,32796186.695652202,34118374.521739095,null,null,null,null,null,null,null,null,37400616]
["Billboards",null,0,0,0,0,0,0,0,0,0,0,0,null,null,null,null,null,null,null,null,0]
["Corporate Wide Strategic Planning (IDPs, LEDs)",null,0,0,0,0,0,0,0,0,0,0,0,null,null,null,null,null,null,null,null,0]
["Central City Improvement District",null,0,0,0,0,0,0,0,0,0,0,0,null,null,null,null,null,null,null,null,0]
["Development Facilitation",null,0,300000,0,0,0,0,0,0,300000,0,0,null,null,null,null,null,null,null,null,300000]
["Economic Development/Planning",null,0,884412,0,0,0,0,0,0,884412,0,0,null,null,null,null,null,null,null,null,884412]
["Regional Planning and Development",null,0,0,0,0,0,0,0,0,0,0,0,null,null,null,null,null,null,null,null,0]
["Town Planning, Building Regulations and Enforcement, and City Engineer",null,2978500,3423500,0,0,0,0,0,0,3423500,3112533,3190347,null,null,null,null,null,null,null,null,3423500]
["Project Management Unit",null,29468391,32792704,0,0,0,0,-2662295,-2662295,30130409,29683653.695652202,30928027.521739099,null,null,null,null,null,null,null,null,32792704]
["Provincial Planning",null,0,0,0,0,0,0,0,0,0,0,0,null,null,null,null,null,null,null,null,0]
["Support to Local Municipalities",null,0,0,0,0,0,0,0,0,0,0,0,null,null,null,null,null,null,null,null,0]
["Road transport",null,8562407,14862407,0,0,0,0,-2491943,-2491943,12370464,8941190,9179094,null,null,null,null,null,null,null,null,14862407]
["Public Transport",null,0,0,0,0,0,0,0,0,0,0,0,null,null,null,null,null,null,null,null,0]
["Road and Traffic Regulation",null,8417407,8417407,0,0,0,0,0,0,8417407,8796190,9016094,null,null,null,null,null,null,null,null,8417407]
["Roads",null,145000,6445000,0,0,0,0,-2491943,-2491943,3953057,145000,163000,null,null,null,null,null,null,null,null,6445000]
["Taxi Ranks",null,0,0,0,0,0,0,0,0,0,0,0,null,null,null,null,null,null,null,null,0]
["Environmental protection",null,0,0,0,0,0,0,0,0,0,0,0,null,null,null,null,null,null,null,null,0]
["Biodiversity and Landscape",null,0,0,0,0,0,0,0,0,0,0,0,null,null,null,null,null,null,null,null,0]
["Coastal Protection",null,0,0,0,0,0,0,0,0,0,0,0,null,null,null,null,null,null,null,null,0]
["Indigenous Forests",null,0,0,0,0,0,0,0,0,0,0,0,null,null,null,null,null,null,null,null,0]
["Nature Conservation",null,0,0,0,0,0,0,0,0,0,0,0,null,null,null,null,null,null,null,null,0]
["Pollution Control",null,0,0,0,0,0,0,0,0,0,0,0,null,null,null,null,null,null,null,null,0]
["Soil Conservation",null,0,0,0,0,0,0,0,0,0,0,0,null,null,null,null,null,null,null,null,0]
["Trading services",null,445994192,461740000,0,0,0,0,-1469052,-1469052,460270948,472674520,485970630,null,null,null,null,null,null,null,null,461740000]
["Energy sources",null,192659412,198188000,0,0,0,0,-1469052,-1469052,196718948,207466421,213079584,null,null,null,null,null,null,null,null,198188000]
["Electricity ",null,192659412,198188000,0,0,0,0,-1469052,-1469052,196718948,207466421,213079584,null,null,null,null,null,null,null,null,198188000]
["Street Lighting and Signal Systems",null,0,0,0,0,0,0,0,0,0,0,0,null,null,null,null,null,null,null,null,0]
["Nonelectric Energy",null,0,0,0,0,0,0,0,0,0,0,0,null,null,null,null,null,null,null,null,0]
["Water management",null,122030280,133752000,0,0,0,0,0,0,133752000,127675664,131210172,null,null,null,null,null,null,null,null,133752000]
["Water Treatment",null,0,0,0,0,0,0,0,0,0,0,0,null,null,null,null,null,null,null,null,0]
["Water Distribution",null,122030280,133752000,0,0,0,0,0,0,133752000,127675664,131210172,null,null,null,null,null,null,null,null,133752000]
["Water Storage",null,0,0,0,0,0,0,0,0,0,0,0,null,null,null,null,null,null,null,null,0]
["Waste water management",null,66372550,65756000,0,0,0,0,0,0,65756000,69509742,71582109,null,null,null,null,null,null,null,null,65756000]
["Public Toilets",null,0,0,0,0,0,0,0,0,0,0,0,null,null,null,null,null,null,null,null,0]
["Sewerage",null,66372550,65756000,0,0,0,0,0,0,65756000,69509742,71582109,null,null,null,null,null,null,null,null,65756000]
["Storm Water Management",null,0,0,0,0,0,0,0,0,0,0,0,null,null,null,null,null,null,null,null,0]
["Waste Water Treatment",null,0,0,0,0,0,0,0,0,0,0,0,null,null,null,null,null,null,null,null,0]
["Waste management",null,64931950,64044000,0,0,0,0,0,0,64044000,68022693,70098765,null,null,null,null,null,null,null,null,64044000]
["Recycling",null,0,0,0,0,0,0,0,0,0,0,0,null,null,null,null,null,null,null,null,0]
["Solid Waste Disposal (Landfill Sites)",null,0,0,0,0,0,0,0,0,0,0,0,null,null,null,null,null,null,null,null,0]
["Solid Waste Removal",null,64931950,64044000,0,0,0,0,0,0,64044000,68022693,70098765,null,null,null,null,null,null,null,null,64044000]
["Street Cleaning",null,0,0,0,0,0,0,0,0,0,0,0,null,null,null,null,null,null,null,null,0]
["Other",null,0,0,0,0,0,0,0,0,0,0,0,null,null,null,null,null,null,null,null,0]
["Abattoirs",null,0,0,0,0,0,0,0,0,0,0,0,null,null,null,null,null,null,null,null,0]
["Air Transport",null,0,0,0,0,0,0,0,0,0,0,0,null,null,null,null,null,null,null,null,0]
["Forestry ",null,0,0,0,0,0,0,0,0,0,0,0,null,null,null,null,null,null,null,null,0]
["Licensing and Regulation",null,0,0,0,0,0,0,0,0,0,0,0,null,null,null,null,null,null,null,null,0]
["Markets",null,0,0,0,0,0,0,0,0,0,0,0,null,null,null,null,null,null,null,null,0]
["Tourism",null,0,0,0,0,0,0,0,0,0,0,0,null,null,null,null,null,null,null,null,0]
[{"$f":"\"Total \"&A6","v":"Total Revenue - Functional"},2,922836484,992977637,0,0,0,0,-17745640,-17745640,975231997,1016492685,1045111697,null,null,null,null,null,null,null,null,992977637]
[null,null,null,null,null,null,null,null,null,0,0,null,null,null,null,null,null,null,null,null,null,0]
["Expenditure - Functional",null,null,null,null,null,null,null,null,0,0,null,null,null,null,null,null,null,null,null,null,0]
[{"$f":"A7","v":"Municipal governance and administration"},null,255559885,254600596,0,0,0,0,-5490152,-5490152,249110444,266791294,273281763,null,null,null,null,null,null,null,null,254600596]
["Executive and council",null,26370013,30371673,0,0,0,0,-483742,-483742,29887931,27556665,28245581,null,null,null,null,null,null,null,null,30371673]
["Mayor and Council",null,21361003,25505459,0,0,0,0,-347644,-347644,25157815,22322251,22880306,null,null,null,null,null,null,null,null,25505459]
["Municipal Manager, Town Secretary and Chief Executive",null,5009010,4866214,0,0,0,0,-136098,-136098,4730116,5234414,5365275,null,null,null,null,null,null,null,null,4866214]
["Finance and administration",null,225867435,220898471,0,0,0,0,-4998421,-4998421,215900050,235762681,241477434,null,null,null,null,null,null,null,null,220898471]
["Administrative and Corporate Support",null,62663742,59185063,0,0,0,0,-1074528,-1074528,58110535,65442381,67055534,null,null,null,null,null,null,null,null,59185063]
["Asset Management",null,6857098,7405076,0,0,0,0,-105034,-105034,7300042,6979015,7049796,null,null,null,null,null,null,null,null,7405076]
["Finance",null,91996447,87809317,0,0,0,0,-2146658,-2146658,85662659,96136286,98539695,null,null,null,null,null,null,null,null,87809317]
["Fleet Management",null,5425599,6131553,0,0,0,0,25999,25999,6157552,5669755,5811507,null,null,null,null,null,null,null,null,6131553]
["Human Resources",null,18986769,19450525,0,0,0,0,-26179,-26179,19424346,19841175,20337210,null,null,null,null,null,null,null,null,19450525]
["Information Technology",null,16707403,17500257,0,0,0,0,-854497,-854497,16645760,17422217,17807207,null,null,null,null,null,null,null,null,17500257]
["Legal Services",null,5032453,6136937,0,0,0,0,-91420,-91420,6045517,5258914,5390386,null,null,null,null,null,null,null,null,6136937]
["Marketing, Customer Relations, Publicity and Media Co-ordination",null,0,0,0,0,0,0,0,0,0,0,0,null,null,null,null,null,null,null,null,0]
["Property Services",null,11483468,10513687,0,0,0,0,-614837,-614837,9898850,11996334,12294081,null,null,null,null,null,null,null,null,10513687]
["Risk Management",null,0,0,0,0,0,0,0,0,0,0,0,null,null,null,null,null,null,null,null,0]
["Security Services",null,0,0,0,0,0,0,0,0,0,0,0,null,null,null,null,null,null,null,null,0]
["Supply Chain Management ",null,4957150,5056673,0,0,0,0,-104143,-104143,4952530,5180220,5309724,null,null,null,null,null,null,null,null,5056673]
["Valuation Service",null,1757306,1709383,0,0,0,0,-7124,-7124,1702259,1836384,1882294,null,null,null,null,null,null,null,null,1709383]
["Internal audit",null,3322437,3330452,0,0,0,0,-7989,-7989,3322463,3471948,3558748,null,null,null,null,null,null,null,null,3330452]
["Governance Function",null,3322437,3330452,0,0,0,0,-7989,-7989,3322463,3471948,3558748,null,null,null,null,null,null,null,null,3330452]
["Community and public safety",null,118704737,130596768,0,0,0,0,-3883784,-3883784,126712984,111375964,114134314,null,null,null,null,null,null,null,null,130596768]
["Community and social services",null,19290105,20772904,0,0,0,0,-1329418,-1329418,19443486,20111252,20587969,null,null,null,null,null,null,null,null,20772904]
["Aged Care",null,0,0,0,0,0,0,0,0,0,0,0,null,null,null,null,null,null,null,null,0]
["Agricultural",null,0,0,0,0,0,0,0,0,0,0,0,null,null,null,null,null,null,null,null,0]
["Animal Care and Diseases",null,0,0,0,0,0,0,0,0,0,0,0,null,null,null,null,null,null,null,null,0]
["Cemeteries, Funeral Parlours and Crematoriums",null,1196014,1061714,0,0,0,0,-318683,-318683,743031,1249836,1281084,null,null,null,null,null,null,null,null,1061714]
["Child Care Facilities",null,0,0,0,0,0,0,0,0,0,0,0,null,null,null,null,null,null,null,null,0]
["Community Halls and Facilities",null,8524397,10318829,0,0,0,0,-616401,-616401,9702428,8861087,9056551,null,null,null,null,null,null,null,null,10318829]
["Consumer Protection",null,0,0,0,0,0,0,0,0,0,0,0,null,null,null,null,null,null,null,null,0]
["Cultural Matters",null,0,0,0,0,0,0,0,0,0,0,0,null,null,null,null,null,null,null,null,0]
["Disaster Management",null,0,0,0,0,0,0,0,0,0,0,0,null,null,null,null,null,null,null,null,0]
["Education",null,0,0,0,0,0,0,0,0,0,0,0,null,null,null,null,null,null,null,null,0]
["Indigenous and Customary Law",null,0,0,0,0,0,0,0,0,0,0,0,null,null,null,null,null,null,null,null,0]
["Industrial Promotion",null,0,0,0,0,0,0,0,0,0,0,0,null,null,null,null,null,null,null,null,0]
["Language Policy",null,0,0,0,0,0,0,0,0,0,0,0,null,null,null,null,null,null,null,null,0]
["Libraries and Archives",null,9569694,9392361,0,0,0,0,-394334,-394334,8998027,10000329,10250334,null,null,null,null,null,null,null,null,9392361]
["Literacy Programmes",null,0,0,0,0,0,0,0,0,0,0,0,null,null,null,null,null,null,null,null,0]
["Media Services",null,0,0,0,0,0,0,0,0,0,0,0,null,null,null,null,null,null,null,null,0]
["Museums and Art Galleries",null,0,0,0,0,0,0,0,0,0,0,0,null,null,null,null,null,null,null,null,0]
["Population Development",null,0,0,0,0,0,0,0,0,0,0,0,null,null,null,null,null,null,null,null,0]
["Provincial Cultural Matters",null,0,0,0,0,0,0,0,0,0,0,0,null,null,null,null,null,null,null,null,0]
["Theatres",null,0,0,0,0,0,0,0,0,0,0,0,null,null,null,null,null,null,null,null,0]
["Zoo's",null,0,0,0,0,0,0,0,0,0,0,0,null,null,null,null,null,null,null,null,0]
["Sport and recreation",null,11605746,11642344,0,0,0,0,-1196376,-1196376,10445968,12128011,12431212,null,null,null,null,null,null,null,null,11642344]
["Beaches and Jetties ",null,0,0,0,0,0,0,0,0,0,0,0,null,null,null,null,null,null,null,null,0]
["Casinos, Racing, Gambling, Wagering",null,0,0,0,0,0,0,0,0,0,0,0,null,null,null,null,null,null,null,null,0]
["Community Parks (including Nurseries)",null,11119912,10021390,0,0,0,0,-270896,-270896,9750494,11620312,11910819,null,null,null,null,null,null,null,null,10021390]
["Recreational Facilities",null,0,0,0,0,0,0,0,0,0,0,0,null,null,null,null,null,null,null,null,0]
["Sports Grounds and Stadiums",null,485834,1620954,0,0,0,0,-925480,-925480,695474,507699,520393,null,null,null,null,null,null,null,null,1620954]
["Public safety",null,59739486,71312954,0,0,0,0,-896742,-896742,70416212,62427775,63988481,null,null,null,null,null,null,null,null,71312954]
["Civil Defence",null,0,0,0,0,0,0,0,0,0,0,0,null,null,null,null,null,null,null,null,0]
["Cleansing",null,0,0,0,0,0,0,0,0,0,0,0,null,null,null,null,null,null,null,null,0]
["Control of Public Nuisances",null,0,0,0,0,0,0,0,0,0,0,0,null,null,null,null,null,null,null,null,0]
["Fencing and Fences ",null,0,0,0,0,0,0,0,0,0,0,0,null,null,null,null,null,null,null,null,0]
["Fire Fighting and Protection",null,2812510,3355579,0,0,0,0,-43076,-43076,3312503,2939071,3012549,null,null,null,null,null,null,null,null,3355579]
["Licensing and Control of Animals",null,1657923,1596099,0,0,0,0,-608994,-608994,987105,1732532,1775848,null,null,null,null,null,null,null,null,1596099]
["Police Forces, Traffic and Street Parking Control",null,55269053,66361276,0,0,0,0,-244672,-244672,66116604,57756172,59200084,null,null,null,null,null,null,null,null,66361276]
["Pounds",null,0,0,0,0,0,0,0,0,0,0,0,null,null,null,null,null,null,null,null,0]
["Housing",null,28069400,26868566,0,0,0,0,-461248,-461248,26407318,16708926,17126652,null,null,null,null,null,null,null,null,26868566]
["Housing",null,20835265,19930443,0,0,0,0,-486225,-486225,19444218,9149252,9377984,null,null,null,null,null,null,null,null,19930443]
["Informal Settlements",null,7234135,6938123,0,0,0,0,24977,24977,6963100,7559674,7748668,null,null,null,null,null,null,null,null,6938123]
["Health",null,0,0,0,0,0,0,0,0,0,0,0,null,null,null,null,null,null,null,null,0]
["Ambulance",null,0,0,0,0,0,0,0,0,0,0,0,null,null,null,null,null,null,null,null,0]
["Health Services",null,0,0,0,0,0,0,0,0,0,0,0,null,null,null,null,null,null,null,null,0]
[{"$f":"A71","v":"Laboratory Services"},null,0,0,0,0,0,0,0,0,0,0,0,null,null,null,null,null,null,null,null,0]
["Food Control",null,0,0,0,0,0,0,0,0,0,0,0,null,null,null,null,null,null,null,null,0]
["Health Surveillance and Prevention of Communicable Diseases including immunizations",null,0,0,0,0,0,0,0,0,0,0,0,null,null,null,null,null,null,null,null,0]
["Vector Control",null,0,0,0,0,0,0,0,0,0,0,0,null,null,null,null,null,null,null,null,0]
["Chemical Safety",null,0,0,0,0,0,0,0,0,0,0,0,null,null,null,null,null,null,null,null,0]
["Economic and environmental services",null,86609275,93049629,0,0,0,0,-4208219,-4208219,88841410,90294606,92434157,null,null,null,null,null,null,null,null,93049629]
["Planning and development",null,38274677,38316960,0,0,0,0,-261535,-261535,38055425,39997044,40996983,null,null,null,null,null,null,null,null,38316960]
["Billboards",null,0,0,0,0,0,0,0,0,0,0,0,null,null,null,null,null,null,null,null,0]
["Corporate Wide Strategic Planning (IDPs, LEDs)",null,1381196,1628934,0,0,0,0,2466,2466,1631400,1443350,1479436,null,null,null,null,null,null,null,null,1628934]
["Central City Improvement District",null,0,0,0,0,0,0,0,0,0,0,0,null,null,null,null,null,null,null,null,0]
["Development Facilitation",null,60000,304234,0,0,0,0,-35875,-35875,268359,62700,64267,null,null,null,null,null,null,null,null,304234]
["Economic Development/Planning",null,8907036,9689516,0,0,0,0,36365,36365,9725881,9307852,9540551,null,null,null,null,null,null,null,null,9689516]
["Regional Planning and Development",null,0,0,0,0,0,0,0,0,0,0,0,null,null,null,null,null,null,null,null,0]
["Town Planning, Building Regulations and Enforcement, and City Engineer",null,12657882,11793998,0,0,0,0,195059,195059,11989057,13227491,13558181,null,null,null,null,null,null,null,null,11793998]
["Project Management Unit",null,15268563,14900278,0,0,0,0,-459550,-459550,14440728,15955651,16354548,null,null,null,null,null,null,null,null,14900278]
["Provincial Planning",null,0,0,0,0,0,0,0,0,0,0,0,null,null,null,null,null,null,null,null,0]
["Support to Local Municipalities",null,0,0,0,0,0,0,0,0,0,0,0,null,null,null,null,null,null,null,null,0]
["Road transport",null,48274598,54672669,0,0,0,0,-3886684,-3886684,50785985,50234862,51372907,null,null,null,null,null,null,null,null,54672669]
["Public Transport",null,0,0,0,0,0,0,0,0,0,0,0,null,null,null,null,null,null,null,null,0]
["Road and Traffic Regulation",null,11298643,11160556,0,0,0,0,-372015,-372015,10788541,11807086,12102266,null,null,null,null,null,null,null,null,11160556]
["Roads",null,36975955,43512113,0,0,0,0,-3514669,-3514669,39997444,38427776,39270641,null,null,null,null,null,null,null,null,43512113]
["Taxi Ranks",null,0,0,0,0,0,0,0,0,0,0,0,null,null,null,null,null,null,null,null,0]
["Environmental protection",null,60000,60000,0,0,0,0,-60000,-60000,0,62700,64267,null,null,null,null,null,null,null,null,60000]
["Biodiversity and Landscape",null,0,0,0,0,0,0,0,0,0,0,0,null,null,null,null,null,null,null,null,0]
["Coastal Protection",null,0,0,0,0,0,0,0,0,0,0,0,null,null,null,null,null,null,null,null,0]
["Indigenous Forests",null,0,0,0,0,0,0,0,0,0,0,0,null,null,null,null,null,null,null,null,0]
["Nature Conservation",null,0,0,0,0,0,0,0,0,0,0,0,null,null,null,null,null,null,null,null,0]
["Pollution Control",null,60000,60000,0,0,0,0,-60000,-60000,0,62700,64267,null,null,null,null,null,null,null,null,60000]
["Soil Conservation",null,0,0,0,0,0,0,0,0,0,0,0,null,null,null,null,null,null,null,null,0]
["Trading services",null,422989302,441502801,0,0,0,0,-606294,-606294,440896507,440952290,451380813,null,null,null,null,null,null,null,null,441502801]
["Energy sources",null,182675121,186732909,0,0,0,0,-86252,-86252,186646657,190734453,195413326,null,null,null,null,null,null,null,null,186732909]
["Electricity ",null,173135606,181534542,0,0,0,0,-86252,-86252,181448290,180765656,185195313,null,null,null,null,null,null,null,null,181534542]
["Street Lighting and Signal Systems",null,9539515,5198367,0,0,0,0,0,0,5198367,9968797,10218013,null,null,null,null,null,null,null,null,5198367]
["Nonelectric Energy",null,0,0,0,0,0,0,0,0,0,0,0,null,null,null,null,null,null,null,null,0]
["Water management",null,92653753,103357620,0,0,0,0,-380007,-380007,102977613,96496844,98727977,null,null,null,null,null,null,null,null,103357620]
["Water Treatment",null,15389576,18147299,0,0,0,0,-704947,-704947,17442352,16028546,16399502,null,null,null,null,null,null,null,null,18147299]
["Water Distribution",null,77264177,85210321,0,0,0,0,324940,324940,85535261,80468298,82328475,null,null,null,null,null,null,null,null,85210321]
["Water Storage",null,0,0,0,0,0,0,0,0,0,0,0,null,null,null,null,null,null,null,null,0]
["Waste water management",null,67498809,70867941,0,0,0,0,7862,7862,70875803,70113379,71631293,null,null,null,null,null,null,null,null,70867941]
["Public Toilets",null,0,0,0,0,0,0,0,0,0,0,0,null,null,null,null,null,null,null,null,0]
["Sewerage",null,57872465,60269587,0,0,0,0,596011,596011,60865598,60053849,61320267,null,null,null,null,null,null,null,null,60269587]
["Storm Water Management",null,0,0,0,0,0,0,0,0,0,0,0,null,null,null,null,null,null,null,null,0]
["Waste Water Treatment",null,9626344,10598354,0,0,0,0,-588149,-588149,10010205,10059530,10311026,null,null,null,null,null,null,null,null,10598354]
["Waste management",null,80161619,80544331,0,0,0,0,-147897,-147897,80396434,83607614,85608217,null,null,null,null,null,null,null,null,80544331]
["Recycling",null,0,0,0,0,0,0,0,0,0,0,0,null,null,null,null,null,null,null,null,0]
["Solid Waste Disposal (Landfill Sites)",null,26898459,23680481,0,0,0,0,8914,8914,23689395,27969662,28591556,null,null,null,null,null,null,null,null,23680481]
["Solid Waste Removal",null,49797142,53639287,0,0,0,0,8502,8502,53647789,52015964,53304120,null,null,null,null,null,null,null,null,53639287]
["Street Cleaning",null,3466018,3224563,0,0,0,0,-165313,-165313,3059250,3621988,3712541,null,null,null,null,null,null,null,null,3224563]
["Other",null,240001,415453,0,0,0,0,-15000,-15000,400453,250801,257071,null,null,null,null,null,null,null,null,415453]
["Abattoirs",null,0,0,0,0,0,0,0,0,0,0,0,null,null,null,null,null,null,null,null,0]
["Air Transport",null,0,0,0,0,0,0,0,0,0,0,0,null,null,null,null,null,null,null,null,0]
["Forestry ",null,0,0,0,0,0,0,0,0,0,0,0,null,null,null,null,null,null,null,null,0]
["Licensing and Regulation",null,0,0,0,0,0,0,0,0,0,0,0,null,null,null,null,null,null,null,null,0]
["Markets",null,0,0,0,0,0,0,0,0,0,0,0,null,null,null,null,null,null,null,null,0]
["Tourism",null,240001,415453,0,0,0,0,-15000,-15000,400453,250801,257071,null,null,null,null,null,null,null,null,415453]
[{"$f":"\"Total \"&A128","v":"Total Expenditure - Functional"},3,884103200,920165247,0,0,0,0,-14203449,-14203449,905961798,909664955,931488118,null,null,null,null,null,null,null,null,920165247]
[{"$f":"result","v":"Surplus/ (Deficit) for the year"},null,38733284,72812390,0,0,0,0,-3542191,-3542191,69270199,106827730,113623579,null,null,null,null,null,null,null,null,72812390.000000045]
[{"$f":"head27a","v":"References"}]
["1. Government Finance Statistics Functions and Sub-functions are standardised to assist national and international accounts and comparison",null,null,null,null,null,null,null,null,null,{"$f":"SUM(#REF!)/2","v":{"$error":"#REF!"}},{"$f":"SUM(#REF!)","v":{"$error":"#REF!"}},{"$f":"SUM(#REF!)","v":{"$error":"#REF!"}},null,null,null,null,null,null,null,null,-72812390]
["2. Total Revenue by Functional Classification must reconcile to total operating revenue shown in Financial Performance (revenue and expenditure)",null,null,null,null,null,null,null,null,null,{"$f":"K251+K249","v":{"$error":"#REF!"}},{"$f":"L251+L249","v":{"$error":"#REF!"}},{"$f":"M251+M249","v":{"$error":"#REF!"}},null,null,null,null,null,null,null,null,0]
["3. Total Expenditure by Functional Classification must reconcile to total operating expenditure shown in Financial Performance (revenue and expenditure)"]
["4. All amounts must be classified under a Functional classification. The GFS function 'Other' is only for Abbatoirs, Air Transport, Licensing and Regulation, Markets and Tourism - and if used must be supported by footnotes. Nothing else may be placed under 'Other'. Assign associate share to relevant classification"]
[]
[null,null,{"$f":"C249-'B3-FinPerf V'!C41","v":0},{"$f":"D249-'B3-FinPerf V'!D41","v":0},{"$f":"E249-'B3-FinPerf V'!E41","v":0},{"$f":"F249-'B3-FinPerf V'!F41","v":0},{"$f":"G249-'B3-FinPerf V'!G41","v":0},{"$f":"H249-'B3-FinPerf V'!H41","v":0},{"$f":"I249-'B3-FinPerf V'!I41","v":0},{"$f":"J249-'B3-FinPerf V'!J41","v":0},{"$f":"K249-'B3-FinPerf V'!K41","v":0},{"$f":"L249-'B3-FinPerf V'!L41","v":0},{"$f":"M249-'B3-FinPerf V'!M41","v":0},null,null,null,null,null,null,null,null,0]

{"sheet":"B3-FinPerf V","index":9,"n_rows":55,"n_cols":13,"rows_kept":55,"cut":false,"hidden":false,"merged":[[51,0,51,12],[47,0,47,12],[49,0,49,12],[1,0,2,0],[1,1,4,1],[1,2,1,10],[44,0,44,12],[45,0,45,12],[46,0,46,12]]}
[{"$f":"muni&\" - \"&_ADJ2&\" - \"&Date","v":"WC031 Theewaterskloof - Table B3 Adjustments Budget Financial Performance (revenue and expenditure by municipal vote) - 16 April 2026"}]
[{"$f":"Vdesc","v":"Vote Description"},{"$f":"head27","v":"Ref"},{"$f":"Head2","v":"Budget Year 2025/26"},null,null,null,null,null,null,null,null,{"$f":"Head10","v":"Budget Year +1 2026/27"},{"$f":"Head11","v":"Budget Year +2 2027/28"}]
[null,null,{"$f":"Head6","v":"Original Budget"},{"$f":"Head54","v":"Prior Adjusted"},{"$f":"Head51","v":"Accum. Funds"},{"$f":"Head52","v":"Multi-year capital"},{"$f":"Head53","v":"Unfore. Unavoid."},{"$f":"Head55","v":"Nat. or Prov. Govt"},{"$f":"Head50","v":"Other Adjusts."},{"$f":"Head56","v":"Total Adjusts."},{"$f":"Head7","v":"Adjusted Budget"},{"$f":"Head7","v":"Adjusted Budget"},{"$f":"Head7","v":"Adjusted Budget"}]
["[Insert departmental structure etc]",null,null,3,4,5,6,7,8,9,10]
["R thousands",null,"A","A1","B","C","D","E","F","G","H"]
["Revenue by Vote",1]
[{"$f":"B3B!A7","v":"Vote 1 - Directorate Finance"},null,{"$f":"B3B!C7","v":332266561},{"$f":"B3B!D7","v":328469675},{"$f":"B3B!E7","v":0},{"$f":"B3B!F7","v":0},{"$f":"B3B!G7","v":0},{"$f":"B3B!H7","v":0},{"$f":"B3B!I7","v":-11182350},{"$f":"SUM(E7:I7)","v":-11182350},{"$f":"IF(D7=0,C7+J7,D7+J7)","v":317287325},{"$f":"B3B!L7","v":346421500.30434781},{"$f":"B3B!M7","v":357051626.47826087}]
[{"$f":"B3B!A18","v":"Vote 2 - Community Services"},null,{"$f":"B3B!C18","v":48457515},{"$f":"B3B!D18","v":62769260},{"$f":"B3B!E18","v":0},{"$f":"B3B!F18","v":0},{"$f":"B3B!G18","v":0},{"$f":"B3B!H18","v":0},{"$f":"B3B!I18","v":60000},60000,62829260,{"$f":"B3B!L18","v":49390653},{"$f":"B3B!M18","v":50389945}]
[{"$f":"B3B!A37","v":"Vote 3 - Corporate services"},null,{"$f":"B3B!C37","v":6746325},{"$f":"B3B!D37","v":6977704},{"$f":"B3B!E37","v":0},{"$f":"B3B!F37","v":0},{"$f":"B3B!G37","v":0},{"$f":"B3B!H37","v":0},{"$f":"B3B!I37","v":0},0,6977704,{"$f":"B3B!L37","v":7044825},{"$f":"B3B!M37","v":7218121}]
[{"$f":"B3B!A49","v":"Vote 4 - Electricity"},null,{"$f":"B3B!C49","v":192659412},{"$f":"B3B!D49","v":198188000},{"$f":"B3B!E49","v":0},{"$f":"B3B!F49","v":0},{"$f":"B3B!G49","v":0},{"$f":"B3B!H49","v":0},{"$f":"B3B!I49","v":-1469052},-1469052,196718948,{"$f":"B3B!L49","v":207466421},{"$f":"B3B!M49","v":213079584}]
[{"$f":"B3B!A60","v":"Vote 5 - Economic Development and Planning"},null,{"$f":"B3B!C60","v":59758500},{"$f":"B3B!D60","v":93783294},{"$f":"B3B!E60","v":0},{"$f":"B3B!F60","v":0},{"$f":"B3B!G60","v":0},{"$f":"B3B!H60","v":0},{"$f":"B3B!I60","v":0},0,93783294,{"$f":"B3B!L60","v":111132533},{"$f":"B3B!M60","v":113390347}]
[{"$f":"B3B!A71","v":"Vote 6 - Office of the Municipal Manager"},null,{"$f":"B3B!C71","v":0},{"$f":"B3B!D71","v":0},{"$f":"B3B!E71","v":0},{"$f":"B3B!F71","v":0},{"$f":"B3B!G71","v":0},{"$f":"B3B!H71","v":0},{"$f":"B3B!I71","v":0},0,0,{"$f":"B3B!L71","v":0},{"$f":"B3B!M71","v":0}]
[{"$f":"B3B!A82","v":"Vote 7 - Housing"},null,{"$f":"B3B!C82","v":0},{"$f":"B3B!D82","v":0},{"$f":"B3B!E82","v":0},{"$f":"B3B!F82","v":0},{"$f":"B3B!G82","v":0},{"$f":"B3B!H82","v":0},{"$f":"B3B!I82","v":0},0,0,{"$f":"B3B!L82","v":0},{"$f":"B3B!M82","v":0}]
[{"$f":"B3B!A93","v":"Vote 8 - Technical and Infrastructure Implementation Services"},null,{"$f":"B3B!C93","v":29613391},{"$f":"B3B!D93","v":39237704},{"$f":"B3B!E93","v":0},{"$f":"B3B!F93","v":0},{"$f":"B3B!G93","v":0},{"$f":"B3B!H93","v":0},{"$f":"B3B!I93","v":-5154238},-5154238,34083466,{"$f":"B3B!L93","v":29828653.695652202},{"$f":"B3B!M93","v":31091027.521739099}]
[{"$f":"B3B!A104","v":"Vote 9 - Public safety"},null,{"$f":"B3B!C104","v":0},{"$f":"B3B!D104","v":0},{"$f":"B3B!E104","v":0},{"$f":"B3B!F104","v":0},{"$f":"B3B!G104","v":0},{"$f":"B3B!H104","v":0},{"$f":"B3B!I104","v":0},0,0,{"$f":"B3B!L104","v":0},{"$f":"B3B!M104","v":0}]
[{"$f":"B3B!A111","v":"Vote 10 - Road transport"},null,{"$f":"B3B!C111","v":0},{"$f":"B3B!D111","v":0},{"$f":"B3B!E111","v":0},{"$f":"B3B!F111","v":0},{"$f":"B3B!G111","v":0},{"$f":"B3B!H111","v":0},{"$f":"B3B!I111","v":0},0,0,{"$f":"B3B!L111","v":0},{"$f":"B3B!M111","v":0}]
[{"$f":"B3B!A116","v":"Vote 11 - Sport and recreation"},null,{"$f":"B3B!C116","v":0},{"$f":"B3B!D116","v":0},{"$f":"B3B!E116","v":0},{"$f":"B3B!F116","v":0},{"$f":"B3B!G116","v":0},{"$f":"B3B!H116","v":0},{"$f":"B3B!I116","v":0},0,0,{"$f":"B3B!L116","v":0},{"$f":"B3B!M116","v":0}]
[{"$f":"B3B!A121","v":"Vote 12 - Waste management"},null,{"$f":"B3B!C121","v":64931950},{"$f":"B3B!D121","v":64044000},{"$f":"B3B!E121","v":0},{"$f":"B3B!F121","v":0},{"$f":"B3B!G121","v":0},{"$f":"B3B!H121","v":0},{"$f":"B3B!I121","v":0},0,64044000,{"$f":"B3B!L121","v":68022693},{"$f":"B3B!M121","v":70098765}]
[{"$f":"B3B!A129","v":"Vote 13 - Waste water management"},null,{"$f":"B3B!C129","v":66372550},{"$f":"B3B!D129","v":65756000},{"$f":"B3B!E129","v":0},{"$f":"B3B!F129","v":0},{"$f":"B3B!G129","v":0},{"$f":"B3B!H129","v":0},{"$f":"B3B!I129","v":0},0,65756000,{"$f":"B3B!L129","v":69509742},{"$f":"B3B!M129","v":71582109}]
[{"$f":"B3B!A137","v":"Vote 14 - Water"},null,{"$f":"B3B!C137","v":122030280},{"$f":"B3B!D137","v":133752000},{"$f":"B3B!E137","v":0},{"$f":"B3B!F137","v":0},{"$f":"B3B!G137","v":0},{"$f":"B3B!H137","v":0},{"$f":"B3B!I137","v":0},0,133752000,{"$f":"B3B!L137","v":127675664},{"$f":"B3B!M137","v":131210172}]
[{"$f":"B3B!A143","v":"Vote 15 - Directorate Development and Community Services"},null,{"$f":"B3B!C143","v":0},{"$f":"B3B!D143","v":0},{"$f":"B3B!E143","v":0},{"$f":"B3B!F143","v":0},{"$f":"B3B!G143","v":0},{"$f":"B3B!H143","v":0},{"$f":"B3B!I143","v":0},0,0,{"$f":"B3B!L143","v":0},{"$f":"B3B!M143","v":0}]
["Total Revenue by Vote",2,{"$f":"SUM(C7:C21)","v":922836484},{"$f":"SUM(D7:D21)","v":992977637},0,0,0,0,-17745640,{"$f":"SUM(J7:J21)","v":-17745640},975231997,{"$f":"SUM(L7:L21)","v":1016492685},{"$f":"SUM(M7:M21)","v":1045111697}]
[]
["Expenditure by Vote",1]
[{"$f":"B3B!A174","v":"Vote 1 - Directorate Finance"},null,{"$f":"B3B!C174","v":105568001},{"$f":"B3B!D174","v":101980449},{"$f":"B3B!E174","v":0},{"$f":"B3B!F174","v":0},{"$f":"B3B!G174","v":0},{"$f":"B3B!H174","v":0},{"$f":"B3B!I174","v":-2362959},{"$f":"SUM(E25:I25)","v":-2362959},{"$f":"IF(D25=0,C25+J25,D25+J25)","v":99617490},{"$f":"B3B!L174","v":110131905},{"$f":"B3B!M174","v":112781509}]
[{"$f":"B3B!A185","v":"Vote 2 - Community Services"},null,{"$f":"B3B!C185","v":187974234},{"$f":"B3B!D185","v":198597743},{"$f":"B3B!E185","v":0},{"$f":"B3B!F185","v":0},{"$f":"B3B!G185","v":0},{"$f":"B3B!H185","v":0},{"$f":"B3B!I185","v":-5643424},-5643424,192954319,{"$f":"B3B!L185","v":196132864},{"$f":"B3B!M185","v":200869406}]
[{"$f":"B3B!A204","v":"Vote 3 - Corporate services"},null,{"$f":"B3B!C204","v":90148096},{"$f":"B3B!D204","v":94225725},{"$f":"B3B!E204","v":0},{"$f":"B3B!F204","v":0},{"$f":"B3B!G204","v":0},{"$f":"B3B!H204","v":0},{"$f":"B3B!I204","v":-1450458},-1450458,92775267,{"$f":"B3B!L204","v":94167745},{"$f":"B3B!M204","v":96471377}]
[{"$f":"B3B!A216","v":"Vote 4 - Electricity"},null,{"$f":"B3B!C216","v":182675121},{"$f":"B3B!D216","v":186732909},{"$f":"B3B!E216","v":0},{"$f":"B3B!F216","v":0},{"$f":"B3B!G216","v":0},{"$f":"B3B!H216","v":0},{"$f":"B3B!I216","v":-86252},-86252,186646657,{"$f":"B3B!L216","v":190734453},{"$f":"B3B!M216","v":195413326}]
[{"$f":"B3B!A220","v":"Vote 5 - Economic Development and Planning"},null,{"$f":"B3B!C220","v":42297361},{"$f":"B3B!D220","v":51299269},{"$f":"B3B!E220","v":0},{"$f":"B3B!F220","v":0},{"$f":"B3B!G220","v":0},{"$f":"B3B!H220","v":0},{"$f":"B3B!I220","v":-739213},-739213,50560056,{"$f":"B3B!L220","v":42023263},{"$f":"B3B!M220","v":43071693}]
[{"$f":"B3B!A231","v":"Vote 6 - Office of the Municipal Manager"},null,{"$f":"B3B!C231","v":9712643},{"$f":"B3B!D231","v":9825600},{"$f":"B3B!E231","v":0},{"$f":"B3B!F231","v":0},{"$f":"B3B!G231","v":0},{"$f":"B3B!H231","v":0},{"$f":"B3B!I231","v":-141621},-141621,9683979,{"$f":"B3B!L231","v":10149712},{"$f":"B3B!M231","v":10403459}]
[{"$f":"B3B!A242","v":"Vote 7 - Housing"},null,{"$f":"B3B!C242","v":0},{"$f":"B3B!D242","v":0},{"$f":"B3B!E242","v":0},{"$f":"B3B!F242","v":0},{"$f":"B3B!G242","v":0},{"$f":"B3B!H242","v":0},{"$f":"B3B!I242","v":0},0,0,{"$f":"B3B!L242","v":0},{"$f":"B3B!M242","v":0}]
[{"$f":"B3B!A253","v":"Vote 8 - Technical and Infrastructure Implementation Services"},null,{"$f":"B3B!C253","v":25413563},{"$f":"B3B!D253","v":22733660},{"$f":"B3B!E253","v":0},{"$f":"B3B!F253","v":0},{"$f":"B3B!G253","v":0},{"$f":"B3B!H253","v":0},{"$f":"B3B!I253","v":-3259480},-3259480,19474180,{"$f":"B3B!L253","v":16107176},{"$f":"B3B!M253","v":16509861}]
[{"$f":"B3B!A264","v":"Vote 9 - Public safety"},null,{"$f":"B3B!C264","v":0},{"$f":"B3B!D264","v":0},{"$f":"B3B!E264","v":0},{"$f":"B3B!F264","v":0},{"$f":"B3B!G264","v":0},{"$f":"B3B!H264","v":0},{"$f":"B3B!I264","v":0},0,0,{"$f":"B3B!L264","v":0},{"$f":"B3B!M264","v":0}]
[{"$f":"B3B!A275","v":"Vote 10 - Road transport"},null,{"$f":"B3B!C275","v":0},{"$f":"B3B!D275","v":0},{"$f":"B3B!E275","v":0},{"$f":"B3B!F275","v":0},{"$f":"B3B!G275","v":0},{"$f":"B3B!H275","v":0},{"$f":"B3B!I275","v":0},0,0,{"$f":"B3B!L275","v":0},{"$f":"B3B!M275","v":0}]
[{"$f":"B3B!A286","v":"Vote 11 - Sport and recreation"},null,{"$f":"B3B!C286","v":0},{"$f":"B3B!D286","v":0},{"$f":"B3B!E286","v":0},{"$f":"B3B!F286","v":0},{"$f":"B3B!G286","v":0},{"$f":"B3B!H286","v":0},{"$f":"B3B!I286","v":0},0,0,{"$f":"B3B!L286","v":0},{"$f":"B3B!M286","v":0}]
[{"$f":"B3B!A297","v":"Vote 12 - Waste management"},null,{"$f":"B3B!C297","v":80161619},{"$f":"B3B!D297","v":80544331},{"$f":"B3B!E297","v":0},{"$f":"B3B!F297","v":0},{"$f":"B3B!G297","v":0},{"$f":"B3B!H297","v":0},{"$f":"B3B!I297","v":-147897},-147897,80396434,{"$f":"B3B!L297","v":83607614},{"$f":"B3B!M297","v":85608217}]
[{"$f":"B3B!A308","v":"Vote 13 - Waste water management"},null,{"$f":"B3B!C308","v":67498809},{"$f":"B3B!D308","v":70867941},{"$f":"B3B!E308","v":0},{"$f":"B3B!F308","v":0},{"$f":"B3B!G308","v":0},{"$f":"B3B!H308","v":0},{"$f":"B3B!I308","v":7862},7862,70875803,{"$f":"B3B!L308","v":70113379},{"$f":"B3B!M308","v":71631293}]
[{"$f":"B3B!A316","v":"Vote 14 - Water"},null,{"$f":"B3B!C316","v":92653753},{"$f":"B3B!D316","v":103357620},{"$f":"B3B!E316","v":0},{"$f":"B3B!F316","v":0},{"$f":"B3B!G316","v":0},{"$f":"B3B!H316","v":0},{"$f":"B3B!I316","v":-380007},-380007,102977613,{"$f":"B3B!L316","v":96496844},{"$f":"B3B!M316","v":98727977}]
[{"$f":"B3B!A322","v":"Vote 15 - Directorate Development and Community Services"},null,{"$f":"B3B!C322","v":0},{"$f":"B3B!D322","v":0},{"$f":"B3B!E322","v":0},{"$f":"B3B!F322","v":0},{"$f":"B3B!G322","v":0},{"$f":"B3B!H322","v":0},{"$f":"B3B!I322","v":0},0,0,{"$f":"B3B!L322","v":0},{"$f":"B3B!M322","v":0}]
["Total Expenditure by Vote",2,{"$f":"SUM(C25:C39)","v":884103200},{"$f":"SUM(D25:D39)","v":920165247},0,0,0,0,-14203449,{"$f":"SUM(J25:J39)","v":-14203449},{"$f":"SUM(K25:K39)","v":905961798},{"$f":"SUM(L25:L39)","v":909664955},{"$f":"SUM(M25:M39)","v":931488118}]
[{"$f":"result","v":"Surplus/ (Deficit) for the year"},2,{"$f":"C22-C40","v":38733284},{"$f":"D22-D40","v":72812390},0,0,0,0,-3542191,-3542191,69270199,106827730,113623579]
[{"$f":"head27a","v":"References"}]
["1. Insert 'Vote'; e.g. Department, if different to standard classification structure"]
["2. Must reconcile to Budgeted Financial Performance (revenue and expenditure)"]
["3. Only complete if a previous adjusted budget has been approved in the same financial year. Reflect most recent adjusted budget."]
["4. Additional cash-backed accumulated funds/unspent funds (MFMA section 18(1)(b) and section 28(2)(e)) identified after the Original Budget approved and after annual financial statements audited (note: only where underspending could not reasonably have been foreseen)"]
["5. Increases of funds approved under MFMA section 31"]
["6. Adjustments approved in accordance with MFMA section 29 "]
["7. Adjustments to transfers from National or Provincial Government"]
["8. Adjusts. = 'Other' Adjustments proposed to be approved; including revenue under-collection (MFMA section 28(2)(a)); additional revenue appropriation on existing programmes (section 28(2))(b); projected savings (section 28(2)(d)); error correction (section 28(2)(f))"]
["9. G = B + C + D + E + F"]
["10. Adjusted Budget H = (A or A1/2 etc) + G"]
[]
["check revenue",null,{"$f":"C22-SUM('B4-FinPerf RE'!C35,'B4-FinPerf RE'!C54:C55)","v":0},{"$f":"D22-SUM('B4-FinPerf RE'!D35,'B4-FinPerf RE'!D54:D55)","v":0},{"$f":"E22-SUM('B4-FinPerf RE'!E35,'B4-FinPerf RE'!E54:E55)","v":0},{"$f":"F22-SUM('B4-FinPerf RE'!F35,'B4-FinPerf RE'!F54:F55)","v":0},{"$f":"G22-SUM('B4-FinPerf RE'!G35,'B4-FinPerf RE'!G54:G55)","v":0},{"$f":"H22-SUM('B4-FinPerf RE'!H35,'B4-FinPerf RE'!H54:H55)","v":0},{"$f":"I22-SUM('B4-FinPerf RE'!I35,'B4-FinPerf RE'!I54:I55)","v":0},{"$f":"J22-SUM('B4-FinPerf RE'!J35,'B4-FinPerf RE'!J54:J55)","v":0},{"$f":"K22-SUM('B4-FinPerf RE'!K35,'B4-FinPerf RE'!K54:K55)","v":0},{"$f":"L22-SUM('B4-FinPerf RE'!L35,'B4-FinPerf RE'!L54:L55)","v":0},{"$f":"M22-SUM('B4-FinPerf RE'!M35,'B4-FinPerf RE'!M54:M55)","v":0}]
["check expenditure",null,{"$f":"C40-'B4-FinPerf RE'!C51","v":0},{"$f":"D40-'B4-FinPerf RE'!D51","v":0},{"$f":"E40-'B4-FinPerf RE'!E51","v":0},{"$f":"F40-'B4-FinPerf RE'!F51","v":0},{"$f":"G40-'B4-FinPerf RE'!G51","v":0},{"$f":"H40-'B4-FinPerf RE'!H51","v":0},{"$f":"I40-'B4-FinPerf RE'!I51","v":0},{"$f":"J40-'B4-FinPerf RE'!J51","v":0},{"$f":"K40-'B4-FinPerf RE'!K51","v":0},{"$f":"L40-'B4-FinPerf RE'!L51","v":0},{"$f":"M40-'B4-FinPerf RE'!M51","v":0}]

{"sheet":"B3B","index":10,"n_rows":356,"n_cols":22,"rows_kept":356,"cut":false,"hidden":false,"merged":[[1,0,2,0],[1,1,4,1],[1,2,1,10]]}
[{"$f":"muni&\" - \"&_ADJ2&\" - B\"&\" - \"&Date","v":"WC031 Theewaterskloof - Table B3 Adjustments Budget Financial Performance (revenue and expenditure by municipal vote) - B - 16 April 2026"}]
[{"$f":"Vdesc","v":"Vote Description"},{"$f":"head27","v":"Ref"},{"$f":"Head2","v":"Budget Year 2025/26"},null,null,null,null,null,null,null,null,{"$f":"Head10","v":"Budget Year +1 2026/27"},{"$f":"Head11","v":"Budget Year +2 2027/28"}]
[null,null,{"$f":"Head6","v":"Original Budget"},{"$f":"Head54","v":"Prior Adjusted"},{"$f":"Head51","v":"Accum. Funds"},{"$f":"Head52","v":"Multi-year capital"},{"$f":"Head53","v":"Unfore. Unavoid."},{"$f":"Head55","v":"Nat. or Prov. Govt"},{"$f":"Head50","v":"Other Adjusts."},{"$f":"Head56","v":"Total Adjusts."},{"$f":"Head7","v":"Adjusted Budget"},{"$f":"Head7","v":"Adjusted Budget"},{"$f":"Head7","v":"Adjusted Budget"},null,null,null,null,null,null,null,null,"Adjusted Budget"]
["[Insert departmental structure etc]",null,null,3,4,5,6,7,8,9,10,null,null,null,null,null,null,null,null,null,null,10]
["R thousands",null,"A","A1","B","C","D","E","F","G","H",null,null,null,null,null,null,null,null,null,null,"H"]
["Revenue by Vote",1]
[{"$f":"'Org structure'!A2","v":"Vote 1 - Directorate Finance"},null,332266561,328469675,0,0,0,0,-11182350,-11182350,317287325,346421500.30434781,357051626.47826087,null,null,null,null,null,null,null,null,328469675]
[{"$f":"'Org structure'!E3","v":"1,1 - Asset Management"},null,164164,2114154,0,0,0,0,0,0,2114154,119281,122283,null,null,null,null,null,null,null,null,2114154]
[{"$f":"'Org structure'!E4","v":"1,2 - Budget Office"},null,0,0,0,0,0,0,0,0,0,0,0,null,null,null,null,null,null,null,null,0]
[{"$f":"'Org structure'!E5","v":"1,3 - Financial Services"},null,141765884,151823521,0,0,0,0,-11182350,-11182350,140641171,147279541.30434781,152661886.47826087,null,null,null,null,null,null,null,null,151823521]
[{"$f":"'Org structure'!E6","v":"1,4 - Internal Audit"},null,0,0,0,0,0,0,0,0,0,0,0,null,null,null,null,null,null,null,null,0]
[{"$f":"'Org structure'!E7","v":"1,5 - Property Rates"},null,190336513,174532000,0,0,0,0,0,0,174532000,199022678,204267457,null,null,null,null,null,null,null,null,174532000]
[{"$f":"'Org structure'!E8","v":"1,6 - Risk Management"},null,0,0,0,0,0,0,0,0,0,0,0,null,null,null,null,null,null,null,null,0]
[{"$f":"'Org structure'!E9","v":"1,7 - SCM"},null,0,0,0,0,0,0,0,0,0,0,0,null,null,null,null,null,null,null,null,0]
[{"$f":"'Org structure'!E10","v":"1,8 - Valuation Services"},null,0,0,0,0,0,0,0,0,0,0,0,null,null,null,null,null,null,null,null,0]
[{"$f":"'Org structure'!E11","v":"1,9 - [Name of sub-vote]"},null,0,0,0,0,0,0,0,0,0,0,0,null,null,null,null,null,null,null,null,0]
[{"$f":"'Org structure'!E12","v":"1.10 - [Name of sub-vote]"},null,0,0,0,0,0,0,0,0,0,0,0,null,null,null,null,null,null,null,null,0]
[{"$f":"'Org structure'!A3","v":"Vote 2 - Community Services"},null,48457515,62769260,0,0,0,0,60000,60000,62829260,49390653,50389945,null,null,null,null,null,null,null,null,62769260]
[{"$f":"'Org structure'!E14","v":"2,1 - Cemeteries"},null,750000,750000,0,0,0,0,0,0,750000,783750,803344,null,null,null,null,null,null,null,null,750000]
[{"$f":"'Org structure'!E15","v":"2,2 - Libraries"},null,10401000,10401000,0,0,0,0,0,0,10401000,10664230,11361686,null,null,null,null,null,null,null,null,10401000]
[{"$f":"'Org structure'!E16","v":"2,3 - Community Services"},null,0,0,0,0,0,0,0,0,0,0,0,null,null,null,null,null,null,null,null,0]
[{"$f":"'Org structure'!E17","v":"2,4 - Town Administration"},null,0,0,0,0,0,0,0,0,0,0,0,null,null,null,null,null,null,null,null,0]
[{"$f":"'Org structure'!E18","v":"2,5 - Sustainable Development"},null,0,300000,0,0,0,0,0,0,300000,0,0,null,null,null,null,null,null,null,null,300000]
[{"$f":"'Org structure'!E19","v":"2,6 - Fleet"},null,0,0,0,0,0,0,0,0,0,0,0,null,null,null,null,null,null,null,null,0]
[{"$f":"'Org structure'!E20","v":"2,7 - Property Services"},null,2096000,2096000,0,0,0,0,0,0,2096000,2190320,2245079,null,null,null,null,null,null,null,null,2096000]
[{"$f":"'Org structure'!E21","v":"2,8 - Sports and Culture"},null,50000,50000,0,0,0,0,0,0,50000,52250,53556,null,null,null,null,null,null,null,null,50000]
[{"$f":"'Org structure'!E22","v":"2,9 - Roads and Stormwater"},null,0,0,0,0,0,0,0,0,0,0,0,null,null,null,null,null,null,null,null,0]
[{"$f":"'Org structure'!E23","v":"2.10 - Parks and Gardens"},null,1000,1000,0,0,0,0,0,0,1000,1045,1071,null,null,null,null,null,null,null,null,1000]
[{"$f":"'Org structure'!E24","v":"2.11 - Disaster Management"},null,0,0,0,0,0,0,0,0,0,0,0,null,null,null,null,null,null,null,null,0]
[{"$f":"'Org structure'!E25","v":"2.12 - Pollution Control"},null,0,0,0,0,0,0,0,0,0,0,0,null,null,null,null,null,null,null,null,0]
[{"$f":"'Org structure'!E26","v":"2.13 - Nature Reserve"},null,0,0,0,0,0,0,0,0,0,0,0,null,null,null,null,null,null,null,null,0]
[{"$f":"'Org structure'!E27","v":"2.14 - Community Halls"},null,0,5745,0,0,0,0,0,0,5745,150000,150000,null,null,null,null,null,null,null,null,5745]
[{"$f":"'Org structure'!E28","v":"2.15 - Traffic Services"},null,26599000,40605000,0,0,0,0,0,0,40605000,26603320,26605828,null,null,null,null,null,null,null,null,40605000]
[{"$f":"'Org structure'!E29","v":"2.16 - Law Enforcement"},null,0,0,0,0,0,0,60000,60000,60000,0,0,null,null,null,null,null,null,null,null,0]
[{"$f":"'Org structure'!E30","v":"2.17 - Motor Licensing and Testing Station"},null,8417407,8417407,0,0,0,0,0,0,8417407,8796190,9016094,null,null,null,null,null,null,null,null,8417407]
[{"$f":"'Org structure'!E31","v":"2.18 - Animal Control and Pounds"},null,143108,143108,0,0,0,0,0,0,143108,149548,153287,null,null,null,null,null,null,null,null,143108]
[{"$f":"'Org structure'!A4","v":"Vote 3 - Corporate services"},null,6746325,6977704,0,0,0,0,0,0,6977704,7044825,7218121,null,null,null,null,null,null,null,null,6977704]
[{"$f":"'Org structure'!E33","v":"3,1 - Administration: Planning"},null,0,0,0,0,0,0,0,0,0,0,0,null,null,null,null,null,null,null,null,0]
[{"$f":"'Org structure'!E34","v":"3,2 - Administration: Technical Services"},null,0,0,0,0,0,0,0,0,0,0,0,null,null,null,null,null,null,null,null,0]
[{"$f":"'Org structure'!E35","v":"3,3 - Community Halls"},null,0,0,0,0,0,0,0,0,0,0,0,null,null,null,null,null,null,null,null,0]
[{"$f":"'Org structure'!E36","v":"3,4 - Directorate: Corporate Services"},null,0,0,0,0,0,0,0,0,0,0,0,null,null,null,null,null,null,null,null,0]
[{"$f":"'Org structure'!E37","v":"3,5 - Human Resources"},null,86825,404659,0,0,0,0,0,0,404659,90732,93001,null,null,null,null,null,null,null,null,404659]
[{"$f":"'Org structure'!E38","v":"3,6 - IT Services"},null,0,200000,0,0,0,0,0,0,200000,0,0,null,null,null,null,null,null,null,null,200000]
[{"$f":"'Org structure'!E39","v":"3,7 - Legal Services"},null,1000000,2548000,0,0,0,0,0,0,2548000,1045000,1071125,null,null,null,null,null,null,null,null,2548000]
[{"$f":"'Org structure'!E40","v":"3,8 - Property Services"},null,0,0,0,0,0,0,0,0,0,0,0,null,null,null,null,null,null,null,null,0]
[{"$f":"'Org structure'!E41","v":"3,9 - Corporate services"},null,5546500,3640500,0,0,0,0,0,0,3640500,5796093,5940995,null,null,null,null,null,null,null,null,3640500]
[{"$f":"'Org structure'!E42","v":"3,10 - Occupational Health and Safety"},null,0,0,0,0,0,0,0,0,0,0,0,null,null,null,null,null,null,null,null,0]
[{"$f":"'Org structure'!E43","v":"3.11 - Council Support"},null,113000,184545,0,0,0,0,0,0,184545,113000,113000,null,null,null,null,null,null,null,null,184545]
[{"$f":"'Org structure'!A5","v":"Vote 4 - Electricity"},null,192659412,198188000,0,0,0,0,-1469052,-1469052,196718948,207466421,213079584,null,null,null,null,null,null,null,null,198188000]
[{"$f":"'Org structure'!E45","v":"4,1 - Electricity: Distribution"},null,192659412,198188000,0,0,0,0,-1469052,-1469052,196718948,207466421,213079584,null,null,null,null,null,null,null,null,198188000]
[{"$f":"'Org structure'!E46","v":"4,2 - Electricity: Street Lights"},null,0,0,0,0,0,0,0,0,0,0,0,null,null,null,null,null,null,null,null,0]
[{"$f":"'Org structure'!E47","v":0},null,null,null,null,null,null,null,null,0,0,null,null,null,null,null,null,null,null,null,null,0]
[{"$f":"'Org structure'!E48","v":0},null,null,null,null,null,null,null,null,0,0,null,null,null,null,null,null,null,null,null,null,0]
[{"$f":"'Org structure'!E49","v":0},null,null,null,null,null,null,null,null,0,0,null,null,null,null,null,null,null,null,null,null,0]
[{"$f":"'Org structure'!E50","v":0},null,null,null,null,null,null,null,null,0,0,null,null,null,null,null,null,null,null,null,null,0]
[{"$f":"'Org structure'!E51","v":0},null,null,null,null,null,null,null,null,0,0,null,null,null,null,null,null,null,null,null,null,0]
[{"$f":"'Org structure'!E52","v":0},null,null,null,null,null,null,null,null,0,0,null,null,null,null,null,null,null,null,null,null,0]
[{"$f":"'Org structure'!E53","v":0},null,null,null,null,null,null,null,null,0,0,null,null,null,null,null,null,null,null,null,null,0]
[{"$f":"'Org structure'!E54","v":0},null,null,null,null,null,null,null,null,0,0,null,null,null,null,null,null,null,null,null,null,0]
[{"$f":"'Org structure'!A6","v":"Vote 5 - Economic Development and Planning"},null,59758500,93783294,0,0,0,0,0,0,93783294,111132533,113390347,null,null,null,null,null,null,null,null,93783294]
[{"$f":"'Org structure'!E56","v":"5,1 - Economic Development and Planning"},null,0,0,0,0,0,0,0,0,0,0,0,null,null,null,null,null,null,null,null,0]
[{"$f":"'Org structure'!E57","v":"5,2 - Human Settlements"},null,56780000,89475382,0,0,0,0,0,0,89475382,108020000,110200000,null,null,null,null,null,null,null,null,89475382]
[{"$f":"'Org structure'!E58","v":"5,3 - Informal Settlements"},null,0,0,0,0,0,0,0,0,0,0,0,null,null,null,null,null,null,null,null,0]
[{"$f":"'Org structure'!E59","v":"5,4 - Town Planning"},null,1367500,1367500,0,0,0,0,0,0,1367500,1429038,1464764,null,null,null,null,null,null,null,null,1367500]
[{"$f":"'Org structure'!E60","v":"5,5 - Building Control"},null,1611000,2056000,0,0,0,0,0,0,2056000,1683495,1725583,null,null,null,null,null,null,null,null,2056000]
[{"$f":"'Org structure'!E61","v":"5,6 - Property Management"},null,0,0,0,0,0,0,0,0,0,0,0,null,null,null,null,null,null,null,null,0]
[{"$f":"'Org structure'!E62","v":"5,7 - LED"},null,0,884412,0,0,0,0,0,0,884412,0,0,null,null,null,null,null,null,null,null,884412]
[{"$f":"'Org structure'!E63","v":"5,8 - Tourism"},null,0,0,0,0,0,0,0,0,0,0,0,null,null,null,null,null,null,null,null,0]
[{"$f":"'Org structure'!E64","v":"5,9 - [Name of sub-vote]"},null,0,0,0,0,0,0,0,0,0,0,0,null,null,null,null,null,null,null,null,0]
[{"$f":"'Org structure'!E65","v":"5.10 - [Name of sub-vote]"},null,0,0,0,0,0,0,0,0,0,0,0,null,null,null,null,null,null,null,null,0]
[{"$f":"'Org structure'!A7","v":"Vote 6 - Office of the Municipal Manager"},null,0,0,0,0,0,0,0,0,0,0,0,null,null,null,null,null,null,null,null,0]
[{"$f":"'Org structure'!E67","v":"6,1 - Administration: Towns"},null,0,0,0,0,0,0,0,0,0,0,0,null,null,null,null,null,null,null,null,0]
[{"$f":"'Org structure'!E68","v":"6,2 - Council General Expenses"},null,0,0,0,0,0,0,0,0,0,0,0,null,null,null,null,null,null,null,null,0]
[{"$f":"'Org structure'!E69","v":"6,3 - Municipal Manager"},null,0,0,0,0,0,0,0,0,0,0,0,null,null,null,null,null,null,null,null,0]
[{"$f":"'Org structure'!E70","v":"6,4 - Internal Audit"},null,0,0,0,0,0,0,0,0,0,0,0,null,null,null,null,null,null,null,null,0]
[{"$f":"'Org structure'!E71","v":"6,5 - Strategic Support and IDP"},null,0,0,0,0,0,0,0,0,0,0,0,null,null,null,null,null,null,null,null,0]
[{"$f":"'Org structure'!E72","v":"6,6 - [Name of sub-vote]"},null,0,0,0,0,0,0,0,0,0,0,0,null,null,null,null,null,null,null,null,0]
[{"$f":"'Org structure'!E73","v":"6,7 - [Name of sub-vote]"},null,0,0,0,0,0,0,0,0,0,0,0,null,null,null,null,null,null,null,null,0]
[{"$f":"'Org structure'!E74","v":"6,8 - [Name of sub-vote]"},null,0,0,0,0,0,0,0,0,0,0,0,null,null,null,null,null,null,null,null,0]
[{"$f":"'Org structure'!E75","v":"6,9 - [Name of sub-vote]"},null,0,0,0,0,0,0,0,0,0,0,0,null,null,null,null,null,null,null,null,0]
[{"$f":"'Org structure'!E76","v":"6.10 - [Name of sub-vote]"},null,0,0,0,0,0,0,0,0,0,0,0,null,null,null,null,null,null,null,null,0]
[{"$f":"'Org structure'!A8","v":"Vote 7 - Housing"},null,0,0,0,0,0,0,0,0,0,0,0,null,null,null,null,null,null,null,null,0]
[{"$f":"'Org structure'!E78","v":"7,1 - Administration: Housing"},null,0,0,0,0,0,0,0,0,0,0,0,null,null,null,null,null,null,null,null,0]
[{"$f":"'Org structure'!E79","v":"7,2 - Informal Settlements"},null,0,0,0,0,0,0,0,0,0,0,0,null,null,null,null,null,null,null,null,0]
[{"$f":"'Org structure'!E80","v":"7,3 - [Name of sub-vote]"},null,0,0,0,0,0,0,0,0,0,0,0,null,null,null,null,null,null,null,null,0]
[{"$f":"'Org structure'!E81","v":"7,4 - [Name of sub-vote]"},null,0,0,0,0,0,0,0,0,0,0,0,null,null,null,null,null,null,null,null,0]
[{"$f":"'Org structure'!E82","v":"7,5 - [Name of sub-vote]"},null,0,0,0,0,0,0,0,0,0,0,0,null,null,null,null,null,null,null,null,0]
[{"$f":"'Org structure'!E83","v":"7,6 - [Name of sub-vote]"},null,0,0,0,0,0,0,0,0,0,0,0,null,null,null,null,null,null,null,null,0]
[{"$f":"'Org structure'!E84","v":"7,7 - [Name of sub-vote]"},null,0,0,0,0,0,0,0,0,0,0,0,null,null,null,null,null,null,null,null,0]
[{"$f":"'Org structure'!E85","v":"7,8 - [Name of sub-vote]"},null,0,0,0,0,0,0,0,0,0,0,0,null,null,null,null,null,null,null,null,0]
[{"$f":"'Org structure'!E86","v":"7,9 - [Name of sub-vote]"},null,0,0,0,0,0,0,0,0,0,0,0,null,null,null,null,null,null,null,null,0]
[{"$f":"'Org structure'!E87","v":"7.10 - [Name of sub-vote]"},null,0,0,0,0,0,0,0,0,0,0,0,null,null,null,null,null,null,null,null,0]
[{"$f":"'Org structure'!A9","v":"Vote 8 - Technical and Infrastructure Implementation Services"},null,29613391,39237704,0,0,0,0,-5154238,-5154238,34083466,29828653.695652202,31091027.521739099,null,null,null,null,null,null,null,null,39237704]
[{"$f":"'Org structure'!E89","v":"8,1 - Building Control"},null,0,0,0,0,0,0,0,0,0,0,0,null,null,null,null,null,null,null,null,0]
[{"$f":"'Org structure'!E90","v":"8,2 - IDP/SDBIP"},null,0,0,0,0,0,0,0,0,0,0,0,null,null,null,null,null,null,null,null,0]
[{"$f":"'Org structure'!E91","v":"8,3 - LED"},null,0,0,0,0,0,0,0,0,0,0,0,null,null,null,null,null,null,null,null,0]
[{"$f":"'Org structure'!E92","v":"8,4 - Property Management"},null,0,0,0,0,0,0,0,0,0,0,0,null,null,null,null,null,null,null,null,0]
[{"$f":"'Org structure'!E93","v":"8,5 - Tourism"},null,0,0,0,0,0,0,0,0,0,0,0,null,null,null,null,null,null,null,null,0]
[{"$f":"'Org structure'!E94","v":"8,6 - Town Planning"},null,0,0,0,0,0,0,0,0,0,0,0,null,null,null,null,null,null,null,null,0]
[{"$f":"'Org structure'!E95","v":"8,7 - Proclaimed Roads"},null,145000,6445000,0,0,0,0,-2491943,-2491943,3953057,145000,163000,null,null,null,null,null,null,null,null,6445000]
[{"$f":"'Org structure'!E96","v":"8,8 - Director: Technical Services and Planning"},null,0,0,0,0,0,0,0,0,0,0,0,null,null,null,null,null,null,null,null,0]
[{"$f":"'Org structure'!E97","v":"8,9 - Human Settlements"},null,0,0,0,0,0,0,0,0,0,0,0,null,null,null,null,null,null,null,null,0]
[{"$f":"'Org structure'!E98","v":"8.10 - Technical and Infrastructure Implementation Services"},null,29468391,32792704,0,0,0,0,-2662295,-2662295,30130409,29683653.695652202,30928027.521739099,null,null,null,null,null,null,null,null,32792704]
[{"$f":"'Org structure'!A10","v":"Vote 9 - Public safety"},null,0,0,0,0,0,0,0,0,0,0,0,null,null,null,null,null,null,null,null,0]
[{"$f":"'Org structure'!E100","v":"9,1 - Animal Control"},null,0,0,0,0,0,0,0,0,0,0,0,null,null,null,null,null,null,null,null,0]
[{"$f":"'Org structure'!E101","v":"9,2 - Disaster Management"},null,0,0,0,0,0,0,0,0,0,0,0,null,null,null,null,null,null,null,null,0]
[{"$f":"'Org structure'!E102","v":"9,3 - Law Enforcement"},null,0,0,0,0,0,0,0,0,0,0,0,null,null,null,null,null,null,null,null,0]
[{"$f":"'Org structure'!E103","v":"9,4 - Pound"},null,0,0,0,0,0,0,0,0,0,0,0,null,null,null,null,null,null,null,null,0]
[{"$f":"'Org structure'!E104","v":"9,5 - Traffic Services"},null,0,0,0,0,0,0,0,0,0,0,0,null,null,null,null,null,null,null,null,0]
[{"$f":"'Org structure'!E105","v":0},null,0,0,0,0,0,0,0,0,0,0,0,null,null,null,null,null,null,null,null,0]
[{"$f":"'Org structure'!A11","v":"Vote 10 - Road transport"},null,0,0,0,0,0,0,0,0,0,0,0,null,null,null,null,null,null,null,null,0]
[{"$f":"'Org structure'!E111","v":"10,1 - Proclaimed Roads"},null,0,0,0,0,0,0,0,0,0,0,0,null,null,null,null,null,null,null,null,0]
[{"$f":"'Org structure'!E112","v":"10,2 - Roads"},null,0,0,0,0,0,0,0,0,0,0,0,null,null,null,null,null,null,null,null,0]
[{"$f":"'Org structure'!E113","v":"10,3 - Vehicle Licensing and Testing"},null,0,0,0,0,0,0,0,0,0,0,0,null,null,null,null,null,null,null,null,0]
[{"$f":"'Org structure'!E114","v":0},null,0,0,0,0,0,0,0,0,0,0,0,null,null,null,null,null,null,null,null,0]
[{"$f":"'Org structure'!A12","v":"Vote 11 - Sport and recreation"},null,0,0,0,0,0,0,0,0,0,0,0,null,null,null,null,null,null,null,null,0]
[{"$f":"'Org structure'!E122","v":"11,1 - Nature Reserve"},null,0,0,0,0,0,0,0,0,0,0,0,null,null,null,null,null,null,null,null,0]
[{"$f":"'Org structure'!E123","v":"11,2 - Parks and Gardens"},null,0,0,0,0,0,0,0,0,0,0,0,null,null,null,null,null,null,null,null,0]
[{"$f":"'Org structure'!E124","v":"11,3 - Sport and Recreation"},null,0,0,0,0,0,0,0,0,0,0,0,null,null,null,null,null,null,null,null,0]
[{"$f":"'Org structure'!E125","v":0},null,0,0,0,0,0,0,0,0,0,0,0,null,null,null,null,null,null,null,null,0]
[{"$f":"'Org structure'!A13","v":"Vote 12 - Waste management"},null,64931950,64044000,0,0,0,0,0,0,64044000,68022693,70098765,null,null,null,null,null,null,null,null,64044000]
[{"$f":"'Org structure'!E133","v":"12,1 - Refuse Removal"},null,791650,823000,0,0,0,0,0,0,823000,827274,847956,null,null,null,null,null,null,null,null,823000]
[{"$f":"'Org structure'!E134","v":"12,2 - Refuse Sites"},null,0,0,0,0,0,0,0,0,0,0,0,null,null,null,null,null,null,null,null,0]
[{"$f":"'Org structure'!E135","v":"12,3 - Street Cleansing"},null,0,0,0,0,0,0,0,0,0,0,0,null,null,null,null,null,null,null,null,0]
[{"$f":"'Org structure'!E136","v":"12,4 - Refuse Removal (Head Office)"},null,64140300,63221000,0,0,0,0,0,0,63221000,67195419,69250809,null,null,null,null,null,null,null,null,63221000]
[{"$f":"'Org structure'!E137","v":"12,5 - Refuse Sites (Head Office)"},null,0,0,0,0,0,0,0,0,0,0,0,null,null,null,null,null,null,null,null,0]
[{"$f":"'Org structure'!E138","v":"12,6 - Street Cleansing (Head Office)"},null,0,0,0,0,0,0,0,0,0,0,0,null,null,null,null,null,null,null,null,0]
[{"$f":"'Org structure'!E139","v":0},null,0,0,0,0,0,0,0,0,0,0,0,null,null,null,null,null,null,null,null,0]
[{"$f":"'Org structure'!A14","v":"Vote 13 - Waste water management"},null,66372550,65756000,0,0,0,0,0,0,65756000,69509742,71582109,null,null,null,null,null,null,null,null,65756000]
[{"$f":"'Org structure'!E144","v":"13,1 - Sewerage: Networks"},null,953400,962000,0,0,0,0,0,0,962000,996303,1021211,null,null,null,null,null,null,null,null,962000]
[{"$f":"'Org structure'!E145","v":"13,2 - Sewerage: Tank Services"},null,0,0,0,0,0,0,0,0,0,0,0,null,null,null,null,null,null,null,null,0]
[{"$f":"'Org structure'!E146","v":"13,3 - Sewerage: Treatment Works"},null,0,0,0,0,0,0,0,0,0,0,0,null,null,null,null,null,null,null,null,0]
[{"$f":"'Org structure'!E147","v":"13,4 - Sewerage: Networks (Head Office)"},null,62713300,62519000,0,0,0,0,0,0,62519000,65685826,67662595,null,null,null,null,null,null,null,null,62519000]
[{"$f":"'Org structure'!E148","v":"13,5 - Sewerage: Treatment Works (Head Office)"},null,0,0,0,0,0,0,0,0,0,0,0,null,null,null,null,null,null,null,null,0]
[{"$f":"'Org structure'!E149","v":"13,6 - Sewerage: Tank Services (Head Office)"},null,2705850,2275000,0,0,0,0,0,0,2275000,2827613,2898303,null,null,null,null,null,null,null,null,2275000]
[{"$f":"'Org structure'!E150","v":0},null,0,0,0,0,0,0,0,0,0,0,0,null,null,null,null,null,null,null,null,0]
[{"$f":"'Org structure'!A15","v":"Vote 14 - Water"},null,122030280,133752000,0,0,0,0,0,0,133752000,127675664,131210172,null,null,null,null,null,null,null,null,133752000]
[{"$f":"'Org structure'!E155","v":"14,1 - Water: Distribution"},null,2259360,2270000,0,0,0,0,0,0,2270000,2361031,2420057,null,null,null,null,null,null,null,null,2270000]
[{"$f":"'Org structure'!E156","v":"14,2 - Water: Treatment Works"},null,0,0,0,0,0,0,0,0,0,0,0,null,null,null,null,null,null,null,null,0]
[{"$f":"'Org structure'!E157","v":"14,3 - Water: Distribution (Head Office)"},null,119770920,131482000,0,0,0,0,0,0,131482000,125314633,128790115,null,null,null,null,null,null,null,null,131482000]
[{"$f":"'Org structure'!E158","v":"14,4 - Water: Treatment Works (Head Office)"},null,0,0,0,0,0,0,0,0,0,0,0,null,null,null,null,null,null,null,null,0]
[{"$f":"'Org structure'!E159","v":0},null,0,0,0,0,0,0,0,0,0,0,0,null,null,null,null,null,null,null,null,0]
[{"$f":"'Org structure'!A16","v":"Vote 15 - Directorate Development and Community Services"},null,0,0,0,0,0,0,0,0,0,0,0,null,null,null,null,null,null,null,null,0]
[{"$f":"'Org structure'!E166","v":"15,1 - Director: Development and Community Services"},null,0,0,0,0,0,0,0,0,0,0,0,null,null,null,null,null,null,null,null,0]
[{"$f":"'Org structure'!E167","v":"15,2 - Council Support"},null,0,0,0,0,0,0,0,0,0,0,0,null,null,null,null,null,null,null,null,0]
[{"$f":"'Org structure'!E168","v":"15,3 - LED"},null,0,0,0,0,0,0,0,0,0,0,0,null,null,null,null,null,null,null,null,0]
[{"$f":"'Org structure'!E169","v":"15,4 - Tourism"},null,0,0,0,0,0,0,0,0,0,0,0,null,null,null,null,null,null,null,null,0]
[{"$f":"'Org structure'!E170","v":"15,5 - IT Services"},null,0,0,0,0,0,0,0,0,0,0,0,null,null,null,null,null,null,null,null,0]
[{"$f":"'Org structure'!E171","v":"15,6 - Legal Services"},null,0,0,0,0,0,0,0,0,0,0,0,null,null,null,null,null,null,null,null,0]
[{"$f":"'Org structure'!E172","v":"15,7 - Sports and Culture"},null,0,0,0,0,0,0,0,0,0,0,0,null,null,null,null,null,null,null,null,0]
[{"$f":"'Org structure'!E173","v":"15,8 - Town Administration"},null,0,0,0,0,0,0,0,0,0,0,0,null,null,null,null,null,null,null,null,0]
[{"$f":"'Org structure'!E174","v":"15,9 - Human Resources"},null,0,0,0,0,0,0,0,0,0,0,0,null,null,null,null,null,null,null,null,0]
[{"$f":"'Org structure'!E175","v":"15.10 - Risk Management"},null,0,0,0,0,0,0,0,0,0,0,0,null,null,null,null,null,null,null,null,0]
[{"$f":"'Org structure'!E176","v":"    15.11 - Property Management"},null,0,0,0,0,0,0,0,0,0,0,0,null,null,null,null,null,null,null,null,0]
[{"$f":"'Org structure'!E177","v":"    15.12 - Informal Settlements"},null,0,0,0,0,0,0,0,0,0,0,0,null,null,null,null,null,null,null,null,0]
[{"$f":"'Org structure'!E178","v":"    15.13 - Roads and Stormwater"},null,0,0,0,0,0,0,0,0,0,0,0,null,null,null,null,null,null,null,null,0]
[{"$f":"'Org structure'!E179","v":"    15.14 - Fleet"},null,0,0,0,0,0,0,0,0,0,0,0,null,null,null,null,null,null,null,null,0]
[{"$f":"'Org structure'!E180","v":"    15.15 - Parks and Gardens"},null,0,0,0,0,0,0,0,0,0,0,0,null,null,null,null,null,null,null,null,0]
[{"$f":"'Org structure'!E181","v":"    15.16 - Disaster Management"},null,0,0,0,0,0,0,0,0,0,0,0,null,null,null,null,null,null,null,null,0]
[{"$f":"'Org structure'!E182","v":"    15.17 - Pollution Control"},null,0,0,0,0,0,0,0,0,0,0,0,null,null,null,null,null,null,null,null,0]
[{"$f":"'Org structure'!E183","v":"    15.18 - Nature Reserve"},null,0,0,0,0,0,0,0,0,0,0,0,null,null,null,null,null,null,null,null,0]
[{"$f":"'Org structure'!E184","v":"    15.19 - Cemeteries"},null,0,0,0,0,0,0,0,0,0,0,0,null,null,null,null,null,null,null,null,0]
[{"$f":"'Org structure'!E185","v":"    15.20 - Community Halls"},null,0,0,0,0,0,0,0,0,0,0,0,null,null,null,null,null,null,null,null,0]
[{"$f":"'Org structure'!E186","v":"    15.21 - Library Services"},null,0,0,0,0,0,0,0,0,0,0,0,null,null,null,null,null,null,null,null,0]
[{"$f":"'Org structure'!E187","v":"    15.22 - Traffic Services"},null,0,0,0,0,0,0,0,0,0,0,0,null,null,null,null,null,null,null,null,0]
[{"$f":"'Org structure'!E188","v":"    15.23 - Law Enforcement"},null,0,0,0,0,0,0,0,0,0,0,0,null,null,null,null,null,null,null,null,0]
[{"$f":"'Org structure'!E189","v":"    15.24 - Motor Licensing and Testing Station"},null,0,0,0,0,0,0,0,0,0,0,0,null,null,null,null,null,null,null,null,0]
[{"$f":"'Org structure'!E190","v":"    15.25 - Animal Control and Pounds"},null,0,0,0,0,0,0,0,0,0,0,0,null,null,null,null,null,null,null,null,0]
[{"$f":"'Org structure'!E191","v":"    15.26 - Sustainable Development"},null,0,0,0,0,0,0,0,0,0,0,0,null,null,null,null,null,null,null,null,0]
[null,null,0,0,0,0,0,0,0,0,0,0,0,null,null,null,null,null,null,null,null,0]
["Total Revenue by Vote",2,922836484,992977637,0,0,0,0,-17745640,-17745640,975231997,1016492685,1045111697,null,null,null,null,null,null,null,null,992977637]
[]
["Expenditure by Vote",1]
[{"$f":"A7","v":"Vote 1 - Directorate Finance"},null,105568001,101980449,0,0,0,0,-2362959,-2362959,99617490,110131905,112781509,null,null,null,null,null,null,null,null,101980449]
["1,1 - Asset Management",null,6857098,7405076,0,0,0,0,-105034,-105034,7300042,6979015,7049796,null,null,null,null,null,null,null,null,7405076]
["1,2 - Budget Office",null,0,0,0,0,0,0,0,0,0,0,0,null,null,null,null,null,null,null,null,0]
["1,3 - Financial Services",null,86031446,83323316,0,0,0,0,-2146658,-2146658,81176658,89902860,92150433,null,null,null,null,null,null,null,null,83323316]
["1,4 - Internal Audit",null,0,0,0,0,0,0,0,0,0,0,0,null,null,null,null,null,null,null,null,0]
["1,5 - Property Rates",null,5965001,4486001,0,0,0,0,0,0,4486001,6233426,6389262,null,null,null,null,null,null,null,null,4486001]
["1,6 - Risk Management",null,0,0,0,0,0,0,0,0,0,0,0,null,null,null,null,null,null,null,null,0]
["1,7 - SCM",null,4957150,5056673,0,0,0,0,-104143,-104143,4952530,5180220,5309724,null,null,null,null,null,null,null,null,5056673]
["1,8 - Valuation Services",null,1757306,1709383,0,0,0,0,-7124,-7124,1702259,1836384,1882294,null,null,null,null,null,null,null,null,1709383]
["1,9 - [Name of sub-vote]",null,0,0,0,0,0,0,0,0,0,0,0,null,null,null,null,null,null,null,null,0]
["1.10 - [Name of sub-vote]",null,0,0,0,0,0,0,0,0,0,0,0,null,null,null,null,null,null,null,null,0]
["Vote 2 - Community Services",null,187974234,198597743,0,0,0,0,-5643424,-5643424,192954319,196132864,200869406,null,null,null,null,null,null,null,null,198597743]
["2,1 - Cemeteries",null,1196014,1061714,0,0,0,0,-318683,-318683,743031,1249836,1281084,null,null,null,null,null,null,null,null,1061714]
["2,2 - Libraries",null,9569694,9392361,0,0,0,0,-394334,-394334,8998027,10000329,10250334,null,null,null,null,null,null,null,null,9392361]
["2,3 - Community Services",null,6624893,8557532,0,0,0,0,-462405,-462405,8095127,6876102,7021942,null,null,null,null,null,null,null,null,8557532]
["2,4 - Town Administration",null,34603274,33552516,0,0,0,0,-943810,-943810,32608706,36119193,36999266,null,null,null,null,null,null,null,null,33552516]
["2,5 - Sustainable Development",null,60000,304234,0,0,0,0,-35875,-35875,268359,62700,64267,null,null,null,null,null,null,null,null,304234]
["2,6 - Fleet",null,5425599,6131553,0,0,0,0,25999,25999,6157552,5669755,5811507,null,null,null,null,null,null,null,null,6131553]
["2,7 - Property Services",null,9060426,7853569,0,0,0,0,-120448,-120448,7733121,9468141,9704843,null,null,null,null,null,null,null,null,7853569]
["2,8 - Sports and Culture",null,485834,1620954,0,0,0,0,-925480,-925480,695474,507699,520393,null,null,null,null,null,null,null,null,1620954]
["2,9 - Roads and Stormwater",null,36830955,35807113,0,0,0,0,-714739,-714739,35092374,38276251,39115328,null,null,null,null,null,null,null,null,35807113]
["2.10 - Parks and Gardens",null,10015873,9079843,0,0,0,0,-107077,-107077,8972766,10466590,10728254,null,null,null,null,null,null,null,null,9079843]
[{"$f":"A29","v":"2.11 - Disaster Management"},null,2812510,3355579,0,0,0,0,-43076,-43076,3312503,2939071,3012549,null,null,null,null,null,null,null,null,3355579]
["2.12 - Pollution Control",null,60000,60000,0,0,0,0,-60000,-60000,0,62700,64267,null,null,null,null,null,null,null,null,60000]
["2.13 - Nature Reserve",null,1104039,941547,0,0,0,0,-163819,-163819,777728,1153722,1182565,null,null,null,null,null,null,null,null,941547]
["2.14 - Community Halls",null,1899504,1761297,0,0,0,0,-153996,-153996,1607301,1984985,2034609,null,null,null,null,null,null,null,null,1761297]
["2.15 - Traffic Services",null,40477665,51579764,0,0,0,0,-63888,-63888,51515876,42299169,43356653,null,null,null,null,null,null,null,null,51579764]
["2.16 - Law Enforcement",null,14791388,14781512,0,0,0,0,-180784,-180784,14600728,15457003,15843431,null,null,null,null,null,null,null,null,14781512]
["2.17 - Motor Licensing and Testing Station",null,11298643,11160556,0,0,0,0,-372015,-372015,10788541,11807086,12102266,null,null,null,null,null,null,null,null,11160556]
["2.18 - Animal Control and Pounds",null,1657923,1596099,0,0,0,0,-608994,-608994,987105,1732532,1775848,null,null,null,null,null,null,null,null,1596099]
[{"$f":"A37","v":"Vote 3 - Corporate services"},null,90148096,94225725,0,0,0,0,-1450458,-1450458,92775267,94167745,96471377,null,null,null,null,null,null,null,null,94225725]
["3,1 - Administration: Planning",null,0,0,0,0,0,0,0,0,0,0,0,null,null,null,null,null,null,null,null,0]
["3,2 - Administration: Technical Services",null,0,0,0,0,0,0,0,0,0,0,0,null,null,null,null,null,null,null,null,0]
["3,3 - Community Halls",null,0,0,0,0,0,0,0,0,0,0,0,null,null,null,null,null,null,null,null,0]
["3,4 - Directorate: Corporate Services",null,0,0,0,0,0,0,0,0,0,0,0,null,null,null,null,null,null,null,null,0]
["3,5 - Human Resources",null,18986769,19450525,0,0,0,0,-26179,-26179,19424346,19841175,20337210,null,null,null,null,null,null,null,null,19450525]
["3,6 - IT Services",null,16707403,17500257,0,0,0,0,-854497,-854497,16645760,17422217,17807207,null,null,null,null,null,null,null,null,17500257]
["3,7 - Legal Services",null,5032453,6136937,0,0,0,0,-91420,-91420,6045517,5258914,5390386,null,null,null,null,null,null,null,null,6136937]
["3,8 - Property Services",null,0,0,0,0,0,0,0,0,0,0,0,null,null,null,null,null,null,null,null,0]
["3,9 - Corporate services",null,28060468,25632547,0,0,0,0,-130718,-130718,25501829,29323188,30056268,null,null,null,null,null,null,null,null,25632547]
["3,10 - Occupational Health and Safety",null,0,0,0,0,0,0,0,0,0,0,0,null,null,null,null,null,null,null,null,0]
["3.11 - Council Support",null,21361003,25505459,0,0,0,0,-347644,-347644,25157815,22322251,22880306,null,null,null,null,null,null,null,null,25505459]
["Vote 4 - Electricity",null,182675121,186732909,0,0,0,0,-86252,-86252,186646657,190734453,195413326,null,null,null,null,null,null,null,null,186732909]
["4,1 - Electricity: Distribution",null,173135606,181534542,0,0,0,0,-86252,-86252,181448290,180765656,185195313,null,null,null,null,null,null,null,null,181534542]
["4,2 - Electricity: Street Lights",null,9539515,5198367,0,0,0,0,0,0,5198367,9968797,10218013,null,null,null,null,null,null,null,null,5198367]
[0,null,0,0,0,0,0,0,0,0,0,0,0,null,null,null,null,null,null,null,null,0]
[{"$f":"A60","v":"Vote 5 - Economic Development and Planning"},null,42297361,51299269,0,0,0,0,-739213,-739213,50560056,42023263,43071693,null,null,null,null,null,null,null,null,51299269]
["5,1 - Economic Development and Planning",null,1552019,3797464,0,0,0,0,109362,109362,3906826,1621860,1662407,null,null,null,null,null,null,null,null,3797464]
["5,2 - Human Settlements",null,10835265,19802061,0,0,0,0,-486225,-486225,19315836,9149252,9377984,null,null,null,null,null,null,null,null,19802061]
["5,3 - Informal Settlements",null,7234135,6938123,0,0,0,0,24977,24977,6963100,7559674,7748668,null,null,null,null,null,null,null,null,6938123]
["5,4 - Town Planning",null,7616461,7269566,0,0,0,0,37421,37421,7306987,7959203,8158184,null,null,null,null,null,null,null,null,7269566]
["5,5 - Building Control",null,5041421,4524432,0,0,0,0,157638,157638,4682070,5268288,5399997,null,null,null,null,null,null,null,null,4524432]
["5,6 - Property Management",null,2423042,2660118,0,0,0,0,-494389,-494389,2165729,2528193,2589238,null,null,null,null,null,null,null,null,2660118]
["5,7 - LED",null,7355017,5892052,0,0,0,0,-72997,-72997,5819055,7685992,7878144,null,null,null,null,null,null,null,null,5892052]
["5,8 - Tourism",null,240001,415453,0,0,0,0,-15000,-15000,400453,250801,257071,null,null,null,null,null,null,null,null,415453]
["5,9 - [Name of sub-vote]",null,0,0,0,0,0,0,0,0,0,0,0,null,null,null,null,null,null,null,null,0]
["5.10 - [Name of sub-vote]",null,0,0,0,0,0,0,0,0,0,0,0,null,null,null,null,null,null,null,null,0]
["Vote 6 - Office of the Municipal Manager",null,9712643,9825600,0,0,0,0,-141621,-141621,9683979,10149712,10403459,null,null,null,null,null,null,null,null,9825600]
["6,1 - Administration: Towns",null,0,0,0,0,0,0,0,0,0,0,0,null,null,null,null,null,null,null,null,0]
["6,2 - Council General Expenses",null,0,0,0,0,0,0,0,0,0,0,0,null,null,null,null,null,null,null,null,0]
["6,3 - Municipal Manager",null,5009010,4866214,0,0,0,0,-136098,-136098,4730116,5234414,5365275,null,null,null,null,null,null,null,null,4866214]
["6,4 - Internal Audit",null,3322437,3330452,0,0,0,0,-7989,-7989,3322463,3471948,3558748,null,null,null,null,null,null,null,null,3330452]
["6,5 - Strategic Support and IDP",null,1381196,1628934,0,0,0,0,2466,2466,1631400,1443350,1479436,null,null,null,null,null,null,null,null,1628934]
["6,6 - [Name of sub-vote]",null,0,0,0,0,0,0,0,0,0,0,0,null,null,null,null,null,null,null,null,0]
["6,7 - [Name of sub-vote]",null,0,0,0,0,0,0,0,0,0,0,0,null,null,null,null,null,null,null,null,0]
["6,8 - [Name of sub-vote]",null,0,0,0,0,0,0,0,0,0,0,0,null,null,null,null,null,null,null,null,0]
["6,9 - [Name of sub-vote]",null,0,0,0,0,0,0,0,0,0,0,0,null,null,null,null,null,null,null,null,0]
["6.10 - [Name of sub-vote]",null,0,0,0,0,0,0,0,0,0,0,0,null,null,null,null,null,null,null,null,0]
["Vote 7 - Housing",null,0,0,0,0,0,0,0,0,0,0,0,null,null,null,null,null,null,null,null,0]
["7,1 - Administration: Housing",null,0,0,0,0,0,0,0,0,0,0,0,null,null,null,null,null,null,null,null,0]
["7,2 - Informal Settlements",null,0,0,0,0,0,0,0,0,0,0,0,null,null,null,null,null,null,null,null,0]
["7,3 - [Name of sub-vote]",null,0,0,0,0,0,0,0,0,0,0,0,null,null,null,null,null,null,null,null,0]
["7,4 - [Name of sub-vote]",null,0,0,0,0,0,0,0,0,0,0,0,null,null,null,null,null,null,null,null,0]
["7,5 - [Name of sub-vote]",null,0,0,0,0,0,0,0,0,0,0,0,null,null,null,null,null,null,null,null,0]
["7,6 - [Name of sub-vote]",null,0,0,0,0,0,0,0,0,0,0,0,null,null,null,null,null,null,null,null,0]
["7,7 - [Name of sub-vote]",null,0,0,0,0,0,0,0,0,0,0,0,null,null,null,null,null,null,null,null,0]
["7,8 - [Name of sub-vote]",null,0,0,0,0,0,0,0,0,0,0,0,null,null,null,null,null,null,null,null,0]
["7,9 - [Name of sub-vote]",null,0,0,0,0,0,0,0,0,0,0,0,null,null,null,null,null,null,null,null,0]
[{"$f":"A92","v":"7.10 - [Name of sub-vote]"},null,0,0,0,0,0,0,0,0,0,0,0,null,null,null,null,null,null,null,null,0]
["Vote 8 - Technical and Infrastructure Implementation Services",null,25413563,22733660,0,0,0,0,-3259480,-3259480,19474180,16107176,16509861,null,null,null,null,null,null,null,null,22733660]
["8,1 - Building Control",null,0,0,0,0,0,0,0,0,0,0,0,null,null,null,null,null,null,null,null,0]
["8,2 - IDP/SDBIP",null,0,0,0,0,0,0,0,0,0,0,0,null,null,null,null,null,null,null,null,0]
["8,3 - LED",null,0,0,0,0,0,0,0,0,0,0,0,null,null,null,null,null,null,null,null,0]
["8,4 - Property Management",null,0,0,0,0,0,0,0,0,0,0,0,null,null,null,null,null,null,null,null,0]
["8,5 - Tourism",null,0,0,0,0,0,0,0,0,0,0,0,null,null,null,null,null,null,null,null,0]
["8,6 - Town Planning",null,0,0,0,0,0,0,0,0,0,0,0,null,null,null,null,null,null,null,null,0]
["8,7 - Proclaimed Roads",null,145000,7705000,0,0,0,0,-2799930,-2799930,4905070,151525,155313,null,null,null,null,null,null,null,null,7705000]
["8,8 - Director: Technical Services and Planning",null,0,0,0,0,0,0,0,0,0,0,0,null,null,null,null,null,null,null,null,0]
["8,9 - Human Settlements",null,10000000,128382,0,0,0,0,0,0,128382,0,0,null,null,null,null,null,null,null,null,128382]
["8.10 - Technical and Infrastructure Implementation Services",null,15268563,14900278,0,0,0,0,-459550,-459550,14440728,15955651,16354548,null,null,null,null,null,null,null,null,14900278]
["Vote 9 - Public safety",null,0,0,0,0,0,0,0,0,0,0,0,null,null,null,null,null,null,null,null,0]
["9,1 - Animal Control",null,0,0,0,0,0,0,0,0,0,0,0,null,null,null,null,null,null,null,null,0]
["9,2 - Disaster Management",null,0,0,0,0,0,0,0,0,0,0,0,null,null,null,null,null,null,null,null,0]
["9,3 - Law Enforcement",null,0,0,0,0,0,0,0,0,0,0,0,null,null,null,null,null,null,null,null,0]
["9,4 - Pound",null,0,0,0,0,0,0,0,0,0,0,0,null,null,null,null,null,null,null,null,0]
["9,5 - Traffic Services",null,0,0,0,0,0,0,0,0,0,0,0,null,null,null,null,null,null,null,null,0]
[0,null,0,0,0,0,0,0,0,0,0,0,0,null,null,null,null,null,null,null,null,0]
[{"$f":"#REF!","v":{"$error":"#REF!"}},null,0,0,0,0,0,0,0,0,0,0,0,null,null,null,null,null,null,null,null,0]
[{"$f":"#REF!","v":{"$error":"#REF!"}},null,0,0,0,0,0,0,0,0,0,0,0,null,null,null,null,null,null,null,null,0]
[{"$f":"#REF!","v":{"$error":"#REF!"}},null,0,0,0,0,0,0,0,0,0,0,0,null,null,null,null,null,null,null,null,0]
[{"$f":"#REF!","v":{"$error":"#REF!"}},null,0,0,0,0,0,0,0,0,0,0,0,null,null,null,null,null,null,null,null,0]
[{"$f":"A111","v":"Vote 10 - Road transport"},null,0,0,0,0,0,0,0,0,0,0,0,null,null,null,null,null,null,null,null,0]
[{"$f":"A112","v":"10,1 - Proclaimed Roads"},null,0,0,0,0,0,0,0,0,0,0,0,null,null,null,null,null,null,null,null,0]
[{"$f":"A113","v":"10,2 - Roads"},null,0,0,0,0,0,0,0,0,0,0,0,null,null,null,null,null,null,null,null,0]
[{"$f":"A114","v":"10,3 - Vehicle Licensing and Testing"},null,0,0,0,0,0,0,0,0,0,0,0,null,null,null,null,null,null,null,null,0]
[{"$f":"A115","v":0},null,0,0,0,0,0,0,0,0,0,0,0,null,null,null,null,null,null,null,null,0]
[{"$f":"#REF!","v":{"$error":"#REF!"}},null,0,0,0,0,0,0,0,0,0,0,0,null,null,null,null,null,null,null,null,0]
[{"$f":"#REF!","v":{"$error":"#REF!"}},null,0,0,0,0,0,0,0,0,0,0,0,null,null,null,null,null,null,null,null,0]
[{"$f":"#REF!","v":{"$error":"#REF!"}},null,0,0,0,0,0,0,0,0,0,0,0,null,null,null,null,null,null,null,null,0]
[{"$f":"#REF!","v":{"$error":"#REF!"}},null,0,0,0,0,0,0,0,0,0,0,0,null,null,null,null,null,null,null,null,0]
[{"$f":"#REF!","v":{"$error":"#REF!"}},null,0,0,0,0,0,0,0,0,0,0,0,null,null,null,null,null,null,null,null,0]
[{"$f":"#REF!","v":{"$error":"#REF!"}},null,0,0,0,0,0,0,0,0,0,0,0,null,null,null,null,null,null,null,null,0]
[{"$f":"A116","v":"Vote 11 - Sport and recreation"},null,0,0,0,0,0,0,0,0,0,0,0,null,null,null,null,null,null,null,null,0]
[{"$f":"A117","v":"11,1 - Nature Reserve"},null,0,0,0,0,0,0,0,0,0,0,0,null,null,null,null,null,null,null,null,0]
[{"$f":"A118","v":"11,2 - Parks and Gardens"},null,0,0,0,0,0,0,0,0,0,0,0,null,null,null,null,null,null,null,null,0]
[{"$f":"A119","v":"11,3 - Sport and Recreation"},null,0,0,0,0,0,0,0,0,0,0,0,null,null,null,null,null,null,null,null,0]
[{"$f":"A120","v":0},null,0,0,0,0,0,0,0,0,0,0,0,null,null,null,null,null,null,null,null,0]
[{"$f":"#REF!","v":{"$error":"#REF!"}},null,0,0,0,0,0,0,0,0,0,0,0,null,null,null,null,null,null,null,null,0]
[{"$f":"#REF!","v":{"$error":"#REF!"}},null,0,0,0,0,0,0,0,0,0,0,0,null,null,null,null,null,null,null,null,0]
[{"$f":"#REF!","v":{"$error":"#REF!"}},null,0,0,0,0,0,0,0,0,0,0,0,null,null,null,null,null,null,null,null,0]
[{"$f":"#REF!","v":{"$error":"#REF!"}},null,0,0,0,0,0,0,0,0,0,0,0,null,null,null,null,null,null,null,null,0]
[{"$f":"#REF!","v":{"$error":"#REF!"}},null,0,0,0,0,0,0,0,0,0,0,0,null,null,null,null,null,null,null,null,0]
[{"$f":"#REF!","v":{"$error":"#REF!"}},null,0,0,0,0,0,0,0,0,0,0,0,null,null,null,null,null,null,null,null,0]
[{"$f":"A121","v":"Vote 12 - Waste management"},null,80161619,80544331,0,0,0,0,-147897,-147897,80396434,83607614,85608217,null,null,null,null,null,null,null,null,80544331]
["12,1 - Refuse Removal",null,33248481,38054482,0,0,0,0,8502,8502,38062984,34722614,35578436,null,null,null,null,null,null,null,null,38054482]
["12,2 - Refuse Sites",null,4686534,3734843,0,0,0,0,8914,8914,3743757,4897430,5019868,null,null,null,null,null,null,null,null,3734843]
["12,3 - Street Cleansing",null,3466018,3224563,0,0,0,0,-165313,-165313,3059250,3621988,3712541,null,null,null,null,null,null,null,null,3224563]
["12,4 - Refuse Removal (Head Office)",null,16548661,15584805,0,0,0,0,0,0,15584805,17293350,17725684,null,null,null,null,null,null,null,null,15584805]
["12,5 - Refuse Sites (Head Office)",null,22211925,19945638,0,0,0,0,0,0,19945638,23072232,23571688,null,null,null,null,null,null,null,null,19945638]
["12,6 - Street Cleansing (Head Office)",null,0,0,0,0,0,0,0,0,0,0,0,null,null,null,null,null,null,null,null,0]
[0,null,0,0,0,0,0,0,0,0,0,0,0,null,null,null,null,null,null,null,null,0]
[{"$f":"#REF!","v":{"$error":"#REF!"}},null,0,0,0,0,0,0,0,0,0,0,0,null,null,null,null,null,null,null,null,0]
[{"$f":"#REF!","v":{"$error":"#REF!"}},null,0,0,0,0,0,0,0,0,0,0,0,null,null,null,null,null,null,null,null,0]
[{"$f":"#REF!","v":{"$error":"#REF!"}},null,0,0,0,0,0,0,0,0,0,0,0,null,null,null,null,null,null,null,null,0]
[{"$f":"A129","v":"Vote 13 - Waste water management"},null,67498809,70867941,0,0,0,0,7862,7862,70875803,70113379,71631293,null,null,null,null,null,null,null,null,70867941]
["13,1 - Sewerage: Networks",null,23007743,23851743,0,0,0,0,343660,343660,24195403,24043091,24644175,null,null,null,null,null,null,null,null,23851743]
["13,2 - Sewerage: Tank Services",null,5209620,4683265,0,0,0,0,-131649,-131649,4551616,5444055,5580155,null,null,null,null,null,null,null,null,4683265]
["13,3 - Sewerage: Treatment Works",null,9155498,10185232,0,0,0,0,-588149,-588149,9597083,9567495,9806690,null,null,null,null,null,null,null,null,10185232]
["13,4 - Sewerage: Networks (Head Office)",null,29655102,31734579,0,0,0,0,384000,384000,32118579,30566703,31095937,null,null,null,null,null,null,null,null,31734579]
["13,5 - Sewerage: Treatment Works (Head Office)",null,470846,413122,0,0,0,0,0,0,413122,492035,504336,null,null,null,null,null,null,null,null,413122]
["13,6 - Sewerage: Tank Services (Head Office)",null,0,0,0,0,0,0,0,0,0,0,0,null,null,null,null,null,null,null,null,0]
[0,null,0,0,0,0,0,0,0,0,0,0,0,null,null,null,null,null,null,null,null,0]
["Vote 14 - Water",null,92653753,103357620,0,0,0,0,-380007,-380007,102977613,96496844,98727977,null,null,null,null,null,null,null,null,103357620]
["14,1 - Water: Distribution",null,40555239,46455888,0,0,0,0,324940,324940,46780828,42380225,43439737,null,null,null,null,null,null,null,null,46455888]
["14,2 - Water: Treatment Works",null,13043943,15861593,0,0,0,0,-62607,-62607,15798986,13630924,13971698,null,null,null,null,null,null,null,null,15861593]
["14,3 - Water: Distribution (Head Office)",null,36708938,38754433,0,0,0,0,0,0,38754433,38088073,38888738,null,null,null,null,null,null,null,null,38754433]
["14,4 - Water: Treatment Works (Head Office)",null,2345633,2285706,0,0,0,0,-642340,-642340,1643366,2397622,2427804,null,null,null,null,null,null,null,null,2285706]
[0,null,0,0,0,0,0,0,0,0,0,0,0,null,null,null,null,null,null,null,null,0]
["Vote 15 - Directorate Development and Community Services",null,0,0,0,0,0,0,0,0,0,0,0,null,null,null,null,null,null,null,null,0]
["15,1 - Director: Development and Community Services",null,0,0,0,0,0,0,0,0,0,0,0,null,null,null,null,null,null,null,null,0]
["15,2 - Council Support",null,0,0,0,0,0,0,0,0,0,0,0,null,null,null,null,null,null,null,null,0]
["15,3 - LED",null,0,0,0,0,0,0,0,0,0,0,0,null,null,null,null,null,null,null,null,0]
["15,4 - Tourism",null,0,0,0,0,0,0,0,0,0,0,0,null,null,null,null,null,null,null,null,0]
["15,5 - IT Services",null,0,0,0,0,0,0,0,0,0,0,0,null,null,null,null,null,null,null,null,0]
["15,6 - Legal Services",null,0,0,0,0,0,0,0,0,0,0,0,null,null,null,null,null,null,null,null,0]
["15,7 - Sports and Culture",null,0,0,0,0,0,0,0,0,0,0,0,null,null,null,null,null,null,null,null,0]
["15,8 - Town Administration",null,0,0,0,0,0,0,0,0,0,0,0,null,null,null,null,null,null,null,null,0]
["15,9 - Human Resources",null,0,0,0,0,0,0,0,0,0,0,0,null,null,null,null,null,null,null,null,0]
["15.10 - Risk Management",null,0,0,0,0,0,0,0,0,0,0,0,null,null,null,null,null,null,null,null,0]
["    15.11 - Property Management",null,0,0,0,0,0,0,0,0,0,0,0,null,null,null,null,null,null,null,null,0]
["    15.12 - Informal Settlements",null,0,0,0,0,0,0,0,0,0,0,0,null,null,null,null,null,null,null,null,0]
["    15.13 - Roads and Stormwater",null,0,0,0,0,0,0,0,0,0,0,0,null,null,null,null,null,null,null,null,0]
["    15.14 - Fleet",null,0,0,0,0,0,0,0,0,0,0,0,null,null,null,null,null,null,null,null,0]
["    15.15 - Parks and Gardens",null,0,0,0,0,0,0,0,0,0,0,0,null,null,null,null,null,null,null,null,0]
["    15.16 - Disaster Management",null,0,0,0,0,0,0,0,0,0,0,0,null,null,null,null,null,null,null,null,0]
["    15.17 - Pollution Control",null,0,0,0,0,0,0,0,0,0,0,0,null,null,null,null,null,null,null,null,0]
["    15.18 - Nature Reserve",null,0,0,0,0,0,0,0,0,0,0,0,null,null,null,null,null,null,null,null,0]
["    15.19 - Cemeteries",null,0,0,0,0,0,0,0,0,0,0,0,null,null,null,null,null,null,null,null,0]
["    15.20 - Community Halls",null,0,0,0,0,0,0,0,0,0,0,0,null,null,null,null,null,null,null,null,0]
["    15.21 - Library Services",null,0,0,0,0,0,0,0,0,0,0,0,null,null,null,null,null,null,null,null,0]
["    15.22 - Traffic Services",null,0,0,0,0,0,0,0,0,0,0,0,null,null,null,null,null,null,null,null,0]
["    15.23 - Law Enforcement",null,0,0,0,0,0,0,0,0,0,0,0,null,null,null,null,null,null,null,null,0]
["    15.24 - Motor Licensing and Testing Station",null,0,0,0,0,0,0,0,0,0,0,0,null,null,null,null,null,null,null,null,0]
["    15.25 - Animal Control and Pounds",null,0,0,0,0,0,0,0,0,0,0,0,null,null,null,null,null,null,null,null,0]
["    15.26 - Sustainable Development",null,0,0,0,0,0,0,0,0,0,0,0,null,null,null,null,null,null,null,null,0]
[null,null,0,0,0,0,0,0,0,0,0,0,0,null,null,null,null,null,null,null,null,0]
["Total Expenditure by Vote",2,884103200,920165247,0,0,0,0,-14203449,-14203449,905961798,909664955,931488118,null,null,null,null,null,null,null,null,920165247]
[]
[{"$f":"result","v":"Surplus/ (Deficit) for the year"},2,38733284,72812390,0,0,0,0,-3542191,-3542191,69270199,106827730,113623579,null,null,null,null,null,null,null,null,72812390.000000045]
[{"$f":"head27a","v":"References"}]
["1. Insert 'Vote'; e.g. Department, if different to standard structure"]
["2. Must reconcile to Financial Performance ('Revenue and Expenditure by Standard Classification' and 'Revenue and Expenditure')",null,null,null,null,null,null,null,null,null,{"$f":"SUM(#REF!)/2","v":{"$error":"#REF!"}},{"$f":"SUM(#REF!)","v":{"$error":"#REF!"}},{"$f":"SUM(#REF!)","v":{"$error":"#REF!"}},null,null,null,null,null,null,null,null,-72812390]
["3. Assign share in 'associate' to relevant Vote",null,null,null,null,null,null,null,null,null,{"$f":"K355+K352","v":{"$error":"#REF!"}},{"$f":"L355+L352","v":{"$error":"#REF!"}},{"$f":"M355+M352","v":{"$error":"#REF!"}},null,null,null,null,null,null,null,null,0]

{"sheet":"B4-FinPerf RE","index":11,"n_rows":76,"n_cols":22,"rows_kept":76,"cut":false,"hidden":false,"merged":[[1,2,1,10],[1,1,3,1],[74,0,74,12],[67,0,67,12],[68,0,68,12],[69,0,69,12],[70,0,70,12],[72,0,72,12],[1,0,3,0]]}
[{"$f":"muni&\" - \"&_ADJ4&\" - \"&Date","v":"WC031 Theewaterskloof - Table B4 Adjustments Budget Financial Performance (revenue and expenditure) - 16 April 2026"}]
[{"$f":"desc","v":"Description"},{"$f":"head27","v":"Ref"},{"$f":"Head2","v":"Budget Year 2025/26"},null,null,null,null,null,null,null,null,{"$f":"Head10","v":"Budget Year +1 2026/27"},{"$f":"Head11","v":"Budget Year +2 2027/28"}]
[null,null,{"$f":"Head6","v":"Original Budget"},{"$f":"Head54","v":"Prior Adjusted"},{"$f":"Head51","v":"Accum. Funds"},{"$f":"Head52","v":"Multi-year capital"},{"$f":"Head53","v":"Unfore. Unavoid."},{"$f":"Head55","v":"Nat. or Prov. Govt"},{"$f":"Head50","v":"Other Adjusts."},{"$f":"Head56","v":"Total Adjusts."},{"$f":"Head7","v":"Adjusted Budget"},{"$f":"Head7","v":"Adjusted Budget"},{"$f":"Head7","v":"Adjusted Budget"},null,null,null,null,null,null,null,null,"Adjusted Budget"]
[null,null,null,3,4,5,6,7,8,9,10,null,null,null,null,null,null,null,null,null,null,10]
["R thousands",1,"A","A1","B","C","D","E","F","G","H",null,null,null,null,null,null,null,null,null,null,"H"]
["Revenue By Source"]
["Exchange Revenue"]
["Service charges - Electricity",2,170078035,165981000,0,0,0,0,0,0,165981000,177731545,182174832,null,null,null,null,null,null,null,null,165981000]
["Service charges - Water",2,103719960,115999000,0,0,0,0,0,0,115999000,108387359,111097042,null,null,null,null,null,null,null,null,115999000]
["Service charges - Waste Water Management",2,49741650,49988000,0,0,0,0,0,0,49988000,51980024,53279524,null,null,null,null,null,null,null,null,49988000]
["Service charges - Waste Management",2,46548600,46603000,0,0,0,0,0,0,46603000,48643287,49859369,null,null,null,null,null,null,null,null,46603000]
["Sale of Goods and Rendering of Services",null,26616068,18420628,0,0,0,0,-9532350,-9532350,8888278,27813792,28509139,null,null,null,null,null,null,null,null,18420628]
["Agency services",null,8417407,8417407,0,0,0,0,0,0,8417407,8796190,9016094,null,null,null,null,null,null,null,null,8417407]
["Interest",null,0,0,0,0,0,0,0,0,0,0,0,null,null,null,null,null,null,null,null,0]
["Interest earned from Receivables",null,27661000,26380000,0,0,0,0,0,0,26380000,28905745,29628389,null,null,null,null,null,null,null,null,26380000]
["Interest earned from Current and Non Current Assets",null,6169069,3300000,0,0,0,0,0,0,3300000,6446677,6607844,null,null,null,null,null,null,null,null,3300000]
["Dividends",null,0,0,0,0,0,0,0,0,0,0,0,null,null,null,null,null,null,null,null,0]
["Rent on Land",null,0,0,0,0,0,0,0,0,0,0,0,null,null,null,null,null,null,null,null,0]
["Rental from Fixed Assets",null,2076000,2076000,0,0,0,0,0,0,2076000,2169420,2223656,null,null,null,null,null,null,null,null,2076000]
["Special rating levies",null,0,0,0,0,0,0,0,0,0,0,0,null,null,null,null,null,null,null,null,0]
["Licence and permits",null,76000,76000,0,0,0,0,0,0,76000,79420,81405,null,null,null,null,null,null,null,null,76000]
["Operational Revenue",null,4055241,5427320,0,0,0,0,0,0,5427320,4237727,4343670,null,null,null,null,null,null,null,null,5427320]
["Non-Exchange Revenue"]
["Property rates",2,173070423,170753000,0,0,0,0,0,0,170753000,180858592,185380056,null,null,null,null,null,null,null,null,170753000]
["Surcharges and Taxes",null,0,0,0,0,0,0,0,0,0,0,0,null,null,null,null,null,null,null,null,0]
["Fines, penalties and forfeits",null,27812457,43941424,0,0,0,0,0,0,43941424,27871383,27905593,null,null,null,null,null,null,null,null,43941424]
["Licences or permits",null,0,0,0,0,0,0,0,0,0,0,0,null,null,null,null,null,null,null,null,0]
["Transfer and subsidies - Operational",null,182289609,190425151,0,0,0,0,-4273558,-4273558,186151593,176434180.30434781,184627286.47826087,null,null,null,null,null,null,null,null,190425151]
["Interest",null,4554000,3679000,0,0,0,0,0,0,3679000,4758930,4877903,null,null,null,null,null,null,null,null,3679000]
["Fuel Levy",null,0,0,0,0,0,0,0,0,0,0,0,null,null,null,null,null,null,null,null,0]
["Operational Revenue",null,12003410,21447000,0,0,0,0,0,0,21447000,12543563,12857153,null,null,null,null,null,null,null,null,21447000]
["Gains on disposal of Assets",null,114164,114154,0,0,0,0,0,0,114154,119281,122283,null,null,null,null,null,null,null,null,114154]
["Other Gains",null,5546000,3840000,0,0,0,0,0,0,3840000,5795570,5940459,null,null,{"$f":"K33-K50","v":159900},null,null,null,null,null,3840000]
["Discontinued Operations",null,0,0,0,0,0,0,0,0,0,0,0,null,null,null,null,null,null,null,null,0]
["Total Revenue (excluding capital transfers and contributions)",null,850549093,876868084,0,0,0,0,-13805908,-13805908,863062176,873572685.30434775,898531697.47826087,null,null,null,null,null,null,null,null,876868084]
[]
["Expenditure By Type"]
["Employee related costs",null,315821111,315416465,0,0,0,0,-1720653,-1720653,313695812,330033053,338283901,null,null,null,null,null,null,null,null,315416465]
["Remuneration of councillors",null,15017379,15017379,0,0,0,0,0,0,15017379,15693161,16085489,null,null,null,null,null,null,null,null,15017379]
["Bulk purchases - electricity",null,139206740,139206740,0,0,0,0,0,0,139206740,145471043,149107819,null,null,null,null,null,null,null,null,139206740]
["Inventory consumed",null,41789812,46956247,0,0,0,0,-1116283,-1116283,45839964,43670378,44762156,null,null,null,null,null,null,null,null,46956247]
["Debt impairment",null,116591150,110914000,0,0,0,0,0,0,110914000,121837752,124883697,null,null,null,null,null,null,null,null,110914000]
["Depreciation and amortisation",null,35541317,43847541,0,0,0,0,0,0,43847541,35541317,35511317,null,null,null,null,null,null,null,null,43847541]
["Interest ",null,47550598,54458598,0,0,0,0,0,0,54458598,49690374,50932634,null,null,null,null,null,null,null,null,54458598]
["Contracted services",null,60428978,73142706,0,0,0,0,-9052429,-9052429,64090277,63148318,64727051,null,null,null,null,null,null,null,null,73142706]
["Transfers and subsidies",null,12080001,11549087,0,0,0,0,0,0,11549087,1,1,null,null,null,null,null,null,null,null,11549087]
["Irrecoverable debts written off",null,5,16650005,0,0,0,0,0,0,16650005,5,5,null,null,null,null,null,null,null,null,16650005]
["Operational costs",null,94465699,89261969,0,0,0,0,-2314084,-2314084,86947885,98716675,101184598,null,null,null,null,null,null,null,null,89261969]
["Losses on disposal of Assets",null,64410,64410,0,0,0,0,0,0,64410,67308,68991,null,null,null,null,null,null,null,null,64410]
["Other Losses",null,5546000,3680100,0,0,0,0,0,0,3680100,5795570,5940459,null,null,null,null,null,null,null,null,3680100]
["Total Expenditure",null,884103200,920165247,0,0,0,0,-14203449,-14203449,905961798,909664955,931488118,null,null,null,null,null,null,null,null,920165247]
[]
["Surplus/(Deficit)",null,-33554107,-43297163,0,0,0,0,397541,397541,-42899622,-36092269.695652246,-32956420.521739125,null,null,null,null,null,null,null,null,-43297163]
["Transfers and subsidies - capital (monetary allocations)",null,72237391,35973553,0,0,0,0,-3939732,-3939732,32033821,142919999.69565219,146579999.5217391,null,{"$f":"K54-'B5-Capex'!K72","v":0},null,null,null,null,null,null,35973553]
["Transfers and subsidies - capital (in-kind - all) ",null,50000,80136000,0,0,0,0,0,0,80136000,0,0,null,null,null,null,null,null,null,null,80136000]
["Surplus/(Deficit) before taxation",null,38733284,72812390,0,0,0,0,-3542191,-3542191,69270199,106827729.99999994,113623578.99999997,null,null,null,null,null,null,null,null,72812390]
["Income Tax",null,0,0,0,0,0,0,0,0,0,0,0,null,null,null,null,null,null,null,null,0]
["Surplus/(Deficit) after taxation",null,38733284,72812390,0,0,0,0,-3542191,-3542191,69270199,106827729.99999994,113623578.99999997,null,null,null,null,null,null,null,null,72812390]
["Share of Surplus/Deficit attributable to Joint Venture"]
["Share of Surplus/Deficit attributable to Minorities",null,0,0,0,0,0,0,0,0,0,0,0,null,null,null,null,null,null,null,null,0]
["Surplus/(Deficit) attributable to municipality",null,38733284,72812390,0,0,0,0,-3542191,-3542191,69270199,106827729.99999994,113623578.99999997,null,null,null,null,null,null,null,null,72812390]
["Share of Surplus/Deficit attributable to Associate",null,0,0,0,0,0,0,0,0,0,0,0,null,null,null,null,null,null,null,null,0]
["Intercompany/Parent subsidiary transactions",null,0,0,0,0,0,0,0,0,0,0,0,null,null,null,null,null,null,null,null,0]
["Surplus/ (Deficit) for the year",1,38733284,72812390,0,0,0,0,-3542191,-3542191,69270199,106827729.99999994,113623578.99999997,null,null,null,null,null,null,null,null,72812390]
[{"$f":"head27a","v":"References"}]
["1. Classifications are revenue sources and expenditure type",null,null,null,null,null,null,null,null,null,{"$f":"SUM(#REF!)/2","v":{"$error":"#REF!"}},{"$f":"SUM(#REF!)","v":{"$error":"#REF!"}},{"$f":"SUM(#REF!)","v":{"$error":"#REF!"}},null,null,null,null,null,null,null,null,-72812390]
["2. Detail to be provided in Table SB1",null,null,null,null,null,null,null,null,null,{"$f":"K66+K64","v":{"$error":"#REF!"}},{"$f":"L66+L64","v":{"$error":"#REF!"}},{"$f":"M66+M64","v":{"$error":"#REF!"}},null,null,null,null,null,null,null,null,0]
["3. Only complete if a previous adjusted budget has been approved in the same financial year. Reflect most recent adjusted budget."]
["4. Additional cash-backed accumulated funds/unspent funds (MFMA section 18(1)(b) and section 28(2)(e)) identified after the Original Budget approved and after annual financial statements audited (note: only where underspending could not reasonably have been foreseen)"]
["5. Increases of funds approved under MFMA section 31"]
["6. Adjustments approved in accordance with MFMA section 29 "]
["7. Adjustments to transfers from National or Provincial Government"]
["8. Adjusts. = 'Other' Adjustments proposed to be approved; including revenue under-collection (MFMA section 28(2)(a)); additional revenue appropriation on existing programmes (section 28(2))(b); projected savings (section 28(2)(d)); error correction (section 28(2)(f))"]
["9. G = B + C + D + E + F"]
["10. Adjusted Budget H = (A or A1/2 etc) + G"]
["11 Operational revenue is a summary of imatereial item that are on the chart not on the face of the A4 due to imateriality."]

{"sheet":"B5-Capex","index":12,"n_rows":91,"n_cols":22,"rows_kept":91,"cut":false,"hidden":false,"merged":[[88,0,88,12],[1,0,2,0],[1,1,2,1],[78,0,78,12],[1,2,1,10],[79,0,79,11],[80,0,80,11],[81,0,81,12],[82,0,82,12],[83,0,83,12],[84,0,84,12],[86,0,86,12]]}
[{"$f":"muni&\" - \"&_ADJ5&\" - \"&Date","v":"WC031 Theewaterskloof - Table B5 Adjustments Capital Expenditure Budget by vote and funding - 16 April 2026"}]
[{"$f":"desc","v":"Description"},{"$f":"head27","v":"Ref"},{"$f":"Head2","v":"Budget Year 2025/26"},null,null,null,null,null,null,null,null,{"$f":"Head10","v":"Budget Year +1 2026/27"},{"$f":"Head11","v":"Budget Year +2 2027/28"}]
[null,null,{"$f":"Head6","v":"Original Budget"},{"$f":"Head54","v":"Prior Adjusted"},{"$f":"Head51","v":"Accum. Funds"},{"$f":"Head52","v":"Multi-year capital"},{"$f":"Head53","v":"Unfore. Unavoid."},{"$f":"Head55","v":"Nat. or Prov. Govt"},{"$f":"Head50","v":"Other Adjusts."},{"$f":"Head56","v":"Total Adjusts."},{"$f":"Head7","v":"Adjusted Budget"},{"$f":"Head7","v":"Adjusted Budget"},{"$f":"Head7","v":"Adjusted Budget"},null,null,null,null,null,null,null,null,"Adjusted Budget"]
[null,null,null,5,6,7,8,9,10,11,12,null,null,null,null,null,null,null,null,null,null,12]
["R thousands",null,"A","A1","B","C","D","E","F","G","H",null,null,null,null,null,null,null,null,null,null,"H"]
["Capital expenditure - Vote"]
["Multi-year expenditure to be adjusted",2]
[{"$f":"B5B!A8","v":"Vote 1 - Directorate Finance"},null,0,0,0,0,0,0,0,0,0,0,0,null,null,null,null,null,null,null,null,0]
[{"$f":"B5B!A19","v":"Vote 2 - Community Services"},null,0,574966.5,0,0,0,0,302210.5,302210.5,877177,0,0,null,null,null,null,null,null,null,null,574966.5]
[{"$f":"B5B!A38","v":"Vote 3 - Corporate services"},null,0,0,0,0,0,0,0,0,0,0,0,null,null,null,null,null,null,null,null,0]
[{"$f":"B5B!A50","v":"Vote 4 - Electricity"},null,0,1277437,0,0,0,0,-1277437,-1277437,0,6000000,6271000,null,null,null,null,null,null,null,null,1277437]
[{"$f":"B5B!A61","v":"Vote 5 - Economic Development and Planning"},null,37079000,44700000,0,0,0,0,617742,617742,45317742,71380000,110200000,null,null,null,null,null,null,null,null,44700000]
[{"$f":"B5B!A72","v":"Vote 6 - Office of the Municipal Manager"},null,0,0,0,0,0,0,0,0,0,0,0,null,null,null,null,null,null,null,null,0]
[{"$f":"B5B!A83","v":"Vote 7 - Housing"},null,0,0,0,0,0,0,0,0,0,0,0,null,null,null,null,null,null,null,null,0]
[{"$f":"B5B!A94","v":"Vote 8 - Technical and Infrastructure Implementation Services"},null,0,0,0,0,0,0,0,0,0,0,0,null,null,null,null,null,null,null,null,0]
[{"$f":"B5B!A105","v":"Vote 9 - Public safety"},null,0,0,0,0,0,0,0,0,0,0,0,null,null,null,null,null,null,null,null,0]
[{"$f":"B5B!A116","v":"Vote 10 - Road transport"},null,0,0,0,0,0,0,0,0,0,0,0,null,null,null,null,null,null,null,null,0]
[{"$f":"B5B!A127","v":"Vote 11 - Sport and recreation"},null,0,0,0,0,0,0,0,0,0,0,0,null,null,null,null,null,null,null,null,0]
[{"$f":"B5B!A138","v":"Vote 12 - Waste management"},null,0,0,0,0,0,0,0,0,0,0,0,null,null,null,null,null,null,null,null,0]
[{"$f":"B5B!A149","v":"Vote 13 - Waste water management"},null,13594457,16413731.808695652,0,0,0,0,0.19130434840917587,0.19130434840917587,16413732,21652722.304347821,3608696,null,null,null,null,null,null,null,null,16413731.808695652]
[{"$f":"B5B!A160","v":"Vote 14 - Water"},null,0,1300000,0,0,0,0,0,0,1300000,0,5351274.5217391299,null,null,null,null,null,null,null,null,1300000]
[{"$f":"B5B!A171","v":"Vote 15 - Directorate Development and Community Services"},null,0,0,0,0,0,0,0,0,0,0,0,null,null,null,null,null,null,null,null,0]
["Capital multi-year expenditure sub-total",3,50673457,64266135.308695652,0,0,0,0,-357484.30869565159,-357484.30869565159,63908651,99032722.304347813,125430970.52173913,null,null,null,null,null,null,null,null,64266135.308695652]
[]
["Single-year expenditure to be adjusted",2]
[{"$f":"B5B!A203","v":"Vote 1 - Directorate Finance"},null,110000,2650000,0,0,0,0,-88434,-88434,2561566,0,0,null,null,null,null,null,null,null,null,2650000]
[{"$f":"B5B!A214","v":"Vote 2 - Community Services"},null,6400000,5000362,0,0,0,0,0,0,5000362,0,0,null,null,null,null,null,null,null,null,5000362]
[{"$f":"B5B!A233","v":"Vote 3 - Corporate services"},null,364000,514000,0,0,0,0,-44000,-44000,470000,0,0,null,null,null,null,null,null,null,null,514000]
[{"$f":"B5B!A245","v":"Vote 4 - Electricity"},null,0,0,0,0,0,0,0,0,0,0,0,null,null,null,null,null,null,null,null,0]
[{"$f":"B5B!A256","v":"Vote 5 - Economic Development and Planning"},null,8209340.074,34908752,0,0,0,0,0,0,34908752,36640000,0,null,null,null,null,null,null,null,null,34908752]
[{"$f":"B5B!A267","v":"Vote 6 - Office of the Municipal Manager"},null,0,0,0,0,0,0,0,0,0,0,0,null,null,null,null,null,null,null,null,0]
[{"$f":"B5B!A278","v":"Vote 7 - Housing"},null,0,0,0,0,0,0,0,0,0,0,0,null,null,null,null,null,null,null,null,0]
[{"$f":"B5B!A289","v":"Vote 8 - Technical and Infrastructure Implementation Services"},null,0,1550000,0,0,0,0,-1100000,-1100000,450000,0,0,null,null,null,null,null,null,null,null,1550000]
[{"$f":"B5B!A300","v":"Vote 9 - Public safety"},null,0,0,0,0,0,0,0,0,0,0,0,null,null,null,null,null,null,null,null,0]
[{"$f":"B5B!A311","v":"Vote 10 - Road transport"},null,0,0,0,0,0,0,0,0,0,0,0,null,null,null,null,null,null,null,null,0]
[{"$f":"B5B!A322","v":"Vote 11 - Sport and recreation"},null,0,0,0,0,0,0,0,0,0,0,0,null,null,null,null,null,null,null,null,0]
[{"$f":"B5B!A333","v":"Vote 12 - Waste management"},null,0,0,0,0,0,0,0,0,0,0,0,null,null,null,null,null,null,null,null,0]
[{"$f":"B5B!A344","v":"Vote 13 - Waste water management"},null,10792571.949999999,9997609.9478260875,0,0,0,0,-2662294.9478260875,-2662294.9478260875,7335315,7810969.04565218,7869318.4782608673,null,null,null,null,null,null,null,null,9997609.9478260875]
[{"$f":"B5B!A355","v":"Vote 14 - Water"},null,12280970.69565217,3588886.96,0,0,0,0,4.0000000037252903E-2,4.0000000037252903E-2,3588887,8224221.6500000004,18736711,null,null,null,null,null,null,null,null,3588886.9600000009]
[{"$f":"B5B!A366","v":"Vote 15 - Directorate Development and Community Services"},null,0,0,0,0,0,0,0,0,0,0,0,null,null,null,null,null,null,null,null,0]
["Capital single-year expenditure sub-total",null,38156882.719652168,58209610.907826088,0,0,0,0,-3894728.9078260874,-3894728.9078260874,54314882,52675190.695652179,26606029.478260867,null,null,null,null,null,null,null,null,58209610.907826088]
["Total Capital Expenditure - Vote",null,88830339.719652176,122475746.21652174,0,0,0,0,-4252213.216521739,-4252213.216521739,118223533,151707913,152037000,114414752.08,null,null,null,null,null,null,null,122475746.21652174]
[]
["Capital Expenditure - Functional"]
["Governance and administration",null,6874000,7714362,0,0,0,0,-132434,-132434,7581928,0,0,null,null,null,null,null,null,null,null,7714362]
["Executive and council",null,0,0,0,0,0,0,0,0,0,0,0,null,null,null,null,null,null,null,null,0]
["Finance and administration",null,6874000,7714362,0,0,0,0,-132434,-132434,7581928,0,0,null,null,null,null,null,null,null,null,7714362]
["Internal audit",null,0,0,0,0,0,0,0,0,0,0,0,null,null,null,null,null,null,null,null,0]
["Community and public safety",null,45288340.073999994,79699306.5,0,0,0,0,919952.5,919952.5,80619259,108020000,110200000,null,null,null,null,null,null,null,null,79699306.5]
["Community and social services",null,0,400000,0,0,0,0,0,0,400000,0,0,null,null,null,null,null,null,null,null,400000]
["Sport and recreation",null,0,574966.5,0,0,0,0,302210.5,302210.5,877177,0,0,null,null,null,null,null,null,null,null,574966.5]
["Public safety",null,0,0,0,0,0,0,0,0,0,0,0,null,null,null,null,null,null,null,null,0]
["Housing",null,45288340.073999994,78724340,0,0,0,0,617742,617742,79342082,108020000,110200000,null,null,null,null,null,null,null,null,78724340]
["Health",null,0,0,0,0,0,0,0,0,0,0,0,null,null,null,null,null,null,null,null,0]
["Economic and environmental services",null,0,2484412,0,0,0,0,-1100000,-1100000,1384412,0,0,null,null,null,null,null,null,null,null,2484412]
["Planning and development",null,0,2484412,0,0,0,0,-1100000,-1100000,1384412,0,0,null,null,null,null,null,null,null,null,2484412]
["Road transport",null,0,0,0,0,0,0,0,0,0,0,0,null,null,null,null,null,null,null,null,0]
["Environmental protection",null,0,0,0,0,0,0,0,0,0,0,0,null,null,null,null,null,null,null,null,0]
["Trading services",null,36667999.645652167,32577665.71652174,0,0,0,0,-3939731.716521739,-3939731.716521739,28637934,43687913,41837000,null,null,null,null,null,null,null,null,32577665.71652174]
["Energy sources",null,0,1277437,0,0,0,0,-1277437,-1277437,0,6000000,6271000,null,null,null,null,null,null,null,null,1277437]
["Water management",null,12280970.69565217,4888886.96,0,0,0,0,4.0000000037252903E-2,4.0000000037252903E-2,4888887,8224221.6500000004,24087985.521739129,null,null,null,null,null,null,null,null,4888886.96]
["Waste water management",null,24387028.949999999,26411341.756521739,0,0,0,0,-2662294.7565217391,-2662294.7565217391,23749047,29463691.350000001,11478014.478260867,null,null,null,null,null,null,null,null,26411341.756521739]
["Waste management",null,0,0,0,0,0,0,0,0,0,0,0,null,null,null,null,null,null,null,null,0]
["Other",null,0,0,0,0,0,0,0,0,0,0,0,null,null,null,null,null,null,null,null,0]
["Total Capital Expenditure - Functional",3,88830339.719652161,122475746.21652174,0,0,0,0,-4252213.216521739,-4252213.216521739,118223533,151707913,152037000,null,null,null,null,null,null,null,null,122475746.21652174]
[]
["Funded by:"]
["National Government",null,27537390.949999999,32139140.756521739,0,0,0,0,-3939731.7565217391,-3939731.7565217391,28199409,34899999.695652179,36379999.521739133,null,null,null,null,null,null,null,null,32139140.756521739]
["Provincial Government",null,44700000,3834412,0,0,0,0,0,0,3834412,108020000,110200000,null,null,null,null,null,null,null,null,3834412]
["District Municipality",null,0,0,0,0,0,0,0,0,0,0,0,null,null,null,null,null,null,null,null,0]
["Transfers and subsidies - capital (monetary allocations) (Nat / Prov Departm Agencies, Households, Non-profit Institutions, Private Enterprises, Public Corporatons, Higher Educ Institutions)",null,0,0,0,0,0,0,0,0,0,0,0,null,null,null,null,null,null,null,null,0]
["Transfers recognised - capital",4,72237390.950000003,35973552.756521739,0,0,0,0,-3939731.7565217391,-3939731.7565217391,32033821,142919999.69565219,146579999.52173913,null,null,null,null,null,null,null,null,35973552.756521739]
[]
["Borrowing",null,10000000,1E-8,0,0,0,0,-1E-8,-1E-8,0,0,0,null,null,null,null,null,null,null,null,0]
["Internally generated funds",null,6592948.7696521701,86502193.460000008,0,0,0,0,-312481.46000000834,-312481.46000000834,86189712,8787913.3043478206,5457000.4782608673,null,null,null,null,null,null,null,null,86502193.460000008]
["Total Capital Funding",null,88830339.719652176,122475746.21652175,0,0,0,0,-4252213.2165217567,-4252213.2165217567,118223533,151707913,152037000,null,null,null,null,null,null,null,null,122475746.21652174]
[{"$f":"head27a","v":"References"},null,88830339.719652176,122475746.21652175,0,0,0,0,-4252213.2165217567,-4252213.2165217567,118223533,151707913,152037000]
["1. Municipalities may choose to appropriate for capital expenditure for three years or for one year (if one year appropriation projected expenditure required for yr2 and yr3).",null,null,null,null,null,null,null,null,null,{"$f":"#REF!","v":{"$error":"#REF!"}},null,null,null,null,null,null,null,null,null,null,122475746.21652174]
[]
["3. Capital expenditure by standard classification must reconcile to the appropriations by vote"]
["4. Must reconcile to supporting table SB7 and to Adjustments Budget Financial Performance (revenue and expenditure)"]
["5. Only complete if a previous adjusted budget has been approved in the same financial year. Reflect most recent adjusted budget."]
["6. Additional cash-backed accumulated funds/unspent funds (MFMA section 18(1)(b) and section 28(2)(e)) identified after the Original Budget approved and after annual financial statements audited (note: only where underspending could not reasonably have been foreseen)"]
["7. Increases of funds approved under MFMA section 31"]
["8. Adjustments approved in accordance with MFMA section 29 "]
["9. Adjustments to transfers from National or Provincial Government",null,null,null,null,null,null,null,null,null,{"$f":"K76-K78","v":{"$error":"#REF!"}},null,null,null,null,null,null,null,null,null,null,0]
["10. Adjusts. = 'Other' Adjustments proposed to be approved; including revenue under-collection (MFMA section 28(2)(a)); additional revenue appropriation on existing programmes (section 28(2))(b); projected savings (section 28(2)(d)); error correction (section 28(2)(f))"]
["11. G = B + C + D + E + F"]
["12. Adjusted Budget H = (A or A1/2 etc) + G"]
[]
["check balance",null,{"$f":"C65-C76","v":0},{"$f":"D65-D76","v":0},{"$f":"E65-E76","v":0},null,null,{"$f":"H65-H76","v":0},1.7695128917694092E-8,1.7695128917694092E-8,0,0,0,null,null,null,null,null,null,null,null,0]

{"sheet":"B5B","index":13,"n_rows":401,"n_cols":22,"rows_kept":401,"cut":false,"hidden":false,"merged":[[1,0,2,0],[1,1,4,1],[1,2,1,10]]}
[{"$f":"muni&\" - \"&_ADJ5&\" - B\"&\" - \"&Date","v":"WC031 Theewaterskloof - Table B5 Adjustments Capital Expenditure Budget by vote and funding - B - 16 April 2026"}]
[{"$f":"Vdesc","v":"Vote Description"},{"$f":"head27","v":"Ref"},{"$f":"Head2","v":"Budget Year 2025/26"},null,null,null,null,null,null,null,null,{"$f":"Head10","v":"Budget Year +1 2026/27"},{"$f":"Head11","v":"Budget Year +2 2027/28"}]
[null,null,{"$f":"Head6","v":"Original Budget"},{"$f":"Head54","v":"Prior Adjusted"},{"$f":"Head51","v":"Accum. Funds"},{"$f":"Head52","v":"Multi-year capital"},{"$f":"Head53","v":"Unfore. Unavoid."},{"$f":"Head55","v":"Nat. or Prov. Govt"},{"$f":"Head50","v":"Other Adjusts."},{"$f":"Head56","v":"Total Adjusts."},{"$f":"Head7","v":"Adjusted Budget"},{"$f":"Head7","v":"Adjusted Budget"},{"$f":"Head7","v":"Adjusted Budget"},null,null,null,null,null,null,null,null,"Adjusted Budget"]
["[Insert departmental structure etc]",null,null,3,4,5,6,7,8,9,10,null,null,null,null,null,null,null,null,null,null,10]
["R thousands",null,"A","A1","B","C","D","E","F","G","H",null,null,null,null,null,null,null,null,null,null,"H"]
["Capital expenditure - Municipal Vote"]
["Multi-year expenditure appropriation",2]
[{"$f":"'Org structure'!A2","v":"Vote 1 - Directorate Finance"},null,0,0,0,0,0,0,0,0,0,0,0,null,null,null,null,null,null,null,null,0]
[{"$f":"'Org structure'!E3","v":"1,1 - Asset Management"},null,0,0,0,0,0,0,0,0,0,0,0,null,null,null,null,null,null,null,null,0]
[{"$f":"'Org structure'!E4","v":"1,2 - Budget Office"},null,0,0,0,0,0,0,0,0,0,0,0,null,null,null,null,null,null,null,null,0]
[{"$f":"'Org structure'!E5","v":"1,3 - Financial Services"},null,0,0,0,0,0,0,0,0,0,0,0,null,null,null,null,null,null,null,null,0]
[{"$f":"'Org structure'!E6","v":"1,4 - Internal Audit"},null,0,0,0,0,0,0,0,0,0,0,0,null,null,null,null,null,null,null,null,0]
[{"$f":"'Org structure'!E7","v":"1,5 - Property Rates"},null,0,0,0,0,0,0,0,0,0,0,0,null,null,null,null,null,null,null,null,0]
[{"$f":"'Org structure'!E8","v":"1,6 - Risk Management"},null,0,0,0,0,0,0,0,0,0,0,0,null,null,null,null,null,null,null,null,0]
[{"$f":"'Org structure'!E9","v":"1,7 - SCM"},null,0,0,0,0,0,0,0,0,0,0,0,null,null,null,null,null,null,null,null,0]
[{"$f":"'Org structure'!E10","v":"1,8 - Valuation Services"},null,0,0,0,0,0,0,0,0,0,0,0,null,null,null,null,null,null,null,null,0]
[{"$f":"'Org structure'!E11","v":"1,9 - [Name of sub-vote]"},null,0,0,0,0,0,0,0,0,0,0,0,null,null,null,null,null,null,null,null,0]
[{"$f":"'Org structure'!E12","v":"1.10 - [Name of sub-vote]"},null,0,0,0,0,0,0,0,0,0,0,0,null,null,null,null,null,null,null,null,0]
[{"$f":"'Org structure'!A3","v":"Vote 2 - Community Services"},null,0,574966.5,0,0,0,0,302210.5,302210.5,877177,0,0,null,null,null,null,null,null,null,null,574966.5]
[{"$f":"'Org structure'!E14","v":"2,1 - Cemeteries"},null,0,0,0,0,0,0,0,0,0,0,0,null,null,null,null,null,null,null,null,0]
[{"$f":"'Org structure'!E15","v":"2,2 - Libraries"},null,0,0,0,0,0,0,0,0,0,0,0,null,null,null,null,null,null,null,null,0]
[{"$f":"'Org structure'!E16","v":"2,3 - Community Services"},null,0,0,0,0,0,0,0,0,0,0,0,null,null,null,null,null,null,null,null,0]
[{"$f":"'Org structure'!E17","v":"2,4 - Town Administration"},null,0,0,0,0,0,0,0,0,0,0,0,null,null,null,null,null,null,null,null,0]
[{"$f":"'Org structure'!E18","v":"2,5 - Sustainable Development"},null,0,0,0,0,0,0,0,0,0,0,0,null,null,null,null,null,null,null,null,0]
[{"$f":"'Org structure'!E19","v":"2,6 - Fleet"},null,0,0,0,0,0,0,0,0,0,0,0,null,null,null,null,null,null,null,null,0]
[{"$f":"'Org structure'!E20","v":"2,7 - Property Services"},null,0,0,0,0,0,0,0,0,0,0,0,null,null,null,null,null,null,null,null,0]
[{"$f":"'Org structure'!E21","v":"2,8 - Sports and Culture"},null,0,574966.5,0,0,0,0,302210.5,302210.5,877177,0,0,null,null,null,null,null,null,null,null,574966.5]
[{"$f":"'Org structure'!E22","v":"2,9 - Roads and Stormwater"},null,0,0,0,0,0,0,0,0,0,0,0,null,null,null,null,null,null,null,null,0]
[{"$f":"'Org structure'!E23","v":"2.10 - Parks and Gardens"},null,0,0,0,0,0,0,0,0,0,0,0,null,null,null,null,null,null,null,null,0]
[{"$f":"'Org structure'!E24","v":"2.11 - Disaster Management"},null,0,0,0,0,0,0,0,0,0,0,0,null,null,null,null,null,null,null,null,0]
[{"$f":"'Org structure'!E25","v":"2.12 - Pollution Control"},null,0,0,0,0,0,0,0,0,0,0,0,null,null,null,null,null,null,null,null,0]
[{"$f":"'Org structure'!E26","v":"2.13 - Nature Reserve"},null,0,0,0,0,0,0,0,0,0,0,0,null,null,null,null,null,null,null,null,0]
[{"$f":"'Org structure'!E27","v":"2.14 - Community Halls"},null,0,0,0,0,0,0,0,0,0,0,0,null,null,null,null,null,null,null,null,0]
[{"$f":"'Org structure'!E28","v":"2.15 - Traffic Services"},null,0,0,0,0,0,0,0,0,0,0,0,null,null,null,null,null,null,null,null,0]
[{"$f":"'Org structure'!E29","v":"2.16 - Law Enforcement"},null,0,0,0,0,0,0,0,0,0,0,0,null,null,null,null,null,null,null,null,0]
[{"$f":"'Org structure'!E30","v":"2.17 - Motor Licensing and Testing Station"},null,0,0,0,0,0,0,0,0,0,0,0,null,null,null,null,null,null,null,null,0]
[{"$f":"'Org structure'!E31","v":"2.18 - Animal Control and Pounds"},null,0,0,0,0,0,0,0,0,0,0,0,null,null,null,null,null,null,null,null,0]
[{"$f":"'Org structure'!A4","v":"Vote 3 - Corporate services"},null,0,0,0,0,0,0,0,0,0,0,0,null,null,null,null,null,null,null,null,0]
[{"$f":"'Org structure'!E33","v":"3,1 - Administration: Planning"},null,0,0,0,0,0,0,0,0,0,0,0,null,null,null,null,null,null,null,null,0]
[{"$f":"'Org structure'!E34","v":"3,2 - Administration: Technical Services"},null,0,0,0,0,0,0,0,0,0,0,0,null,null,null,null,null,null,null,null,0]
[{"$f":"'Org structure'!E35","v":"3,3 - Community Halls"},null,0,0,0,0,0,0,0,0,0,0,0,null,null,null,null,null,null,null,null,0]
[{"$f":"'Org structure'!E36","v":"3,4 - Directorate: Corporate Services"},null,0,0,0,0,0,0,0,0,0,0,0,null,null,null,null,null,null,null,null,0]
[{"$f":"'Org structure'!E37","v":"3,5 - Human Resources"},null,0,0,0,0,0,0,0,0,0,0,0,null,null,null,null,null,null,null,null,0]
[{"$f":"'Org structure'!E38","v":"3,6 - IT Services"},null,0,0,0,0,0,0,0,0,0,0,0,null,null,null,null,null,null,null,null,0]
[{"$f":"'Org structure'!E39","v":"3,7 - Legal Services"},null,0,0,0,0,0,0,0,0,0,0,0,null,null,null,null,null,null,null,null,0]
[{"$f":"'Org structure'!E40","v":"3,8 - Property Services"},null,0,0,0,0,0,0,0,0,0,0,0,null,null,null,null,null,null,null,null,0]
[{"$f":"'Org structure'!E41","v":"3,9 - Corporate services"},null,0,0,0,0,0,0,0,0,0,0,0,null,null,null,null,null,null,null,null,0]
[{"$f":"'Org structure'!E42","v":"3,10 - Occupational Health and Safety"},null,0,0,0,0,0,0,0,0,0,0,0,null,null,null,null,null,null,null,null,0]
[{"$f":"'Org structure'!E43","v":"3.11 - Council Support"},null,0,0,0,0,0,0,0,0,0,0,0,null,null,null,null,null,null,null,null,0]
[{"$f":"'Org structure'!A5","v":"Vote 4 - Electricity"},null,0,1277437,0,0,0,0,-1277437,-1277437,0,6000000,6271000,null,null,null,null,null,null,null,null,1277437]
[{"$f":"'Org structure'!E45","v":"4,1 - Electricity: Distribution"},null,0,1277437,0,0,0,0,-1277437,-1277437,0,6000000,6271000,null,null,null,null,null,null,null,null,1277437]
[{"$f":"'Org structure'!E46","v":"4,2 - Electricity: Street Lights"},null,0,0,0,0,0,0,0,0,0,0,0,null,null,null,null,null,null,null,null,0]
[{"$f":"'Org structure'!E47","v":0},null,0,0,0,0,0,0,0,0,0,0,0,null,null,null,null,null,null,null,null,0]
[{"$f":"'Org structure'!E48","v":0},null,0,0,0,0,0,0,0,0,0,0,0,null,null,null,null,null,null,null,null,0]
[{"$f":"'Org structure'!E49","v":0},null,0,0,0,0,0,0,0,0,0,0,0,null,null,null,null,null,null,null,null,0]
[{"$f":"'Org structure'!E50","v":0},null,0,0,0,0,0,0,0,0,0,0,0,null,null,null,null,null,null,null,null,0]
[{"$f":"'Org structure'!E51","v":0},null,0,0,0,0,0,0,0,0,0,0,0,null,null,null,null,null,null,null,null,0]
[{"$f":"'Org structure'!E52","v":0},null,0,0,0,0,0,0,0,0,0,0,0,null,null,null,null,null,null,null,null,0]
[{"$f":"'Org structure'!E53","v":0},null,0,0,0,0,0,0,0,0,0,0,0,null,null,null,null,null,null,null,null,0]
[{"$f":"'Org structure'!E54","v":0},null,0,0,0,0,0,0,0,0,0,0,0,null,null,null,null,null,null,null,null,0]
[{"$f":"'Org structure'!A6","v":"Vote 5 - Economic Development and Planning"},null,37079000,44700000,0,0,0,0,617742,617742,45317742,71380000,110200000,null,null,null,null,null,null,null,null,44700000]
[{"$f":"'Org structure'!E56","v":"5,1 - Economic Development and Planning"},null,0,0,0,0,0,0,0,0,0,0,0,null,null,null,null,null,null,null,null,0]
[{"$f":"'Org structure'!E57","v":"5,2 - Human Settlements"},null,37079000,44700000,0,0,0,0,617742,617742,45317742,71380000,110200000,null,null,null,null,null,null,null,null,44700000]
[{"$f":"'Org structure'!E58","v":"5,3 - Informal Settlements"},null,0,0,0,0,0,0,0,0,0,0,0,null,null,null,null,null,null,null,null,0]
[{"$f":"'Org structure'!E59","v":"5,4 - Town Planning"},null,0,0,0,0,0,0,0,0,0,0,0,null,null,null,null,null,null,null,null,0]
[{"$f":"'Org structure'!E60","v":"5,5 - Building Control"},null,0,0,0,0,0,0,0,0,0,0,0,null,null,null,null,null,null,null,null,0]
[{"$f":"'Org structure'!E61","v":"5,6 - Property Management"},null,0,0,0,0,0,0,0,0,0,0,0,null,null,null,null,null,null,null,null,0]
[{"$f":"'Org structure'!E62","v":"5,7 - LED"},null,0,0,0,0,0,0,0,0,0,0,0,null,null,null,null,null,null,null,null,0]
[{"$f":"'Org structure'!E63","v":"5,8 - Tourism"},null,0,0,0,0,0,0,0,0,0,0,0,null,null,null,null,null,null,null,null,0]
[{"$f":"'Org structure'!E64","v":"5,9 - [Name of sub-vote]"},null,0,0,0,0,0,0,0,0,0,0,0,null,null,null,null,null,null,null,null,0]
[{"$f":"'Org structure'!E65","v":"5.10 - [Name of sub-vote]"},null,0,0,0,0,0,0,0,0,0,0,0,null,null,null,null,null,null,null,null,0]
[{"$f":"'Org structure'!A7","v":"Vote 6 - Office of the Municipal Manager"},null,0,0,0,0,0,0,0,0,0,0,0,null,null,null,null,null,null,null,null,0]
[{"$f":"'Org structure'!E67","v":"6,1 - Administration: Towns"},null,0,0,0,0,0,0,0,0,0,0,0,null,null,null,null,null,null,null,null,0]
[{"$f":"'Org structure'!E68","v":"6,2 - Council General Expenses"},null,0,0,0,0,0,0,0,0,0,0,0,null,null,null,null,null,null,null,null,0]
[{"$f":"'Org structure'!E69","v":"6,3 - Municipal Manager"},null,0,0,0,0,0,0,0,0,0,0,0,null,null,null,null,null,null,null,null,0]
[{"$f":"'Org structure'!E70","v":"6,4 - Internal Audit"},null,0,0,0,0,0,0,0,0,0,0,0,null,null,null,null,null,null,null,null,0]
[{"$f":"'Org structure'!E71","v":"6,5 - Strategic Support and IDP"},null,0,0,0,0,0,0,0,0,0,0,0,null,null,null,null,null,null,null,null,0]
[{"$f":"'Org structure'!E72","v":"6,6 - [Name of sub-vote]"},null,0,0,0,0,0,0,0,0,0,0,0,null,null,null,null,null,null,null,null,0]
[{"$f":"'Org structure'!E73","v":"6,7 - [Name of sub-vote]"},null,0,0,0,0,0,0,0,0,0,0,0,null,null,null,null,null,null,null,null,0]
[{"$f":"'Org structure'!E74","v":"6,8 - [Name of sub-vote]"},null,0,0,0,0,0,0,0,0,0,0,0,null,null,null,null,null,null,null,null,0]
[{"$f":"'Org structure'!E75","v":"6,9 - [Name of sub-vote]"},null,0,0,0,0,0,0,0,0,0,0,0,null,null,null,null,null,null,null,null,0]
[{"$f":"'Org structure'!E76","v":"6.10 - [Name of sub-vote]"},null,0,0,0,0,0,0,0,0,0,0,0,null,null,null,null,null,null,null,null,0]
[{"$f":"'Org structure'!A8","v":"Vote 7 - Housing"},null,0,0,0,0,0,0,0,0,0,0,0,null,null,null,null,null,null,null,null,0]
[{"$f":"'Org structure'!E78","v":"7,1 - Administration: Housing"},null,0,0,0,0,0,0,0,0,0,0,0,null,null,null,null,null,null,null,null,0]
[{"$f":"'Org structure'!E79","v":"7,2 - Informal Settlements"},null,0,0,0,0,0,0,0,0,0,0,0,null,null,null,null,null,null,null,null,0]
[{"$f":"'Org structure'!E80","v":"7,3 - [Name of sub-vote]"},null,0,0,0,0,0,0,0,0,0,0,0,null,null,null,null,null,null,null,null,0]
[{"$f":"'Org structure'!E81","v":"7,4 - [Name of sub-vote]"},null,0,0,0,0,0,0,0,0,0,0,0,null,null,null,null,null,null,null,null,0]
[{"$f":"'Org structure'!E82","v":"7,5 - [Name of sub-vote]"},null,0,0,0,0,0,0,0,0,0,0,0,null,null,null,null,null,null,null,null,0]
[{"$f":"'Org structure'!E83","v":"7,6 - [Name of sub-vote]"},null,0,0,0,0,0,0,0,0,0,0,0,null,null,null,null,null,null,null,null,0]
[{"$f":"'Org structure'!E84","v":"7,7 - [Name of sub-vote]"},null,0,0,0,0,0,0,0,0,0,0,0,null,null,null,null,null,null,null,null,0]
[{"$f":"'Org structure'!E85","v":"7,8 - [Name of sub-vote]"},null,0,0,0,0,0,0,0,0,0,0,0,null,null,null,null,null,null,null,null,0]
[{"$f":"'Org structure'!E86","v":"7,9 - [Name of sub-vote]"},null,0,0,0,0,0,0,0,0,0,0,0,null,null,null,null,null,null,null,null,0]
[{"$f":"'Org structure'!E87","v":"7.10 - [Name of sub-vote]"},null,0,0,0,0,0,0,0,0,0,0,0,null,null,null,null,null,null,null,null,0]
[{"$f":"'Org structure'!A9","v":"Vote 8 - Technical and Infrastructure Implementation Services"},null,0,0,0,0,0,0,0,0,0,0,0,null,null,null,null,null,null,null,null,0]
[{"$f":"'Org structure'!E89","v":"8,1 - Building Control"},null,0,0,0,0,0,0,0,0,0,0,0,null,null,null,null,null,null,null,null,0]
[{"$f":"'Org structure'!E90","v":"8,2 - IDP/SDBIP"},null,0,0,0,0,0,0,0,0,0,0,0,null,null,null,null,null,null,null,null,0]
[{"$f":"'Org structure'!E91","v":"8,3 - LED"},null,0,0,0,0,0,0,0,0,0,0,0,null,null,null,null,null,null,null,null,0]
[{"$f":"'Org structure'!E92","v":"8,4 - Property Management"},null,0,0,0,0,0,0,0,0,0,0,0,null,null,null,null,null,null,null,null,0]
[{"$f":"'Org structure'!E93","v":"8,5 - Tourism"},null,0,0,0,0,0,0,0,0,0,0,0,null,null,null,null,null,null,null,null,0]
[{"$f":"'Org structure'!E94","v":"8,6 - Town Planning"},null,0,0,0,0,0,0,0,0,0,0,0,null,null,null,null,null,null,null,null,0]
[{"$f":"'Org structure'!E95","v":"8,7 - Proclaimed Roads"},null,0,0,0,0,0,0,0,0,0,0,0,null,null,null,null,null,null,null,null,0]
[{"$f":"'Org structure'!E96","v":"8,8 - Director: Technical Services and Planning"},null,0,0,0,0,0,0,0,0,0,0,0,null,null,null,null,null,null,null,null,0]
[{"$f":"'Org structure'!E97","v":"8,9 - Human Settlements"},null,0,0,0,0,0,0,0,0,0,0,0,null,null,null,null,null,null,null,null,0]
[{"$f":"'Org structure'!E98","v":"8.10 - Technical and Infrastructure Implementation Services"},null,0,0,0,0,0,0,0,0,0,0,0,null,null,null,null,null,null,null,null,0]
[{"$f":"'Org structure'!A10","v":"Vote 9 - Public safety"},null,0,0,0,0,0,0,0,0,0,0,0,null,null,null,null,null,null,null,null,0]
[{"$f":"'Org structure'!E100","v":"9,1 - Animal Control"},null,0,0,0,0,0,0,0,0,0,0,0,null,null,null,null,null,null,null,null,0]
[{"$f":"'Org structure'!E101","v":"9,2 - Disaster Management"},null,0,0,0,0,0,0,0,0,0,0,0,null,null,null,null,null,null,null,null,0]
[{"$f":"'Org structure'!E102","v":"9,3 - Law Enforcement"},null,0,0,0,0,0,0,0,0,0,0,0,null,null,null,null,null,null,null,null,0]
[{"$f":"'Org structure'!E103","v":"9,4 - Pound"},null,0,0,0,0,0,0,0,0,0,0,0,null,null,null,null,null,null,null,null,0]
[{"$f":"'Org structure'!E104","v":"9,5 - Traffic Services"},null,0,0,0,0,0,0,0,0,0,0,0,null,null,null,null,null,null,null,null,0]
[{"$f":"'Org structure'!E105","v":0},null,0,0,0,0,0,0,0,0,0,0,0,null,null,null,null,null,null,null,null,0]
[{"$f":"'Org structure'!E106","v":0},null,0,0,0,0,0,0,0,0,0,0,0,null,null,null,null,null,null,null,null,0]
[{"$f":"'Org structure'!E107","v":0},null,0,0,0,0,0,0,0,0,0,0,0,null,null,null,null,null,null,null,null,0]
[{"$f":"'Org structure'!E108","v":0},null,0,0,0,0,0,0,0,0,0,0,0,null,null,null,null,null,null,null,null,0]
[{"$f":"'Org structure'!E109","v":0},null,0,0,0,0,0,0,0,0,0,0,0,null,null,null,null,null,null,null,null,0]
[{"$f":"'Org structure'!A11","v":"Vote 10 - Road transport"},null,0,0,0,0,0,0,0,0,0,0,0,null,null,null,null,null,null,null,null,0]
[{"$f":"'Org structure'!E111","v":"10,1 - Proclaimed Roads"},null,0,0,0,0,0,0,0,0,0,0,0,null,null,null,null,null,null,null,null,0]
[{"$f":"'Org structure'!E112","v":"10,2 - Roads"},null,0,0,0,0,0,0,0,0,0,0,0,null,null,null,null,null,null,null,null,0]
[{"$f":"'Org structure'!E113","v":"10,3 - Vehicle Licensing and Testing"},null,0,0,0,0,0,0,0,0,0,0,0,null,null,null,null,null,null,null,null,0]
[{"$f":"'Org structure'!E114","v":0},null,0,0,0,0,0,0,0,0,0,0,0,null,null,null,null,null,null,null,null,0]
[{"$f":"'Org structure'!E115","v":0},null,0,0,0,0,0,0,0,0,0,0,0,null,null,null,null,null,null,null,null,0]
[{"$f":"'Org structure'!E116","v":0},null,0,0,0,0,0,0,0,0,0,0,0,null,null,null,null,null,null,null,null,0]
[{"$f":"'Org structure'!E117","v":0},null,0,0,0,0,0,0,0,0,0,0,0,null,null,null,null,null,null,null,null,0]
[{"$f":"'Org structure'!E118","v":0},null,0,0,0,0,0,0,0,0,0,0,0,null,null,null,null,null,null,null,null,0]
[{"$f":"'Org structure'!E119","v":0},null,0,0,0,0,0,0,0,0,0,0,0,null,null,null,null,null,null,null,null,0]
[{"$f":"'Org structure'!E120","v":0},null,0,0,0,0,0,0,0,0,0,0,0,null,null,null,null,null,null,null,null,0]
[{"$f":"'Org structure'!A12","v":"Vote 11 - Sport and recreation"},null,0,0,0,0,0,0,0,0,0,0,0,null,null,null,null,null,null,null,null,0]
[{"$f":"'Org structure'!E122","v":"11,1 - Nature Reserve"},null,0,0,0,0,0,0,0,0,0,0,0,null,null,null,null,null,null,null,null,0]
[{"$f":"'Org structure'!E123","v":"11,2 - Parks and Gardens"},null,0,0,0,0,0,0,0,0,0,0,0,null,null,null,null,null,null,null,null,0]
[{"$f":"'Org structure'!E124","v":"11,3 - Sport and Recreation"},null,0,0,0,0,0,0,0,0,0,0,0,null,null,null,null,null,null,null,null,0]
[{"$f":"'Org structure'!E125","v":0},null,0,0,0,0,0,0,0,0,0,0,0,null,null,null,null,null,null,null,null,0]
[{"$f":"'Org structure'!E126","v":0},null,0,0,0,0,0,0,0,0,0,0,0,null,null,null,null,null,null,null,null,0]
[{"$f":"'Org structure'!E127","v":0},null,0,0,0,0,0,0,0,0,0,0,0,null,null,null,null,null,null,null,null,0]
[{"$f":"'Org structure'!E128","v":0},null,0,0,0,0,0,0,0,0,0,0,0,null,null,null,null,null,null,null,null,0]
[{"$f":"'Org structure'!E129","v":0},null,0,0,0,0,0,0,0,0,0,0,0,null,null,null,null,null,null,null,null,0]
[{"$f":"'Org structure'!E130","v":0},null,0,0,0,0,0,0,0,0,0,0,0,null,null,null,null,null,null,null,null,0]
[{"$f":"'Org structure'!E131","v":0},null,0,0,0,0,0,0,0,0,0,0,0,null,null,null,null,null,null,null,null,0]
[{"$f":"'Org structure'!A13","v":"Vote 12 - Waste management"},null,0,0,0,0,0,0,0,0,0,0,0,null,null,null,null,null,null,null,null,0]
[{"$f":"'Org structure'!E133","v":"12,1 - Refuse Removal"},null,0,0,0,0,0,0,0,0,0,0,0,null,null,null,null,null,null,null,null,0]
[{"$f":"'Org structure'!E134","v":"12,2 - Refuse Sites"},null,0,0,0,0,0,0,0,0,0,0,0,null,null,null,null,null,null,null,null,0]
[{"$f":"'Org structure'!E135","v":"12,3 - Street Cleansing"},null,0,0,0,0,0,0,0,0,0,0,0,null,null,null,null,null,null,null,null,0]
[{"$f":"'Org structure'!E136","v":"12,4 - Refuse Removal (Head Office)"},null,0,0,0,0,0,0,0,0,0,0,0,null,null,null,null,null,null,null,null,0]
[{"$f":"'Org structure'!E137","v":"12,5 - Refuse Sites (Head Office)"},null,0,0,0,0,0,0,0,0,0,0,0,null,null,null,null,null,null,null,null,0]
[{"$f":"'Org structure'!E138","v":"12,6 - Street Cleansing (Head Office)"},null,0,0,0,0,0,0,0,0,0,0,0,null,null,null,null,null,null,null,null,0]
[{"$f":"'Org structure'!E139","v":0},null,0,0,0,0,0,0,0,0,0,0,0,null,null,null,null,null,null,null,null,0]
[{"$f":"'Org structure'!E140","v":0},null,0,0,0,0,0,0,0,0,0,0,0,null,null,null,null,null,null,null,null,0]
[{"$f":"'Org structure'!E141","v":0},null,0,0,0,0,0,0,0,0,0,0,0,null,null,null,null,null,null,null,null,0]
[{"$f":"'Org structure'!E142","v":0},null,0,0,0,0,0,0,0,0,0,0,0,null,null,null,null,null,null,null,null,0]
[{"$f":"'Org structure'!A14","v":"Vote 13 - Waste water management"},null,13594457,16413731.808695652,0,0,0,0,0.19130434840917587,0.19130434840917587,16413732,21652722.304347821,3608696,null,null,null,null,null,null,null,null,16413731.808695652]
[{"$f":"'Org structure'!E144","v":"13,1 - Sewerage: Networks"},null,0,0,0,0,0,0,0,0,0,0,0,null,null,null,null,null,null,null,null,0]
[{"$f":"'Org structure'!E145","v":"13,2 - Sewerage: Tank Services"},null,0,0,0,0,0,0,0,0,0,0,0,null,null,null,null,null,null,null,null,0]
[{"$f":"'Org structure'!E146","v":"13,3 - Sewerage: Treatment Works"},null,13594457,16413731.808695652,0,0,0,0,0.19130434840917587,0.19130434840917587,16413732,21652722.304347821,3608696,null,null,null,null,null,null,null,null,16413731.808695652]
[{"$f":"'Org structure'!E147","v":"13,4 - Sewerage: Networks (Head Office)"},null,0,0,0,0,0,0,0,0,0,0,0,null,null,null,null,null,null,null,null,0]
[{"$f":"'Org structure'!E148","v":"13,5 - Sewerage: Treatment Works (Head Office)"},null,0,0,0,0,0,0,0,0,0,0,0,null,null,null,null,null,null,null,null,0]
[{"$f":"'Org structure'!E149","v":"13,6 - Sewerage: Tank Services (Head Office)"},null,0,0,0,0,0,0,0,0,0,0,0,null,null,null,null,null,null,null,null,0]
[{"$f":"'Org structure'!E150","v":0},null,0,0,0,0,0,0,0,0,0,0,0,null,null,null,null,null,null,null,null,0]
[{"$f":"'Org structure'!E151","v":0},null,0,0,0,0,0,0,0,0,0,0,0,null,null,null,null,null,null,null,null,0]
[{"$f":"'Org structure'!E152","v":0},null,0,0,0,0,0,0,0,0,0,0,0,null,null,null,null,null,null,null,null,0]
[{"$f":"'Org structure'!E153","v":0},null,0,0,0,0,0,0,0,0,0,0,0,null,null,null,null,null,null,null,null,0]
[{"$f":"'Org structure'!A15","v":"Vote 14 - Water"},null,0,1300000,0,0,0,0,0,0,1300000,0,5351274.5217391299,null,null,null,null,null,null,null,null,1300000]
[{"$f":"'Org structure'!E155","v":"14,1 - Water: Distribution"},null,0,0,0,0,0,0,0,0,0,0,0,null,null,null,null,null,null,null,null,0]
[{"$f":"'Org structure'!E156","v":"14,2 - Water: Treatment Works"},null,0,1300000,0,0,0,0,0,0,1300000,0,5351274.5217391299,null,null,null,null,null,null,null,null,1300000]
[{"$f":"'Org structure'!E157","v":"14,3 - Water: Distribution (Head Office)"},null,0,0,0,0,0,0,0,0,0,0,0,null,null,null,null,null,null,null,null,0]
[{"$f":"'Org structure'!E158","v":"14,4 - Water: Treatment Works (Head Office)"},null,0,0,0,0,0,0,0,0,0,0,0,null,null,null,null,null,null,null,null,0]
[{"$f":"'Org structure'!E159","v":0},null,0,0,0,0,0,0,0,0,0,0,0,null,null,null,null,null,null,null,null,0]
[{"$f":"'Org structure'!E160","v":0},null,0,0,0,0,0,0,0,0,0,0,0,null,null,null,null,null,null,null,null,0]
[{"$f":"'Org structure'!E161","v":0},null,0,0,0,0,0,0,0,0,0,0,0,null,null,null,null,null,null,null,null,0]
[{"$f":"'Org structure'!E162","v":0},null,0,0,0,0,0,0,0,0,0,0,0,null,null,null,null,null,null,null,null,0]
[{"$f":"'Org structure'!E163","v":0},null,0,0,0,0,0,0,0,0,0,0,0,null,null,null,null,null,null,null,null,0]
[{"$f":"'Org structure'!E164","v":0},null,0,0,0,0,0,0,0,0,0,0,0,null,null,null,null,null,null,null,null,0]
[{"$f":"'Org structure'!A16","v":"Vote 15 - Directorate Development and Community Services"},null,0,0,0,0,0,0,0,0,0,0,0,null,null,null,null,null,null,null,null,0]
[{"$f":"'Org structure'!E166","v":"15,1 - Director: Development and Community Services"},null,0,0,0,0,0,0,0,0,0,0,0,null,null,null,null,null,null,null,null,0]
[{"$f":"'Org structure'!E167","v":"15,2 - Council Support"},null,0,0,0,0,0,0,0,0,0,0,0,null,null,null,null,null,null,null,null,0]
[{"$f":"'Org structure'!E168","v":"15,3 - LED"},null,0,0,0,0,0,0,0,0,0,0,0,null,null,null,null,null,null,null,null,0]
[{"$f":"'Org structure'!E169","v":"15,4 - Tourism"},null,0,0,0,0,0,0,0,0,0,0,0,null,null,null,null,null,null,null,null,0]
[{"$f":"'Org structure'!E170","v":"15,5 - IT Services"},null,0,0,0,0,0,0,0,0,0,0,0,null,null,null,null,null,null,null,null,0]
[{"$f":"'Org structure'!E171","v":"15,6 - Legal Services"},null,0,0,0,0,0,0,0,0,0,0,0,null,null,null,null,null,null,null,null,0]
[{"$f":"'Org structure'!E172","v":"15,7 - Sports and Culture"},null,0,0,0,0,0,0,0,0,0,0,0,null,null,null,null,null,null,null,null,0]
[{"$f":"'Org structure'!E173","v":"15,8 - Town Administration"},null,0,0,0,0,0,0,0,0,0,0,0,null,null,null,null,null,null,null,null,0]
[{"$f":"'Org structure'!E174","v":"15,9 - Human Resources"},null,0,0,0,0,0,0,0,0,0,0,0,null,null,null,null,null,null,null,null,0]
[{"$f":"'Org structure'!E175","v":"15.10 - Risk Management"},null,0,0,0,0,0,0,0,0,0,0,0,null,null,null,null,null,null,null,null,0]
[{"$f":"'Org structure'!E176","v":"    15.11 - Property Management"},null,0,0,0,0,0,0,0,0,0,0,0,null,null,null,null,null,null,null,null,0]
[{"$f":"'Org structure'!E177","v":"    15.12 - Informal Settlements"},null,0,0,0,0,0,0,0,0,0,0,0,null,null,null,null,null,null,null,null,0]
[{"$f":"'Org structure'!E178","v":"    15.13 - Roads and Stormwater"},null,0,0,0,0,0,0,0,0,0,0,0,null,null,null,null,null,null,null,null,0]
[{"$f":"'Org structure'!E179","v":"    15.14 - Fleet"},null,0,0,0,0,0,0,0,0,0,0,0,null,null,null,null,null,null,null,null,0]
[{"$f":"'Org structure'!E180","v":"    15.15 - Parks and Gardens"},null,0,0,0,0,0,0,0,0,0,0,0,null,null,null,null,null,null,null,null,0]
[{"$f":"'Org structure'!E181","v":"    15.16 - Disaster Management"},null,0,0,0,0,0,0,0,0,0,0,0,null,null,null,null,null,null,null,null,0]
[{"$f":"'Org structure'!E182","v":"    15.17 - Pollution Control"},null,0,0,0,0,0,0,0,0,0,0,0,null,null,null,null,null,null,null,null,0]
[{"$f":"'Org structure'!E183","v":"    15.18 - Nature Reserve"},null,0,0,0,0,0,0,0,0,0,0,0,null,null,null,null,null,null,null,null,0]
[{"$f":"'Org structure'!E184","v":"    15.19 - Cemeteries"},null,0,0,0,0,0,0,0,0,0,0,0,null,null,null,null,null,null,null,null,0]
[{"$f":"'Org structure'!E185","v":"    15.20 - Community Halls"},null,0,0,0,0,0,0,0,0,0,0,0,null,null,null,null,null,null,null,null,0]
[{"$f":"'Org structure'!E186","v":"    15.21 - Library Services"},null,0,0,0,0,0,0,0,0,0,0,0,null,null,null,null,null,null,null,null,0]
[{"$f":"'Org structure'!E187","v":"    15.22 - Traffic Services"},null,0,0,0,0,0,0,0,0,0,0,0,null,null,null,null,null,null,null,null,0]
[{"$f":"'Org structure'!E188","v":"    15.23 - Law Enforcement"},null,0,0,0,0,0,0,0,0,0,0,0,null,null,null,null,null,null,null,null,0]
[{"$f":"'Org structure'!E189","v":"    15.24 - Motor Licensing and Testing Station"},null,0,0,0,0,0,0,0,0,0,0,0,null,null,null,null,null,null,null,null,0]
[{"$f":"'Org structure'!E190","v":"    15.25 - Animal Control and Pounds"},null,0,0,0,0,0,0,0,0,0,0,0,null,null,null,null,null,null,null,null,0]
[{"$f":"'Org structure'!E191","v":"    15.26 - Sustainable Development"},null,0,0,0,0,0,0,0,0,0,0,0,null,null,null,null,null,null,null,null,0]
[null,null,0,0,0,0,0,0,0,0,0,0,0,null,null,null,null,null,null,null,null,0]
["Capital multi-year expenditure sub-total",null,50673457,64266135.308695652,0,0,0,0,-357484.30869565159,-357484.30869565159,63908651,99032722.304347813,125430970.52173913,null,null,null,null,null,null,null,null,64266135.308695652]
[]
["Capital expenditure - Municipal Vote",2]
["Single-year expenditure appropriation"]
[{"$f":"B5B!A8","v":"Vote 1 - Directorate Finance"},null,110000,2650000,0,0,0,0,-88434,-88434,2561566,0,0,null,null,null,null,null,null,null,null,2650000]
[{"$f":"B5B!A9","v":"1,1 - Asset Management"},null,110000,2290000,0,0,0,0,0,0,2290000,0,0,null,null,null,null,null,null,null,null,2290000]
[{"$f":"B5B!A10","v":"1,2 - Budget Office"},null,0,0,0,0,0,0,0,0,0,0,0,null,null,null,null,null,null,null,null,0]
[{"$f":"B5B!A11","v":"1,3 - Financial Services"},null,0,360000,0,0,0,0,-88434,-88434,271566,0,0,null,null,null,null,null,null,null,null,360000]
[{"$f":"B5B!A12","v":"1,4 - Internal Audit"},null,0,0,0,0,0,0,0,0,0,0,0,null,null,null,null,null,null,null,null,0]
[{"$f":"B5B!A13","v":"1,5 - Property Rates"},null,0,0,0,0,0,0,0,0,0,0,0,null,null,null,null,null,null,null,null,0]
[{"$f":"B5B!A14","v":"1,6 - Risk Management"},null,0,0,0,0,0,0,0,0,0,0,0,null,null,null,null,null,null,null,null,0]
[{"$f":"B5B!A15","v":"1,7 - SCM"},null,0,0,0,0,0,0,0,0,0,0,0,null,null,null,null,null,null,null,null,0]
[{"$f":"B5B!A16","v":"1,8 - Valuation Services"},null,0,0,0,0,0,0,0,0,0,0,0,null,null,null,null,null,null,null,null,0]
[{"$f":"B5B!A17","v":"1,9 - [Name of sub-vote]"},null,0,0,0,0,0,0,0,0,0,0,0,null,null,null,null,null,null,null,null,0]
[{"$f":"B5B!A18","v":"1.10 - [Name of sub-vote]"},null,0,0,0,0,0,0,0,0,0,0,0,null,null,null,null,null,null,null,null,0]
[{"$f":"B5B!A19","v":"Vote 2 - Community Services"},null,6400000,5000362,0,0,0,0,0,0,5000362,0,0,null,null,null,null,null,null,null,null,5000362]
[{"$f":"B5B!A20","v":"2,1 - Cemeteries"},null,0,0,0,0,0,0,0,0,0,0,0,null,null,null,null,null,null,null,null,0]
[{"$f":"B5B!A21","v":"2,2 - Libraries"},null,0,0,0,0,0,0,0,0,0,0,0,null,null,null,null,null,null,null,null,0]
[{"$f":"B5B!A22","v":"2,3 - Community Services"},null,0,400000,0,0,0,0,0,0,400000,0,0,null,null,null,null,null,null,null,null,400000]
[{"$f":"B5B!A23","v":"2,4 - Town Administration"},null,0,0,0,0,0,0,0,0,0,0,0,null,null,null,null,null,null,null,null,0]
[{"$f":"B5B!A24","v":"2,5 - Sustainable Development"},null,0,50000,0,0,0,0,0,0,50000,0,0,null,null,null,null,null,null,null,null,50000]
[{"$f":"B5B!A25","v":"2,6 - Fleet"},null,6400000,4550362,0,0,0,0,0,0,4550362,0,0,null,null,null,null,null,null,null,null,4550362]
[{"$f":"B5B!A26","v":"2,7 - Property Services"},null,0,0,0,0,0,0,0,0,0,0,0,null,null,null,null,null,null,null,null,0]
[{"$f":"B5B!A27","v":"2,8 - Sports and Culture"},null,0,0,0,0,0,0,0,0,0,0,0,null,null,null,null,null,null,null,null,0]
[{"$f":"B5B!A28","v":"2,9 - Roads and Stormwater"},null,0,0,0,0,0,0,0,0,0,0,0,null,null,null,null,null,null,null,null,0]
[{"$f":"B5B!A29","v":"2.10 - Parks and Gardens"},null,0,0,0,0,0,0,0,0,0,0,0,null,null,null,null,null,null,null,null,0]
[{"$f":"B5B!A30","v":"2.11 - Disaster Management"},null,0,0,0,0,0,0,0,0,0,0,0,null,null,null,null,null,null,null,null,0]
[{"$f":"B5B!A31","v":"2.12 - Pollution Control"},null,0,0,0,0,0,0,0,0,0,0,0,null,null,null,null,null,null,null,null,0]
[{"$f":"B5B!A32","v":"2.13 - Nature Reserve"},null,0,0,0,0,0,0,0,0,0,0,0,null,null,null,null,null,null,null,null,0]
[{"$f":"B5B!A33","v":"2.14 - Community Halls"},null,0,0,0,0,0,0,0,0,0,0,0,null,null,null,null,null,null,null,null,0]
[{"$f":"B5B!A34","v":"2.15 - Traffic Services"},null,0,0,0,0,0,0,0,0,0,0,0,null,null,null,null,null,null,null,null,0]
[{"$f":"B5B!A35","v":"2.16 - Law Enforcement"},null,0,0,0,0,0,0,0,0,0,0,0,null,null,null,null,null,null,null,null,0]
[{"$f":"B5B!A36","v":"2.17 - Motor Licensing and Testing Station"},null,0,0,0,0,0,0,0,0,0,0,0,null,null,null,null,null,null,null,null,0]
[{"$f":"B5B!A37","v":"2.18 - Animal Control and Pounds"},null,0,0,0,0,0,0,0,0,0,0,0,null,null,null,null,null,null,null,null,0]
[{"$f":"B5B!A38","v":"Vote 3 - Corporate services"},null,364000,514000,0,0,0,0,-44000,-44000,470000,0,0,null,null,null,null,null,null,null,null,514000]
[{"$f":"B5B!A39","v":"3,1 - Administration: Planning"},null,0,0,0,0,0,0,0,0,0,0,0,null,null,null,null,null,null,null,null,0]
[{"$f":"B5B!A40","v":"3,2 - Administration: Technical Services"},null,0,0,0,0,0,0,0,0,0,0,0,null,null,null,null,null,null,null,null,0]
[{"$f":"B5B!A41","v":"3,3 - Community Halls"},null,0,0,0,0,0,0,0,0,0,0,0,null,null,null,null,null,null,null,null,0]
[{"$f":"B5B!A42","v":"3,4 - Directorate: Corporate Services"},null,0,0,0,0,0,0,0,0,0,0,0,null,null,null,null,null,null,null,null,0]
[{"$f":"B5B!A43","v":"3,5 - Human Resources"},null,0,0,0,0,0,0,0,0,0,0,0,null,null,null,null,null,null,null,null,0]
[{"$f":"B5B!A44","v":"3,6 - IT Services"},null,0,150000,0,0,0,0,-40000,-40000,110000,0,0,null,null,null,null,null,null,null,null,150000]
[{"$f":"B5B!A45","v":"3,7 - Legal Services"},null,0,0,0,0,0,0,0,0,0,0,0,null,null,null,null,null,null,null,null,0]
[{"$f":"B5B!A46","v":"3,8 - Property Services"},null,0,0,0,0,0,0,0,0,0,0,0,null,null,null,null,null,null,null,null,0]
[{"$f":"B5B!A47","v":"3,9 - Corporate services"},null,364000,364000,0,0,0,0,-4000,-4000,360000,0,0,null,null,null,null,null,null,null,null,364000]
[{"$f":"B5B!A48","v":"3,10 - Occupational Health and Safety"},null,0,0,0,0,0,0,0,0,0,0,0,null,null,null,null,null,null,null,null,0]
[{"$f":"B5B!A49","v":"3.11 - Council Support"},null,0,0,0,0,0,0,0,0,0,0,0,null,null,null,null,null,null,null,null,0]
[{"$f":"B5B!A50","v":"Vote 4 - Electricity"},null,0,0,0,0,0,0,0,0,0,0,0,null,null,null,null,null,null,null,null,0]
[{"$f":"B5B!A51","v":"4,1 - Electricity: Distribution"},null,0,0,0,0,0,0,0,0,0,0,0,null,null,null,null,null,null,null,null,0]
[{"$f":"B5B!A52","v":"4,2 - Electricity: Street Lights"},null,0,0,0,0,0,0,0,0,0,0,0,null,null,null,null,null,null,null,null,0]
[{"$f":"B5B!A53","v":0},null,0,0,0,0,0,0,0,0,0,0,0,null,null,null,null,null,null,null,null,0]
[{"$f":"B5B!A54","v":0},null,0,0,0,0,0,0,0,0,0,0,0,null,null,null,null,null,null,null,null,0]
[{"$f":"B5B!A55","v":0},null,0,0,0,0,0,0,0,0,0,0,0,null,null,null,null,null,null,null,null,0]
[{"$f":"B5B!A56","v":0},null,0,0,0,0,0,0,0,0,0,0,0,null,null,null,null,null,null,null,null,0]
[{"$f":"B5B!A57","v":0},null,0,0,0,0,0,0,0,0,0,0,0,null,null,null,null,null,null,null,null,0]
[{"$f":"B5B!A58","v":0},null,0,0,0,0,0,0,0,0,0,0,0,null,null,null,null,null,null,null,null,0]
[{"$f":"B5B!A59","v":0},null,0,0,0,0,0,0,0,0,0,0,0,null,null,null,null,null,null,null,null,0]
[{"$f":"B5B!A60","v":0},null,0,0,0,0,0,0,0,0,0,0,0,null,null,null,null,null,null,null,null,0]
[{"$f":"B5B!A61","v":"Vote 5 - Economic Development and Planning"},null,8209340.074,34908752,0,0,0,0,0,0,34908752,36640000,0,null,null,null,null,null,null,null,null,34908752]
[{"$f":"B5B!A62","v":"5,1 - Economic Development and Planning"},null,0,0,0,0,0,0,0,0,0,0,0,null,null,null,null,null,null,null,null,0]
[{"$f":"B5B!A63","v":"5,2 - Human Settlements"},null,8209340.074,34024340,0,0,0,0,0,0,34024340,36640000,0,null,null,null,null,null,null,null,null,34024340]
[{"$f":"B5B!A64","v":"5,3 - Informal Settlements"},null,0,0,0,0,0,0,0,0,0,0,0,null,null,null,null,null,null,null,null,0]
[{"$f":"B5B!A65","v":"5,4 - Town Planning"},null,0,0,0,0,0,0,0,0,0,0,0,null,null,null,null,null,null,null,null,0]
[{"$f":"B5B!A66","v":"5,5 - Building Control"},null,0,0,0,0,0,0,0,0,0,0,0,null,null,null,null,null,null,null,null,0]
[{"$f":"B5B!A67","v":"5,6 - Property Management"},null,0,0,0,0,0,0,0,0,0,0,0,null,null,null,null,null,null,null,null,0]
[{"$f":"B5B!A68","v":"5,7 - LED"},null,0,884412,0,0,0,0,0,0,884412,0,0,null,null,null,null,null,null,null,null,884412]
[{"$f":"B5B!A69","v":"5,8 - Tourism"},null,0,0,0,0,0,0,0,0,0,0,0,null,null,null,null,null,null,null,null,0]
[{"$f":"B5B!A70","v":"5,9 - [Name of sub-vote]"},null,0,0,0,0,0,0,0,0,0,0,0,null,null,null,null,null,null,null,null,0]
[{"$f":"B5B!A71","v":"5.10 - [Name of sub-vote]"},null,0,0,0,0,0,0,0,0,0,0,0,null,null,null,null,null,null,null,null,0]
[{"$f":"B5B!A72","v":"Vote 6 - Office of the Municipal Manager"},null,0,0,0,0,0,0,0,0,0,0,0,null,null,null,null,null,null,null,null,0]
[{"$f":"B5B!A73","v":"6,1 - Administration: Towns"},null,0,0,0,0,0,0,0,0,0,0,0,null,null,null,null,null,null,null,null,0]
[{"$f":"B5B!A74","v":"6,2 - Council General Expenses"},null,0,0,0,0,0,0,0,0,0,0,0,null,null,null,null,null,null,null,null,0]
[{"$f":"B5B!A75","v":"6,3 - Municipal Manager"},null,0,0,0,0,0,0,0,0,0,0,0,null,null,null,null,null,null,null,null,0]
[{"$f":"B5B!A76","v":"6,4 - Internal Audit"},null,0,0,0,0,0,0,0,0,0,0,0,null,null,null,null,null,null,null,null,0]
[{"$f":"B5B!A77","v":"6,5 - Strategic Support and IDP"},null,0,0,0,0,0,0,0,0,0,0,0,null,null,null,null,null,null,null,null,0]
[{"$f":"B5B!A78","v":"6,6 - [Name of sub-vote]"},null,0,0,0,0,0,0,0,0,0,0,0,null,null,null,null,null,null,null,null,0]
[{"$f":"B5B!A79","v":"6,7 - [Name of sub-vote]"},null,0,0,0,0,0,0,0,0,0,0,0,null,null,null,null,null,null,null,null,0]
[{"$f":"B5B!A80","v":"6,8 - [Name of sub-vote]"},null,0,0,0,0,0,0,0,0,0,0,0,null,null,null,null,null,null,null,null,0]
[{"$f":"B5B!A81","v":"6,9 - [Name of sub-vote]"},null,0,0,0,0,0,0,0,0,0,0,0,null,null,null,null,null,null,null,null,0]
[{"$f":"B5B!A82","v":"6.10 - [Name of sub-vote]"},null,0,0,0,0,0,0,0,0,0,0,0,null,null,null,null,null,null,null,null,0]
[{"$f":"B5B!A83","v":"Vote 7 - Housing"},null,0,0,0,0,0,0,0,0,0,0,0,null,null,null,null,null,null,null,null,0]
[{"$f":"B5B!A84","v":"7,1 - Administration: Housing"},null,0,0,0,0,0,0,0,0,0,0,0,null,null,null,null,null,null,null,null,0]
[{"$f":"B5B!A85","v":"7,2 - Informal Settlements"},null,0,0,0,0,0,0,0,0,0,0,0,null,null,null,null,null,null,null,null,0]
[{"$f":"B5B!A86","v":"7,3 - [Name of sub-vote]"},null,0,0,0,0,0,0,0,0,0,0,0,null,null,null,null,null,null,null,null,0]
[{"$f":"B5B!A87","v":"7,4 - [Name of sub-vote]"},null,0,0,0,0,0,0,0,0,0,0,0,null,null,null,null,null,null,null,null,0]
[{"$f":"B5B!A88","v":"7,5 - [Name of sub-vote]"},null,0,0,0,0,0,0,0,0,0,0,0,null,null,null,null,null,null,null,null,0]
[{"$f":"B5B!A89","v":"7,6 - [Name of sub-vote]"},null,0,0,0,0,0,0,0,0,0,0,0,null,null,null,null,null,null,null,null,0]
[{"$f":"B5B!A90","v":"7,7 - [Name of sub-vote]"},null,0,0,0,0,0,0,0,0,0,0,0,null,null,null,null,null,null,null,null,0]
[{"$f":"B5B!A91","v":"7,8 - [Name of sub-vote]"},null,0,0,0,0,0,0,0,0,0,0,0,null,null,null,null,null,null,null,null,0]
[{"$f":"B5B!A92","v":"7,9 - [Name of sub-vote]"},null,0,0,0,0,0,0,0,0,0,0,0,null,null,null,null,null,null,null,null,0]
[{"$f":"B5B!A93","v":"7.10 - [Name of sub-vote]"},null,0,0,0,0,0,0,0,0,0,0,0,null,null,null,null,null,null,null,null,0]
[{"$f":"B5B!A94","v":"Vote 8 - Technical and Infrastructure Implementation Services"},null,0,1550000,0,0,0,0,-1100000,-1100000,450000,0,0,null,null,null,null,null,null,null,null,1550000]
[{"$f":"B5B!A95","v":"8,1 - Building Control"},null,0,0,0,0,0,0,0,0,0,0,0,null,null,null,null,null,null,null,null,0]
[{"$f":"B5B!A96","v":"8,2 - IDP/SDBIP"},null,0,0,0,0,0,0,0,0,0,0,0,null,null,null,null,null,null,null,null,0]
[{"$f":"B5B!A97","v":"8,3 - LED"},null,0,0,0,0,0,0,0,0,0,0,0,null,null,null,null,null,null,null,null,0]
[{"$f":"B5B!A98","v":"8,4 - Property Management"},null,0,0,0,0,0,0,0,0,0,0,0,null,null,null,null,null,null,null,null,0]
[{"$f":"B5B!A99","v":"8,5 - Tourism"},null,0,0,0,0,0,0,0,0,0,0,0,null,null,null,null,null,null,null,null,0]
[{"$f":"B5B!A100","v":"8,6 - Town Planning"},null,0,0,0,0,0,0,0,0,0,0,0,null,null,null,null,null,null,null,null,0]
[{"$f":"B5B!A101","v":"8,7 - Proclaimed Roads"},null,0,0,0,0,0,0,0,0,0,0,0,null,null,null,null,null,null,null,null,0]
[{"$f":"B5B!A102","v":"8,8 - Director: Technical Services and Planning"},null,0,0,0,0,0,0,0,0,0,0,0,null,null,null,null,null,null,null,null,0]
[{"$f":"B5B!A103","v":"8,9 - Human Settlements"},null,0,0,0,0,0,0,0,0,0,0,0,null,null,null,null,null,null,null,null,0]
[{"$f":"B5B!A104","v":"8.10 - Technical and Infrastructure Implementation Services"},null,0,1550000,0,0,0,0,-1100000,-1100000,450000,0,0,null,null,null,null,null,null,null,null,1550000]
[{"$f":"B5B!A105","v":"Vote 9 - Public safety"},null,0,0,0,0,0,0,0,0,0,0,0,null,null,null,null,null,null,null,null,0]
[{"$f":"B5B!A106","v":"9,1 - Animal Control"},null,0,0,0,0,0,0,0,0,0,0,0,null,null,null,null,null,null,null,null,0]
[{"$f":"B5B!A107","v":"9,2 - Disaster Management"},null,0,0,0,0,0,0,0,0,0,0,0,null,null,null,null,null,null,null,null,0]
[{"$f":"B5B!A108","v":"9,3 - Law Enforcement"},null,0,0,0,0,0,0,0,0,0,0,0,null,null,null,null,null,null,null,null,0]
[{"$f":"B5B!A109","v":"9,4 - Pound"},null,0,0,0,0,0,0,0,0,0,0,0,null,null,null,null,null,null,null,null,0]
[{"$f":"B5B!A110","v":"9,5 - Traffic Services"},null,0,0,0,0,0,0,0,0,0,0,0,null,null,null,null,null,null,null,null,0]
[{"$f":"B5B!A111","v":0},null,0,0,0,0,0,0,0,0,0,0,0,null,null,null,null,null,null,null,null,0]
[{"$f":"B5B!A112","v":0},null,0,0,0,0,0,0,0,0,0,0,0,null,null,null,null,null,null,null,null,0]
[{"$f":"B5B!A113","v":0},null,0,0,0,0,0,0,0,0,0,0,0,null,null,null,null,null,null,null,null,0]
[{"$f":"B5B!A114","v":0},null,0,0,0,0,0,0,0,0,0,0,0,null,null,null,null,null,null,null,null,0]
[{"$f":"B5B!A115","v":0},null,0,0,0,0,0,0,0,0,0,0,0,null,null,null,null,null,null,null,null,0]
[{"$f":"B5B!A116","v":"Vote 10 - Road transport"},null,0,0,0,0,0,0,0,0,0,0,0,null,null,null,null,null,null,null,null,0]
[{"$f":"B5B!A117","v":"10,1 - Proclaimed Roads"},null,0,0,0,0,0,0,0,0,0,0,0,null,null,null,null,null,null,null,null,0]
[{"$f":"B5B!A118","v":"10,2 - Roads"},null,0,0,0,0,0,0,0,0,0,0,0,null,null,null,null,null,null,null,null,0]
[{"$f":"B5B!A119","v":"10,3 - Vehicle Licensing and Testing"},null,0,0,0,0,0,0,0,0,0,0,0,null,null,null,null,null,null,null,null,0]
[{"$f":"B5B!A120","v":0},null,0,0,0,0,0,0,0,0,0,0,0,null,null,null,null,null,null,null,null,0]
[{"$f":"B5B!A121","v":0},null,0,0,0,0,0,0,0,0,0,0,0,null,null,null,null,null,null,null,null,0]
[{"$f":"B5B!A122","v":0},null,0,0,0,0,0,0,0,0,0,0,0,null,null,null,null,null,null,null,null,0]
[{"$f":"B5B!A123","v":0},null,0,0,0,0,0,0,0,0,0,0,0,null,null,null,null,null,null,null,null,0]
[{"$f":"B5B!A124","v":0},null,0,0,0,0,0,0,0,0,0,0,0,null,null,null,null,null,null,null,null,0]
[{"$f":"B5B!A125","v":0},null,0,0,0,0,0,0,0,0,0,0,0,null,null,null,null,null,null,null,null,0]
[{"$f":"B5B!A126","v":0},null,0,0,0,0,0,0,0,0,0,0,0,null,null,null,null,null,null,null,null,0]
[{"$f":"B5B!A127","v":"Vote 11 - Sport and recreation"},null,0,0,0,0,0,0,0,0,0,0,0,null,null,null,null,null,null,null,null,0]
[{"$f":"B5B!A128","v":"11,1 - Nature Reserve"},null,0,0,0,0,0,0,0,0,0,0,0,null,null,null,null,null,null,null,null,0]
[{"$f":"B5B!A129","v":"11,2 - Parks and Gardens"},null,0,0,0,0,0,0,0,0,0,0,0,null,null,null,null,null,null,null,null,0]
[{"$f":"B5B!A130","v":"11,3 - Sport and Recreation"},null,0,0,0,0,0,0,0,0,0,0,0,null,null,null,null,null,null,null,null,0]
[{"$f":"B5B!A131","v":0},null,0,0,0,0,0,0,0,0,0,0,0,null,null,null,null,null,null,null,null,0]
[{"$f":"B5B!A132","v":0},null,0,0,0,0,0,0,0,0,0,0,0,null,null,null,null,null,null,null,null,0]
[{"$f":"B5B!A133","v":0},null,0,0,0,0,0,0,0,0,0,0,0,null,null,null,null,null,null,null,null,0]
[{"$f":"B5B!A134","v":0},null,0,0,0,0,0,0,0,0,0,0,0,null,null,null,null,null,null,null,null,0]
[{"$f":"B5B!A135","v":0},null,0,0,0,0,0,0,0,0,0,0,0,null,null,null,null,null,null,null,null,0]
[{"$f":"B5B!A136","v":0},null,0,0,0,0,0,0,0,0,0,0,0,null,null,null,null,null,null,null,null,0]
[{"$f":"B5B!A137","v":0},null,0,0,0,0,0,0,0,0,0,0,0,null,null,null,null,null,null,null,null,0]
[{"$f":"B5B!A138","v":"Vote 12 - Waste management"},null,0,0,0,0,0,0,0,0,0,0,0,null,null,null,null,null,null,null,null,0]
[{"$f":"B5B!A139","v":"12,1 - Refuse Removal"},null,0,0,0,0,0,0,0,0,0,0,0,null,null,null,null,null,null,null,null,0]
[{"$f":"B5B!A140","v":"12,2 - Refuse Sites"},null,0,0,0,0,0,0,0,0,0,0,0,null,null,null,null,null,null,null,null,0]
[{"$f":"B5B!A141","v":"12,3 - Street Cleansing"},null,0,0,0,0,0,0,0,0,0,0,0,null,null,null,null,null,null,null,null,0]
[{"$f":"B5B!A142","v":"12,4 - Refuse Removal (Head Office)"},null,0,0,0,0,0,0,0,0,0,0,0,null,null,null,null,null,null,null,null,0]
[{"$f":"B5B!A143","v":"12,5 - Refuse Sites (Head Office)"},null,0,0,0,0,0,0,0,0,0,0,0,null,null,null,null,null,null,null,null,0]
[{"$f":"B5B!A144","v":"12,6 - Street Cleansing (Head Office)"},null,0,0,0,0,0,0,0,0,0,0,0,null,null,null,null,null,null,null,null,0]
[{"$f":"B5B!A145","v":0},null,0,0,0,0,0,0,0,0,0,0,0,null,null,null,null,null,null,null,null,0]
[{"$f":"B5B!A146","v":0},null,0,0,0,0,0,0,0,0,0,0,0,null,null,null,null,null,null,null,null,0]
[{"$f":"B5B!A147","v":0},null,0,0,0,0,0,0,0,0,0,0,0,null,null,null,null,null,null,null,null,0]
[{"$f":"B5B!A148","v":0},null,0,0,0,0,0,0,0,0,0,0,0,null,null,null,null,null,null,null,null,0]
[{"$f":"B5B!A149","v":"Vote 13 - Waste water management"},null,10792571.949999999,9997609.9478260875,0,0,0,0,-2662294.9478260875,-2662294.9478260875,7335315,7810969.04565218,7869318.4782608673,null,null,null,null,null,null,null,null,9997609.9478260875]
[{"$f":"B5B!A150","v":"13,1 - Sewerage: Networks"},null,10792571.949999999,9997609.9478260875,0,0,0,0,-2662294.9478260875,-2662294.9478260875,7335315,0,2199193,null,null,null,null,null,null,null,null,9997609.9478260875]
[{"$f":"B5B!A151","v":"13,2 - Sewerage: Tank Services"},null,0,0,0,0,0,0,0,0,0,0,0,null,null,null,null,null,null,null,null,0]
[{"$f":"B5B!A152","v":"13,3 - Sewerage: Treatment Works"},null,0,0,0,0,0,0,0,0,0,7810969.04565218,5670125.4782608673,null,null,null,null,null,null,null,null,0]
[{"$f":"B5B!A153","v":"13,4 - Sewerage: Networks (Head Office)"},null,0,0,0,0,0,0,0,0,0,0,0,null,null,null,null,null,null,null,null,0]
[{"$f":"B5B!A154","v":"13,5 - Sewerage: Treatment Works (Head Office)"},null,0,0,0,0,0,0,0,0,0,0,0,null,null,null,null,null,null,null,null,0]
[{"$f":"B5B!A155","v":"13,6 - Sewerage: Tank Services (Head Office)"},null,0,0,0,0,0,0,0,0,0,0,0,null,null,null,null,null,null,null,null,0]
[{"$f":"B5B!A156","v":0},null,0,0,0,0,0,0,0,0,0,0,0,null,null,null,null,null,null,null,null,0]
[{"$f":"B5B!A157","v":0},null,0,0,0,0,0,0,0,0,0,0,0,null,null,null,null,null,null,null,null,0]
[{"$f":"B5B!A158","v":0},null,0,0,0,0,0,0,0,0,0,0,0,null,null,null,null,null,null,null,null,0]
[{"$f":"B5B!A159","v":0},null,0,0,0,0,0,0,0,0,0,0,0,null,null,null,null,null,null,null,null,0]
[{"$f":"B5B!A160","v":"Vote 14 - Water"},null,12280970.69565217,3588886.96,0,0,0,0,4.0000000037252903E-2,4.0000000037252903E-2,3588887,8224221.6500000004,18736711,null,null,null,null,null,null,null,null,3588886.9600000009]
[{"$f":"B5B!A161","v":"14,1 - Water: Distribution"},null,5000000,2500000,0,0,0,0,0,0,2500000,0,16691042,null,null,null,null,null,null,null,null,2500000]
[{"$f":"B5B!A162","v":"14,2 - Water: Treatment Works"},null,7280970.6956521701,1088886.96,0,0,0,0,4.0000000037252903E-2,4.0000000037252903E-2,1088887,8224221.6500000004,2045669,null,null,null,null,null,null,null,null,1088886.96]
[{"$f":"B5B!A163","v":"14,3 - Water: Distribution (Head Office)"},null,0,0,0,0,0,0,0,0,0,0,0,null,null,null,null,null,null,null,null,0]
[{"$f":"B5B!A164","v":"14,4 - Water: Treatment Works (Head Office)"},null,0,0,0,0,0,0,0,0,0,0,0,null,null,null,null,null,null,null,null,0]
[{"$f":"B5B!A165","v":0},null,0,0,0,0,0,0,0,0,0,0,0,null,null,null,null,null,null,null,null,0]
[{"$f":"B5B!A166","v":0},null,0,0,0,0,0,0,0,0,0,0,0,null,null,null,null,null,null,null,null,0]
[{"$f":"B5B!A167","v":0},null,0,0,0,0,0,0,0,0,0,0,0,null,null,null,null,null,null,null,null,0]
[{"$f":"B5B!A168","v":0},null,0,0,0,0,0,0,0,0,0,0,0,null,null,null,null,null,null,null,null,0]
[{"$f":"B5B!A169","v":0},null,0,0,0,0,0,0,0,0,0,0,0,null,null,null,null,null,null,null,null,0]
[{"$f":"B5B!A170","v":0},null,0,0,0,0,0,0,0,0,0,0,0,null,null,null,null,null,null,null,null,0]
[{"$f":"B5B!A171","v":"Vote 15 - Directorate Development and Community Services"},null,0,0,0,0,0,0,0,0,0,0,0,null,null,null,null,null,null,null,null,0]
[{"$f":"B5B!A172","v":"15,1 - Director: Development and Community Services"},null,0,0,0,0,0,0,0,0,0,0,0,null,null,null,null,null,null,null,null,0]
[{"$f":"B5B!A173","v":"15,2 - Council Support"},null,0,0,0,0,0,0,0,0,0,0,0,null,null,null,null,null,null,null,null,0]
[{"$f":"B5B!A174","v":"15,3 - LED"},null,0,0,0,0,0,0,0,0,0,0,0,null,null,null,null,null,null,null,null,0]
[{"$f":"B5B!A175","v":"15,4 - Tourism"},null,0,0,0,0,0,0,0,0,0,0,0,null,null,null,null,null,null,null,null,0]
[{"$f":"B5B!A176","v":"15,5 - IT Services"},null,0,0,0,0,0,0,0,0,0,0,0,null,null,null,null,null,null,null,null,0]
[{"$f":"B5B!A177","v":"15,6 - Legal Services"},null,0,0,0,0,0,0,0,0,0,0,0,null,null,null,null,null,null,null,null,0]
[{"$f":"B5B!A178","v":"15,7 - Sports and Culture"},null,0,0,0,0,0,0,0,0,0,0,0,null,null,null,null,null,null,null,null,0]
[{"$f":"B5B!A179","v":"15,8 - Town Administration"},null,0,0,0,0,0,0,0,0,0,0,0,null,null,null,null,null,null,null,null,0]
[{"$f":"B5B!A180","v":"15,9 - Human Resources"},null,0,0,0,0,0,0,0,0,0,0,0,null,null,null,null,null,null,null,null,0]
[{"$f":"B5B!A181","v":"15.10 - Risk Management"},null,0,0,0,0,0,0,0,0,0,0,0,null,null,null,null,null,null,null,null,0]
[{"$f":"B5B!A182","v":"    15.11 - Property Management"},null,0,0,0,0,0,0,0,0,0,0,0,null,null,null,null,null,null,null,null,0]
[{"$f":"B5B!A183","v":"    15.12 - Informal Settlements"},null,0,0,0,0,0,0,0,0,0,0,0,null,null,null,null,null,null,null,null,0]
[{"$f":"B5B!A184","v":"    15.13 - Roads and Stormwater"},null,0,0,0,0,0,0,0,0,0,0,0,null,null,null,null,null,null,null,null,0]
[{"$f":"B5B!A185","v":"    15.14 - Fleet"},null,0,0,0,0,0,0,0,0,0,0,0,null,null,null,null,null,null,null,null,0]
[{"$f":"B5B!A186","v":"    15.15 - Parks and Gardens"},null,0,0,0,0,0,0,0,0,0,0,0,null,null,null,null,null,null,null,null,0]
[{"$f":"B5B!A187","v":"    15.16 - Disaster Management"},null,0,0,0,0,0,0,0,0,0,0,0,null,null,null,null,null,null,null,null,0]
[{"$f":"B5B!A188","v":"    15.17 - Pollution Control"},null,0,0,0,0,0,0,0,0,0,0,0,null,null,null,null,null,null,null,null,0]
[{"$f":"B5B!A189","v":"    15.18 - Nature Reserve"},null,0,0,0,0,0,0,0,0,0,0,0,null,null,null,null,null,null,null,null,0]
[{"$f":"B5B!A190","v":"    15.19 - Cemeteries"},null,0,0,0,0,0,0,0,0,0,0,0,null,null,null,null,null,null,null,null,0]
[{"$f":"B5B!A191","v":"    15.20 - Community Halls"},null,0,0,0,0,0,0,0,0,0,0,0,null,null,null,null,null,null,null,null,0]
[{"$f":"B5B!A192","v":"    15.21 - Library Services"},null,0,0,0,0,0,0,0,0,0,0,0,null,null,null,null,null,null,null,null,0]
[{"$f":"B5B!A193","v":"    15.22 - Traffic Services"},null,0,0,0,0,0,0,0,0,0,0,0,null,null,null,null,null,null,null,null,0]
[{"$f":"B5B!A194","v":"    15.23 - Law Enforcement"},null,0,0,0,0,0,0,0,0,0,0,0,null,null,null,null,null,null,null,null,0]
[{"$f":"B5B!A195","v":"    15.24 - Motor Licensing and Testing Station"},null,0,0,0,0,0,0,0,0,0,0,0,null,null,null,null,null,null,null,null,0]
[{"$f":"B5B!A196","v":"    15.25 - Animal Control and Pounds"},null,0,0,0,0,0,0,0,0,0,0,0,null,null,null,null,null,null,null,null,0]
[{"$f":"B5B!A197","v":"    15.26 - Sustainable Development"},null,0,0,0,0,0,0,0,0,0,0,0,null,null,null,null,null,null,null,null,0]
[null,null,0,0,0,0,0,0,0,0,0,0,0,null,null,null,null,null,null,null,null,0]
["Capital single-year expenditure sub-total",null,38156882.719652168,58209610.907826088,0,0,0,0,-3894728.9078260874,-3894728.9078260874,54314882,52675190.695652179,26606029.478260867,null,null,null,null,null,null,null,null,58209610.907826088]
["Total Capital Expenditure",null,88830339.719652176,122475746.21652174,0,0,0,0,-4252213.216521739,-4252213.216521739,118223533,151707913,152037000,null,null,null,null,null,null,null,null,122475746.21652174]
[]
[]
[{"$f":"head27a","v":"References"}]
["1. Insert 'Vote'; e.g. Department, if different to standard structure"]
["2. Must reconcile to Financial Performance ('Revenue and Expenditure by Standard Classification' and 'Revenue and Expenditure')"]
["3. Assign share in 'associate' to relevant Vote"]

{"sheet":"B6-FinPos","index":14,"n_rows":69,"n_cols":22,"rows_kept":69,"cut":false,"hidden":false,"merged":[[1,2,1,10],[1,0,3,0],[1,1,3,1],[66,0,66,12],[62,0,62,12],[64,0,64,12],[60,0,60,12],[61,0,61,12],[59,0,59,12]]}
[{"$f":"muni&\" - \"&_ADJ6&\" - \"&Date","v":"WC031 Theewaterskloof - Table B6 Adjustments Budget Financial Position - 16 April 2026"}]
[{"$f":"desc","v":"Description"},{"$f":"head27","v":"Ref"},{"$f":"Head2","v":"Budget Year 2025/26"},null,null,null,null,null,null,null,null,{"$f":"Head10","v":"Budget Year +1 2026/27"},{"$f":"Head11","v":"Budget Year +2 2027/28"},null,{"$f":"Head10","v":"Budget Year +1 2026/27"}]
[null,null,{"$f":"Head6","v":"Original Budget"},{"$f":"Head54","v":"Prior Adjusted"},{"$f":"Head51","v":"Accum. Funds"},{"$f":"Head52","v":"Multi-year capital"},{"$f":"Head53","v":"Unfore. Unavoid."},{"$f":"Head55","v":"Nat. or Prov. Govt"},{"$f":"Head50","v":"Other Adjusts."},{"$f":"Head56","v":"Total Adjusts."},{"$f":"Head7","v":"Adjusted Budget"},{"$f":"Head7","v":"Adjusted Budget"},{"$f":"Head7","v":"Adjusted Budget"},null,{"$f":"Head7","v":"Adjusted Budget"},null,null,null,null,null,null,"Adjusted Budget"]
[null,null,null,3,4,5,6,7,8,9,10,null,null,null,null,null,null,null,null,null,null,10]
["R thousands",null,"A","A1","B","C","D","E","F","G","H",null,null,null,null,null,null,null,null,null,null,"H"]
["ASSETS"]
["Current assets"]
["Cash and cash equivalents",null,7963859.6600545021,1568496.2731563272,0,0,0,0,6491369.2165218294,6491369.2165218294,8059865.4896781566,14104271.113175774,21220771.435518935,null,17624430.360000048,null,{"$f":"K8-D8","v":6491369.2165218294},null,null,null,null,1568496.2731563272]
["Trade and other receivables from exchange transactions",1,44106173.500000596,46436282.670001149,0,0,0,0,0,0,46436282.670001149,49412565.882001162,52463255.139001131,null,{"$f":"'SB2'!O20","v":43278206.670001149},null,{"$f":"L9-M9","v":-3050689.2569999695},null,null,null,null,46436282.670001201]
["Receivables from non-exchange transactions",1,38014135.910517119,29843822.031516887,0,0,0,0,0,0,29843822.031516887,28530744.496516891,26636890.653516911,null,{"$f":"'SB2'!O29","v":26927891.383516885},null,{"$f":"L10-M10","v":1893853.8429999799},null,null,null,null,29843822.031516887]
["Current portion of non-current receivables",2,1786840.74,2266682.7999999998,0,0,0,0,0,0,2266682.7999999998,2266682.7999999998,2266682.7999999998,null,2266682.7999999998,null,0,null,null,null,null,2266682.7999999998]
["Inventory",null,8949155.0400000028,7858872.5299999975,0,0,0,0,0,0,7858872.5299999975,7858872.5299999975,7858872.5299999975,null,{"$f":"'SB2'!O132","v":7858872.5299999993},null,0,null,null,null,null,7858872.5299999993]
["VAT",null,13106045.429999996,6454693.429999996,0,0,0,0,0,0,6454693.429999996,6454693.429999996,6454693.429999996,null,6454693.429999996,null,0,null,null,null,null,6454693.429999996]
["Other current assets",null,630774.46000000008,667901.14999999991,0,0,0,0,0,0,667901.14999999991,667901.14999999991,667901.14999999991,null,667901.14999999991,null,0,null,null,null,null,667901.14999999991]
["Total current assets",null,114556984.74057221,95096750.88467437,0,0,0,0,6491369.2165218294,6491369.2165218294,101588120.1011962,109295731.40169382,117569067.13803697,null,{"$f":"SUM(O8:O14)","v":105078678.32351807},null,null,null,null,null,null,95096750.884674415]
["Non current assets"]
["Investments",null,9340722.489599999,273643.3200000003,0,0,0,0,0,0,273643.3200000003,273643.3200000003,273643.3200000003,null,273643.32,null,{"$f":"L17-M17","v":0},null,null,null,null,273643.3200000003]
["Investment property",null,67392741.071974665,67261934.321974665,0,0,0,0,0,0,67261934.321974665,67261934.321974665,67261934.321974665,null,67261934.321974665,null,0,null,null,null,null,67261934.321974665]
["Property, plant and equipment",3,1379590153.2813931,1333217151.6522627,0,0,0,0,-4252213.21652174,-4252213.21652174,1328964938.4357409,1445192046.4357409,1561748241.4357409,null,{"$f":"+'SB2'!O138","v":1254530434.4357409},null,-116556195,null,null,null,null,1333217151.6522627]
["Biological assets",null,0,0,0,0,0,0,0,0,0,0,0,null,0,null,0,null,null,null,null,0]
["Living and non-living resources",null,0,0,0,0,0,0,0,0,0,0,0,null,0,null,0,null,null,null,null,0]
["Heritage assets",null,0,0,0,0,0,0,0,0,0,0,0,null,0,null,0,null,null,null,null,0]
["Intangible assets",null,93133.517789111764,99063.559999999939,0,0,0,0,0,0,99063.559999999939,38551.559999999939,8039.5599999999395,null,157575.55999999994,null,30512,null,null,null,null,99063.559999999939]
["Trade and other receivables from exchange transactions",null,0,0,0,0,0,0,0,0,0,0,0,null,0,null,0,null,null,null,null,0]
["Non-current receivables from non-exchange transactions",null,0,0,0,0,0,0,0,0,0,0,0,null,0,null,0,null,null,null,null,0]
["Other non-current assets",null,5131335.0199999986,7237690.6200000001,0,0,0,0,0,0,7237690.6200000001,7237690.6200000001,7237690.6200000001,null,7237690.6200000001,null,0,null,null,null,null,7237690.6200000001]
["Total non current assets",null,1461548085.3807569,1408089483.4742372,0,0,0,0,-4252213.21652174,-4252213.21652174,1403837270.2577155,1520003866.2577155,1636529549.2577155,null,{"$f":"SUM(O17:O26)","v":1329461278.2577155},null,{"$f":"M27-L27","v":116525683},null,null,null,null,1408089483.4742372]
["TOTAL ASSETS",null,1576105070.1213291,1503186234.3589115,0,0,0,0,2239156.0000000894,2239156.0000000894,1505425390.3589118,1629299597.6594093,1754098616.3957524,null,{"$f":"O15+O27","v":1434539956.5812335},null,null,null,null,null,null,1503186234.3589115]
[]
["LIABILITIES"]
["Current liabilities"]
["Bank overdraft",null,0,0,0,0,0,0,0,0,0,0,0,null,0,null,{"$f":"L32-M32","v":0},null,null,null,null,0]
["Financial liabilities",null,29689231.349165116,20113593.632987399,0,0,0,0,0,0,20113593.632987399,15986875.038222244,13572713.618343666,null,{"$f":"'SB2'!O144","v":33338186.149999999},null,2414161.4198785778,null,{"$f":"K33-O33","v":-13224592.5170126},{"$f":"L33-K33","v":-4126718.5947651546},-2414161.4198785778,20113593.632987399]
["Consumer deposits",null,6904065.8858160004,7206037.5765000014,0,0,0,0,0,0,7206037.5765000014,7566339.4553250019,7944656.4280912522,null,6862892.9300000006,null,-378316.97276625037,null,{"$f":"K34-O34","v":343144.64650000073},360301.87882500049,378316.97276625037,7206037.5765000014]
["Trade and other payables from exchange transactions",null,289407778.62417984,246737262.70727986,0,0,0,0,0,0,246737262.70727986,261244433.35578802,265414744.64724958,null,{"$f":"+'SB2'!O147+'SB2'!O148","v":216887118.52999988},null,-4170311.2914615571,null,{"$f":"K35-O35","v":29850144.177279979},14507170.648508161,4170311.2914615571,246737262.70727986]
["Trade and other payables from non-exchange transactions",null,651970.80000000005,3885745.3099999884,0,0,0,0,5781347.0000000894,5781347.0000000894,9667092.3100000769,9667092.3100000508,9667092.3100000508,null,{"$f":"+'SB2'!O149+'SB2'!O150","v":25823233.800000001},null,0,null,{"$f":"K36-O36","v":-16156141.489999924},-2.6077032089233398E-8,0,3885745.3099999889]
["Provisions",null,47506196.412620001,37114344.015000001,0,0,0,0,0,0,37114344.015000001,38970061.215750001,40918564.2765375,null,35346994.299999997,null,-1948503.060787499,null,{"$f":"K37-O37","v":1767349.7150000036},1855717.2007500008,1948503.060787499,37114344.015000001]
["VAT",null,0,0,0,0,0,0,0,0,0,0,0,null,0,null,0,null,null,null,null,0]
["Other current liabilities",null,0,0,0,0,0,0,0,0,0,0,0,null,0,null,0,null,null,null,null,0]
["Total current liabilities",null,374159243.07178098,315056983.24176723,0,0,0,0,5781347.0000000894,5781347.0000000894,320838330.24176729,333434801.37508529,337517771.28022206,null,{"$f":"SUM(O32:O39)","v":318258425.70999992},null,null,null,null,null,null,315056983.24176723]
[]
["Non current liabilities"]
["Borrowing",1,113548763.48153742,104400549.10477699,0,0,0,0,0,0,104400549.10477699,88413674.066554531,74840960.44821085,null,{"$f":"'SB2'!O154","v":124653221.84999999},null,{"$f":"L43-M43","v":13572713.618343681},null,{"$f":"K43-O43","v":-20252672.745223001},{"$f":"L43-K43","v":-15986875.038222462},{"$f":"M43-L43","v":-13572713.618343681},104400549.10477699]
["Provisions",1,215965488.56999999,229398854.007754,0,0,0,0,0,0,229398854.007754,249835735.21315607,270500918.66270614,null,{"$f":"'SB2'!O169","v":210110851},null,{"$f":"L44-M44","v":-20665183.449550062},null,null,null,null,229398854.007754]
["Long term portion of trade payables",null,0,0,0,0,0,0,0,0,0,0,0,null,{"$f":"'SB2'!O158","v":0},null,null,null,null,null,null,0]
["Other non-current liabilities",null,0,0,0,0,0,0,0,0,0,0,0,null,0,null,null,null,null,null,null,0]
["Total non current liabilities",null,329514252.05153739,333799403.11253101,0,0,0,0,0,0,333799403.11253101,338249409.27971059,345341879.11091697,null,{"$f":"SUM(O43:O46)","v":334764072.85000002},null,{"$f":"L47-M47","v":-7092469.8312063813},null,null,null,null,333799403.11253101]
["TOTAL LIABILITIES",null,703673495.12331843,648856386.35429823,0,0,0,0,5781347.0000000894,5781347.0000000894,654637733.35429835,671684210.65479589,682859650.39113903,null,{"$f":"O40+O47","v":653022498.55999994},null,{"$f":"L48-M48","v":-11175439.736343145},null,null,null,null,648856386.35429823]
[null,null,null,null,null,null,null,null,null,null,null,null,null,null,null,null,{"$f":"L49-M49","v":0}]
["NET ASSETS",2,872431574.99801064,854329848.00461328,0,0,0,0,-3542191,-3542191,850787657.0046134,957615387.0046134,1071238966.0046134,null,{"$f":"O28-O48","v":781517458.02123356},null,{"$f":"L50-M50","v":-113623579},null,null,null,null,854329848.00461328]
[]
["COMMUNITY WEALTH/EQUITY"]
["Accumulated Surplus/(Deficit)",null,872431574.99801064,854329848.00461352,0,0,0,0,-3542191,-3542191,850787657.00461352,957615387.0046134,1071238966.0046134,null,{"$f":"'SB2'!O181","v":781517458.00461352},{"$f":"K53-O53","v":69270199},null,null,null,null,null,854329848.00461352]
["Funds and Reserves",null,0,0,0,0,0,0,0,0,0,0,0,null,{"$f":"'SB2'!O188","v":0},null,null,null,null,null,null,0]
["Other",null,0,0,0,0,0,0,0,0,0,0,0,null,0,null,null,null,null,null,null,0]
["TOTAL COMMUNITY WEALTH/EQUITY",null,872431574.99801064,854329848.00461352,0,0,0,0,-3542191,-3542191,850787657.00461352,957615387.0046134,1071238966.0046134,null,{"$f":"SUM(O53:O55)","v":781517458.00461352},null,null,null,null,null,null,854329848.00461352]
[{"$f":"head27a","v":"References"}]
["1. Detail to be provided in Table SA3"]
["2. Net assets must balance with Total Community Wealth/Equity",null,null,null,null,null,null,null,null,null,null,null,null,null,{"$f":"O56-O50","v":-1.6620039939880371E-2}]
["3. Only complete if a previous adjusted budget has been approved in the same financial year. Reflect most recent adjusted budget."]
["4. Additional cash-backed accumulated funds/unspent funds (MFMA section 18(1)(b) and section 28(2)(e)) identified after the Original Budget approved and after annual financial statements audited (note: only where underspending could not reasonably have been foreseen)"]
["5. Increases of funds approved under MFMA section 31"]
["6. Adjustments approved in accordance with MFMA section 29 "]
["7. Adjustments to transfers from National or Provincial Government"]
["8. Adjusts. = 'Other' Adjustments proposed to be approved; including revenue under-collection (MFMA section 28(2)(a)); additional revenue appropriation on existing programmes (section 28(2))(b); projected savings (section 28(2)(d)); error correction (section 28(2)(f))"]
["9. G = B + C + D + E + F"]
["10. Adjusted Budget H = (A or A1/2 etc) + G"]
[]
["check balance",null,{"$f":"C50-C56","v":0},0,0,0,0,{"$f":"H50-H56","v":0},0,0,0,0,0,null,null,null,null,null,null,null,null,0]

{"sheet":"B7-CFlow","index":15,"n_rows":53,"n_cols":22,"rows_kept":53,"cut":false,"hidden":false,"merged":[[52,0,52,12],[46,0,46,12],[50,0,50,12],[1,0,3,0],[1,1,3,1],[1,2,1,10],[45,0,45,12],[47,0,47,12],[48,0,48,12]]}
[{"$f":"muni&\" - \"&_ADJ7&\" - \"&Date","v":"WC031 Theewaterskloof - Table B7 Adjustments Budget Cash Flows - 16 April 2026"}]
[{"$f":"desc","v":"Description"},{"$f":"head27","v":"Ref"},{"$f":"Head2","v":"Budget Year 2025/26"},null,null,null,null,null,null,null,null,{"$f":"Head10","v":"Budget Year +1 2026/27"},{"$f":"Head11","v":"Budget Year +2 2027/28"}]
[null,null,{"$f":"Head6","v":"Original Budget"},{"$f":"Head54","v":"Prior Adjusted"},{"$f":"Head51","v":"Accum. Funds"},{"$f":"Head52","v":"Multi-year capital"},{"$f":"Head53","v":"Unfore. Unavoid."},{"$f":"Head55","v":"Nat. or Prov. Govt"},{"$f":"Head50","v":"Other Adjusts."},{"$f":"Head56","v":"Total Adjusts."},{"$f":"Head7","v":"Adjusted Budget"},{"$f":"Head7","v":"Adjusted Budget"},{"$f":"Head7","v":"Adjusted Budget"},null,null,null,null,null,null,null,null,"Adjusted Budget"]
[null,null,null,3,4,5,6,7,8,9,10,null,null,null,null,null,null,null,null,null,null,10]
["R thousands",null,"A","A1","B","C","D","E","F","G","H",null,null,null,null,null,null,null,null,null,null,"H"]
["CASH FLOW FROM OPERATING ACTIVITIES"]
["Receipts"]
["Property rates",null,164589972.273,165288904,0,0,0,0,0,0,165288904,175071117.05599999,179447894.208,null,null,null,null,null,null,null,null,165288904]
["Service charges",null,307730929.185,319896860,0,0,0,0,0,0,319896860,328717460.85800004,336935395.17299998,null,null,null,null,null,null,null,null,319896860]
["Other revenue",null,56218258.659999996,57579121.351999998,0,0,0,0,-9532350,-9532350,48046771.351999998,54188298.259000003,55428381.589000002,null,null,null,null,null,null,null,null,57579121.351999998]
["Transfers and Subsidies - Operational",1,166496583,162772825,0,0,0,0,-2431943,-2431943,160340882,176434180.30434781,184627285.47826087,null,null,null,null,null,null,null,null,162772825]
["Transfers and Subsidies - Capital",1,72237391,30487391,0,0,0,0,1.0058283805847168E-7,1.0058283805847168E-7,30487391.000000101,142919999.69565219,146579999.5217391,null,null,null,null,null,null,null,null,30487391]
["Interest",null,9390569,6245782,0,0,0,0,0,0,6245782,9745815.1500000004,9989460.6160000004,null,null,null,null,null,null,null,null,6245782]
["Dividends",null,0,0,0,0,0,0,0,0,0,0,0,null,null,null,null,null,null,null,null,0]
["Payments"]
["Suppliers and employees",null,-643793855.34704959,-644331975.07633591,0,0,0,0,16151216.388362169,16151216.388362169,-628180758.68797374,-699595168.04264784,-712450334.68125808,null,null,null,null,null,null,null,null,-644331975.07633591]
["Finance charges",null,-24273598,-33273598,0,0,0,0,0,0,-33273598,-25365909,-26000057,null,null,null,null,null,null,null,null,-33273598]
["Transfers and Subsidies",1,-12080001,-11549087,0,0,0,0,0,0,-11549087,-1,-1,null,null,null,null,null,null,null,null,-11549087]
["NET CASH FROM/(USED) OPERATING ACTIVITIES",null,96516248.770950437,53116223.275664091,0,0,0,0,4186923.3883622698,4186923.3883622698,57303146.66402638,162115793.28035223,174558023.904742,null,null,null,null,null,null,null,null,53116223.275664091]
[]
["CASH FLOWS FROM INVESTING ACTIVITIES"]
["Receipts"]
["Proceeds on disposal of PPE",null,49754,49744,0,0,0,0,0,0,49744,51973,53292,null,null,null,null,null,null,null,null,49744]
[]
["Decrease (increase) in non-current receivables",null,0,0,0,0,0,0,0,0,0,0,0,null,null,null,null,null,null,null,null,0]
["Decrease (increase) in non-current investments",null,-691905.36959999986,1E-8,0,0,0,0,-1E-8,-1E-8,0,0,0,null,null,null,null,null,null,null,null,0]
["Payments"]
["Capital assets",null,-88780339.719652176,-36087780.240151793,0,0,0,0,2304445.8281596601,2304445.8281596601,-33783334.411992133,-136370068.90269196,-151886258.5169428,null,null,null,null,null,null,null,null,-36087780.240151793]
["NET CASH FROM/(USED) INVESTING ACTIVITIES",null,-89422491.089252174,-36038036.240151785,0,0,0,0,2304445.8281596503,2304445.8281596503,-33733590.411992133,-136318095.90269196,-151832966.5169428,null,null,null,null,null,null,null,null,-36038036.240151793]
[]
["CASH FLOWS FROM FINANCING ACTIVITIES"]
["Receipts"]
["Short term loans",null,0,0,0,0,0,0,0,0,0,0,0,null,null,null,null,null,null,null,null,0]
["Borrowing long term/refinancing",null,10000000,9.9999999999999995E-7,0,0,0,0,-9.9999999999999995E-7,-9.9999999999999995E-7,0,0,0,null,null,null,null,null,null,null,null,0]
["Increase (decrease) in consumer deposits",null,390796.18221600074,343144.64650000073,0,0,0,0,0,0,343144.64650000073,360301.87882500049,378316.97276625037,null,null,null,null,null,null,null,null,343144.64650000073]
["Payments"]
["Repayment of borrowing",null,-21257125.169297472,-33477265.262235597,0,0,0,0,0,0,-33477265.262235597,-20113593.632987618,-15986875.038222259,null,null,null,null,null,null,null,null,-33477265.262235597]
["NET CASH FROM/(USED) FINANCING ACTIVITIES",null,-10866328.987081472,-33134120.615734596,0,0,0,0,-9.9999999999999995E-7,-9.9999999999999995E-7,-33134120.615735598,-19753291.754162617,-15608558.065456009,null,null,null,null,null,null,null,null,-33134120.615735598]
[]
["NET INCREASE/ (DECREASE) IN CASH HELD",null,-3772571.3053832091,-16055933.58022229,0,0,0,0,6491369.2165209204,6491369.2165209204,-9564564.363701351,6044405.6234976575,7116499.3223431949,null,null,null,null,null,null,null,null,-16055933.5802233]
["Cash/cash equivalents at the year begin:",2,11736430.962450255,17624430.360000048,0,0,0,0,0,0,17624430.360000048,8059865.9962986968,14104271.619796354,null,null,null,null,null,null,null,null,17624430.360000048]
["Cash/cash equivalents at the year end:",2,7963859.6570670456,1568496.7797777578,0,0,0,0,6491369.2165209204,6491369.2165209204,8059865.9962986968,14104271.619796354,21220770.942139551,null,null,null,null,null,null,null,null,1568496.7797767483]
[{"$f":"head27a","v":"References"}]
["1. Local/District municipalities to include transfers from/to District/Local Municipalities",null,null,null,null,null,null,null,null,null,{"$f":"K42-'B6-FinPos'!K8","v":0.50662054028362036},{"$f":"L42-'B6-FinPos'!L8","v":0.50662058033049107},{"$f":"M42-'B6-FinPos'!M8","v":-0.4933793842792511},null,null,null,null,null,null,null,null,0.50662042107433081]
["2. Cash equivalents includes investments with maturities of 3 months or less"]
["3. Only complete if a previous adjusted budget has been approved in the same financial year. Reflect most recent adjusted budget."]
["4. Additional cash-backed accumulated funds/unspent funds (MFMA section 18(1)(b) and section 28(2)(e)) identified after the Original Budget approved and after annual financial statements audited (note: only where underspending could not reasonably have been foreseen)"]
["5. Increases of funds approved under MFMA section 31"]
["6. Adjustments approved in accordance with MFMA section 29 "]
["7. Adjustments to transfers from National or Provincial Government"]
["8. Adjusts. = 'Other' Adjustments proposed to be approved; including revenue under-collection (MFMA section 28(2)(a)); additional revenue appropriation on existing programmes (section 28(2))(b); projected savings (section 28(2)(d)); error correction (section 28(2)(f))"]
["9. G = B + C + D + E + F"]
["10. Adjusted Budget H = (A or A1) + G"]

{"sheet":"B8-ResRecon","index":16,"n_rows":70,"n_cols":22,"rows_kept":70,"cut":false,"hidden":false,"merged":[[1,1,3,1],[1,0,3,0],[1,2,1,10]]}
[{"$f":"muni&\" - \"&_ADJ8&\" - \"&Date","v":"WC031 Theewaterskloof - Table B8 Cash backed reserves/accumulated surplus reconciliation - 16 April 2026"}]
[{"$f":"desc","v":"Description"},{"$f":"head27","v":"Ref"},{"$f":"Head2","v":"Budget Year 2025/26"},null,null,null,null,null,null,null,null,{"$f":"Head10","v":"Budget Year +1 2026/27"},{"$f":"Head11","v":"Budget Year +2 2027/28"}]
[null,null,{"$f":"Head6","v":"Original Budget"},{"$f":"Head54","v":"Prior Adjusted"},{"$f":"Head51","v":"Accum. Funds"},{"$f":"Head52","v":"Multi-year capital"},{"$f":"Head53","v":"Unfore. Unavoid."},{"$f":"Head55","v":"Nat. or Prov. Govt"},{"$f":"Head50","v":"Other Adjusts."},{"$f":"Head56","v":"Total Adjusts."},{"$f":"Head7","v":"Adjusted Budget"},{"$f":"Head7","v":"Adjusted Budget"},{"$f":"Head7","v":"Adjusted Budget"},null,null,null,null,null,null,null,null,"Adjusted Budget"]
[null,null,null,3,4,5,6,7,8,9,10,null,null,null,null,null,null,null,null,null,null,10]
["R thousands",null,"A","A1","B","C","D","E","F","G","H",null,null,null,null,null,null,null,null,null,null,"H"]
["Cash and investments available"]
["Cash/cash equivalents at the year end",1,7963859.6570670456,1568496.7797777578,0,0,0,0,6491369.2165209204,6491369.2165209204,8059865.9962986782,14104271.619796354,21220770.942139551,null,null,null,null,null,null,null,null,1568496.7797768079]
["Other current investments  > 90 days",null,2.9874565079808235E-3,-0.50662143062800169,0,0,0,0,9.0897083282470703E-7,9.0897083282470703E-7,-0.50662052165716887,-0.50662058033049107,0.4933793842792511,null,null,null,null,null,null,null,null,-0.50662048067897558]
["Non current assets - Investments",1,9340722.489599999,273643.3200000003,0,0,0,0,0,0,273643.3200000003,273643.3200000003,273643.3200000003,null,null,null,null,null,null,null,null,273643.3200000003]
["Cash and investments available:",null,17304582.1496545,1842139.5931563275,0,0,0,0,6491369.2165218294,6491369.2165218294,8333508.8096781569,14377914.433175774,21494414.755518936,null,null,null,null,null,null,null,null,1842139.5931563275]
[]
["Applications of cash and investments"]
["Unspent conditional transfers",null,527594,3761368.5099999886,0,0,0,0,5781347.0000000894,5781347.0000000894,9542715.510000078,9542715.5100000501,9542715.5100000501,null,null,null,null,null,null,null,null,3761368.5099999886]
["Unspent borrowing",null,0,0,0,0,0,0,0,0,0,0,0,null,null,null,null,null,null,null,null,0]
["Statutory requirements",null,0,0,0,0,0,0,0,0,0,0,0,null,null,null,null,null,null,null,null,0]
["Other working capital requirements",2,218124778.62417984,180850253.70727986,null,null,null,null,189292,189292,181039545.70727986,192277930.35578802,195397843.64724958,null,null,null,null,null,null,null,null,180850253.70727986]
["Other provisions",null,47506196.412620001,47506196.412620001,0,0,0,0,-10391852.39762,-10391852.39762,37114344.015000001,50356568.197377205,53377962.289219841,null,null,null,null,null,null,null,null,47506196.412620001]
["Long term investments committed",null,9340722.489599999,273643.3200000003,null,null,null,null,0,0,273643.3200000003,273643.3200000003,273643.3200000003,null,null,null,null,null,null,null,null,273643.3200000003]
["Reserves to be backed by cash/investments",null,0,0,null,null,null,null,0,0,0,0,0,null,null,null,null,null,null,null,null,0]
["Total Application of cash and investments:",null,275499291.52639985,232391461.94989985,0,0,0,0,-4421213.3976199105,-4421213.3976199105,227970248.55227995,252450857.38316527,258592164.76646948,null,null,null,null,null,null,null,null,232391461.94989985]
["Surplus(shortfall)",null,-258194709.37674534,-230549322.35674351,0,0,0,0,10912582.61414174,10912582.61414174,-219636739.74260178,-238072942.9499895,-237097750.01095054,null,null,null,null,null,null,null,null,-230549322.35674351]
[{"$f":"head27a","v":"References"}]
["1. Must reconcile with the Adjustments Budget Cash Flow and Adjustements Budget Financial Position"]
["2. Council approval for policy required - include sufficient working capital (e.g. allowing for a % of current debtors > 90 days as uncollectable)"]
["3. Only complete if a previous adjusted budget has been approved in the same financial year. Reflect most recent adjusted budget."]
["4. Additional cash-backed accumulated funds/unspent funds (MFMA section 18(1)(b) and section 28(2)(e)) identified after the Original Budget approved and after annual financial statements audited (note: only where underspending could not reasonably have been foreseen)"]
["5. Increases of funds approved under MFMA section 31"]
["6. Adjustments approved in accordance with MFMA section 29 "]
["7. Adjustments to transfers from National or Provincial Government"]
["8. Adjusts. = 'Other' Adjustments proposed to be approved; including revenue under-collection (MFMA section 28(2)(a)); additional revenue appropriation on existing programmes (section 28(2))(b); projected savings (section 28(2)(d)); error correction (section 28(2)(f))"]
["9. G = B + C + D + E + F"]
["10. Adjusted Budget H = (A or A1) + G"]
[]
[]
[]
[]
[{"$f":"A16","v":"Other working capital requirements"}]
["Debtors",null,{"$f":"IF(ISERROR(ROUND(C43*C44,-3)),0,(ROUND(C44*C43,-3)))","v":71283000},{"$f":"IF(ISERROR(ROUND(D43*D44,0)),0,(ROUND(D43*D44,0)))","v":65887009},null,null,null,null,null,null,{"$f":"IF(ISERROR(ROUND(K43*K44,0)),0,(ROUND(K43*K44,0)))","v":65697717},{"$f":"IF(ISERROR(ROUND(L43*L44,0)),0,(ROUND(L43*L44,0)))","v":68966503},{"$f":"IF(ISERROR(ROUND(M43*M44,0)),0,(ROUND(M43*M44,0)))","v":70016901},null,null,null,null,null,null,null,null,65887009]
["Creditors due",null,{"$f":"'SB2'!C147+'SB2'!C148","v":289407778.62417984},{"$f":"'SB2'!D147+'SB2'!D148","v":246737262.70727986},{"$f":"'SB2'!E147+'SB2'!E148","v":0},{"$f":"'SB2'!F147+'SB2'!F148","v":0},{"$f":"'SB2'!G147+'SB2'!G148","v":0},{"$f":"'SB2'!H147+'SB2'!H148","v":0},{"$f":"'SB2'!I147+'SB2'!I148","v":0},{"$f":"'SB2'!J147+'SB2'!J148","v":0},{"$f":"'SB2'!K147+'SB2'!K148","v":246737262.70727986},{"$f":"'SB2'!L147+'SB2'!L148","v":261244433.35578802},{"$f":"'SB2'!M147+'SB2'!M148","v":265414744.64724958},null,null,null,null,null,null,null,null,246737262.70727986]
["Total",null,{"$f":"C38-C39","v":-218124778.62417984},{"$f":"D38-D39","v":-180850253.70727986},null,null,null,null,null,null,{"$f":"K38-K39","v":-181039545.70727986},{"$f":"L38-L39","v":-192277930.35578802},{"$f":"M38-M39","v":-195397843.64724958},null,null,null,null,null,null,null,null,-180850253.70727986]
[]
["Debtors collection assumptions:"]
["Balance outstanding - debtors",null,{"$f":"'B6-FinPos'!C9+'B6-FinPos'!C10+'B6-FinPos'!C11+'B6-FinPos'!C24+'B6-FinPos'!C25","v":83907150.150517717},{"$f":"'B6-FinPos'!D9+'B6-FinPos'!D10+'B6-FinPos'!D11+'B6-FinPos'!D24+'B6-FinPos'!D25","v":78546787.501518026},null,null,null,null,null,null,{"$f":"'B6-FinPos'!K9+'B6-FinPos'!K10+'B6-FinPos'!K11+'B6-FinPos'!K24+'B6-FinPos'!K25","v":78546787.501518026},{"$f":"'B6-FinPos'!L9+'B6-FinPos'!L10+'B6-FinPos'!L11+'B6-FinPos'!L24+'B6-FinPos'!L25","v":80209993.178518042},{"$f":"'B6-FinPos'!M9+'B6-FinPos'!M10+'B6-FinPos'!M11+'B6-FinPos'!M24+'B6-FinPos'!M25","v":81366828.592518046},null,null,null,null,null,null,null,null,78546787.501518086]
["Estimate of debtors collection rate",null,{"$f":"IF(ISERROR('SB6'!G10),0,('SB6'!G10))","v":0.84955122067679989},{"$f":"IF(ISERROR('SB6'!H10),0,('SB6'!H10))","v":0.83882499873631056},null,null,null,null,null,null,{"$f":"IF(ISERROR('SB6'!I10),0,('SB6'!I10))","v":0.83641507735420761},{"$f":"IF(ISERROR('SB6'!J10),0,('SB6'!J10))","v":0.85982432606911641},{"$f":"IF(ISERROR('SB6'!K10),0,('SB6'!K10))","v":0.86050915692400098},null,null,null,null,null,null,null,null,0.83882499873631056]
[]
[{"$f":"A18","v":"Long term investments committed"}]
["(Insert description; eg sinking fund)",null,{"$f":"'B6-FinPos'!C17","v":9340722.489599999},{"$f":"'B6-FinPos'!D17","v":273643.3200000003},{"$f":"'B6-FinPos'!E17","v":0},{"$f":"'B6-FinPos'!F17","v":0},{"$f":"'B6-FinPos'!G17","v":0},{"$f":"'B6-FinPos'!H17","v":0},{"$f":"'B6-FinPos'!I17","v":0},{"$f":"'B6-FinPos'!J17","v":0},{"$f":"'B6-FinPos'!K17","v":273643.3200000003},{"$f":"'B6-FinPos'!L17","v":273643.3200000003},{"$f":"'B6-FinPos'!M17","v":273643.3200000003},null,null,null,null,null,null,null,null,273643.3200000003]
[]
[]
[]
[]
[]
[]
[]
[null,null,{"$f":"SUM(C47:C54)","v":9340722.489599999},{"$f":"SUM(D47:D54)","v":273643.3200000003},null,null,null,null,null,null,{"$f":"SUM(K47:K54)","v":273643.3200000003},{"$f":"SUM(L47:L54)","v":273643.3200000003},{"$f":"SUM(M47:M54)","v":273643.3200000003},null,null,null,null,null,null,null,null,273643.3200000003]
[]
[{"$f":"A19","v":"Reserves to be backed by cash/investments"}]
["Housing Development Fund",null,{"$f":"+'SB2'!C183","v":0},{"$f":"+'SB2'!D183","v":0},null,null,null,null,null,null,{"$f":"+'SB2'!K183","v":0},{"$f":"+'SB2'!L183","v":0},{"$f":"+'SB2'!M183","v":0},null,null,null,null,null,null,null,null,0]
["Capital replacement",null,{"$f":"'SB2'!C184","v":0},{"$f":"'SB2'!D184","v":0},null,null,null,null,null,null,{"$f":"'SB2'!K184","v":0},{"$f":"'SB2'!L184","v":0},{"$f":"'SB2'!M184","v":0},null,null,null,null,null,null,null,null,0]
["Self-insurance"]
["Compensation for Occupational Injuries and Diseases"]
["Employee Benefit"]
["Non-current Provisions"]
["Valuation"]
["Investment in associate account"]
["Capitalisation"]
[]
[]
[null,null,{"$f":"'SB2'!C186","v":0},{"$f":"'SB2'!D186","v":0},null,null,null,null,null,null,{"$f":"'SB2'!K186","v":0},{"$f":"'SB2'!L186","v":0},{"$f":"'SB2'!M186","v":0},null,null,null,null,null,null,null,null,0]
[null,null,{"$f":"SUM(C58:C69)","v":0},{"$f":"SUM(D58:D69)","v":0},null,null,null,null,null,null,{"$f":"SUM(K58:K69)","v":0},0,0,null,null,null,null,null,null,null,null,0]

{"sheet":"B9-Asset","index":17,"n_rows":243,"n_cols":26,"rows_kept":243,"cut":false,"hidden":false,"merged":[[239,0,239,12],[233,0,233,12],[237,0,237,12],[1,2,1,10],[1,0,3,0],[1,1,3,1],[232,0,232,12],[234,0,234,12],[235,0,235,12]]}
[{"$f":"muni&\" - \"&_ADJ9&\" - \"&Date","v":"WC031 Theewaterskloof - Table B9 Asset Management - 16 April 2026"}]
[{"$f":"desc","v":"Description"},{"$f":"head27","v":"Ref"},{"$f":"Head2","v":"Budget Year 2025/26"},null,null,null,null,null,null,null,null,{"$f":"Head10","v":"Budget Year +1 2026/27"},{"$f":"Head11","v":"Budget Year +2 2027/28"}]
[null,null,{"$f":"Head6","v":"Original Budget"},{"$f":"Head54","v":"Prior Adjusted"},{"$f":"Head51","v":"Accum. Funds"},{"$f":"Head52","v":"Multi-year capital"},{"$f":"Head53","v":"Unfore. Unavoid."},{"$f":"Head55","v":"Nat. or Prov. Govt"},{"$f":"Head50","v":"Other Adjusts."},{"$f":"Head56","v":"Total Adjusts."},{"$f":"Head7","v":"Adjusted Budget"},{"$f":"Head7","v":"Adjusted Budget"},{"$f":"Head7","v":"Adjusted Budget"},null,null,null,null,null,null,null,null,"Adjusted Budget"]
[null,null,null,7,8,9,10,11,12,13,14,null,null,null,null,null,null,null,null,null,null,14]
["R thousands",null,"A","A1","B","C","D","E","F","G","H",null,null,null,null,null,null,null,null,null,null,"H"]
["CAPITAL EXPENDITURE"]
["Total New Assets to be adjusted",1,{"$f":"C17+C20+C21+C24+C27+C28+SUM(C31:C37)+C40","v":45762340.073999994},{"$f":"D17+D20+D21+D24+D27+D28+SUM(D31:D37)+D40","v":85165777},0,0,0,0,-1892129,-1892129,83273648,114020000,116471000,null,null,null,null,null,null,null,null,85165777]
["Roads Infrastructure",null,{"$f":"SB18a!C9","v":45288340.073999994},{"$f":"SB18a!D9","v":78724340},{"$f":"SB18a!E9","v":0},{"$f":"SB18a!F9","v":0},{"$f":"SB18a!G9","v":0},{"$f":"SB18a!H9","v":0},{"$f":"SB18a!I9","v":617742},{"$f":"SB18a!J9","v":617742},{"$f":"SB18a!K9","v":79342082},{"$f":"SB18a!L9","v":108020000},{"$f":"SB18a!M9","v":110200000},null,null,null,null,null,null,null,null,78724340]
["Storm water Infrastructure",null,{"$f":"SB18a!C14","v":0},{"$f":"SB18a!D14","v":0},{"$f":"SB18a!E14","v":0},{"$f":"SB18a!F14","v":0},{"$f":"SB18a!G14","v":0},{"$f":"SB18a!H14","v":0},{"$f":"SB18a!I14","v":0},{"$f":"SB18a!J14","v":0},{"$f":"SB18a!K14","v":0},{"$f":"SB18a!L14","v":0},{"$f":"SB18a!M14","v":0},null,null,null,null,null,null,null,null,0]
["Electrical Infrastructure",null,{"$f":"SB18a!C18","v":0},{"$f":"SB18a!D18","v":1277437},{"$f":"SB18a!E18","v":0},{"$f":"SB18a!F18","v":0},{"$f":"SB18a!G18","v":0},{"$f":"SB18a!H18","v":0},{"$f":"SB18a!I18","v":-1277437},{"$f":"SB18a!J18","v":-1277437},{"$f":"SB18a!K18","v":0},{"$f":"SB18a!L18","v":6000000},{"$f":"SB18a!M18","v":6271000},null,null,null,null,null,null,null,null,1277437]
["Water Supply Infrastructure",null,{"$f":"SB18a!C28","v":0},{"$f":"SB18a!D28","v":0},{"$f":"SB18a!E28","v":0},{"$f":"SB18a!F28","v":0},{"$f":"SB18a!G28","v":0},{"$f":"SB18a!H28","v":0},{"$f":"SB18a!I28","v":0},{"$f":"SB18a!J28","v":0},{"$f":"SB18a!K28","v":0},{"$f":"SB18a!L28","v":0},{"$f":"SB18a!M28","v":0},null,null,null,null,null,null,null,null,0]
["Sanitation Infrastructure",null,{"$f":"SB18a!C39","v":0},{"$f":"SB18a!D39","v":0},{"$f":"SB18a!E39","v":0},{"$f":"SB18a!F39","v":0},{"$f":"SB18a!G39","v":0},{"$f":"SB18a!H39","v":0},{"$f":"SB18a!I39","v":0},{"$f":"SB18a!J39","v":0},{"$f":"SB18a!K39","v":0},{"$f":"SB18a!L39","v":0},{"$f":"SB18a!M39","v":0},null,null,null,null,null,null,null,null,0]
["Solid Waste Infrastructure",null,{"$f":"SB18a!C46","v":0},{"$f":"SB18a!D46","v":0},{"$f":"SB18a!E46","v":0},{"$f":"SB18a!F46","v":0},{"$f":"SB18a!G46","v":0},{"$f":"SB18a!H46","v":0},{"$f":"SB18a!I46","v":0},{"$f":"SB18a!J46","v":0},{"$f":"SB18a!K46","v":0},{"$f":"SB18a!L46","v":0},{"$f":"SB18a!M46","v":0},null,null,null,null,null,null,null,null,0]
["Rail Infrastructure",null,{"$f":"SB18a!C54","v":0},{"$f":"SB18a!D54","v":0},{"$f":"SB18a!E54","v":0},{"$f":"SB18a!F54","v":0},{"$f":"SB18a!G54","v":0},{"$f":"SB18a!H54","v":0},{"$f":"SB18a!I54","v":0},{"$f":"SB18a!J54","v":0},{"$f":"SB18a!K54","v":0},{"$f":"SB18a!L54","v":0},{"$f":"SB18a!M54","v":0},null,null,null,null,null,null,null,null,0]
["Coastal Infrastructure",null,{"$f":"SB18a!C64","v":0},{"$f":"SB18a!D64","v":0},{"$f":"SB18a!E64","v":0},{"$f":"SB18a!F64","v":0},{"$f":"SB18a!G64","v":0},{"$f":"SB18a!H64","v":0},{"$f":"SB18a!I64","v":0},{"$f":"SB18a!J64","v":0},{"$f":"SB18a!K64","v":0},{"$f":"SB18a!L64","v":0},{"$f":"SB18a!M64","v":0},null,null,null,null,null,null,null,null,0]
["Information and Communication Infrastructure",null,{"$f":"SB18a!C70","v":0},{"$f":"SB18a!D70","v":0},{"$f":"SB18a!E70","v":0},{"$f":"SB18a!F70","v":0},{"$f":"SB18a!G70","v":0},{"$f":"SB18a!H70","v":0},{"$f":"SB18a!I70","v":0},{"$f":"SB18a!J70","v":0},{"$f":"SB18a!K70","v":0},{"$f":"SB18a!L70","v":0},{"$f":"SB18a!M70","v":0},null,null,null,null,null,null,null,null,0]
["Infrastructure",null,{"$f":"SUM(C8:C16)","v":45288340.073999994},{"$f":"SUM(D8:D16)","v":80001777},0,0,0,0,-659695,-659695,79342082,114020000,116471000,null,null,null,null,null,null,null,null,80001777]
["Community Facilities",null,{"$f":"SB18a!C77","v":0},{"$f":"SB18a!D77","v":1550000},{"$f":"SB18a!E77","v":0},{"$f":"SB18a!F77","v":0},{"$f":"SB18a!G77","v":0},{"$f":"SB18a!H77","v":0},{"$f":"SB18a!I77","v":-1100000},{"$f":"SB18a!J77","v":-1100000},{"$f":"SB18a!K77","v":450000},{"$f":"SB18a!L77","v":0},{"$f":"SB18a!M77","v":0},null,null,null,null,null,null,null,null,1550000]
["Sport and Recreation Facilities",null,{"$f":"SB18a!C100","v":0},{"$f":"SB18a!D100","v":0},{"$f":"SB18a!E100","v":0},{"$f":"SB18a!F100","v":0},{"$f":"SB18a!G100","v":0},{"$f":"SB18a!H100","v":0},{"$f":"SB18a!I100","v":0},{"$f":"SB18a!J100","v":0},{"$f":"SB18a!K100","v":0},{"$f":"SB18a!L100","v":0},{"$f":"SB18a!M100","v":0},null,null,null,null,null,null,null,null,0]
["Community Assets",null,{"$f":"SUM(C18:C19)","v":0},{"$f":"SUM(D18:D19)","v":1550000},0,0,0,0,-1100000,-1100000,450000,0,0,null,null,null,null,null,null,null,null,1550000]
["Heritage Assets",null,{"$f":"SB18a!C105","v":0},{"$f":"SB18a!D105","v":0},{"$f":"SB18a!E105","v":0},{"$f":"SB18a!F105","v":0},{"$f":"SB18a!G105","v":0},{"$f":"SB18a!H105","v":0},{"$f":"SB18a!I105","v":0},{"$f":"SB18a!J105","v":0},{"$f":"SB18a!K105","v":0},{"$f":"SB18a!L105","v":0},{"$f":"SB18a!M105","v":0},null,null,null,null,null,null,null,null,0]
["Revenue Generating",null,{"$f":"SB18a!C113","v":0},{"$f":"SB18a!D113","v":0},{"$f":"SB18a!E113","v":0},{"$f":"SB18a!F113","v":0},{"$f":"SB18a!G113","v":0},{"$f":"SB18a!H113","v":0},{"$f":"SB18a!I113","v":0},{"$f":"SB18a!J113","v":0},{"$f":"SB18a!K113","v":0},{"$f":"SB18a!L113","v":0},{"$f":"SB18a!M113","v":0},null,null,null,null,null,null,null,null,0]
["Non-revenue Generating",null,{"$f":"SB18a!C116","v":0},{"$f":"SB18a!D116","v":0},{"$f":"SB18a!E116","v":0},{"$f":"SB18a!F116","v":0},{"$f":"SB18a!G116","v":0},{"$f":"SB18a!H116","v":0},{"$f":"SB18a!I116","v":0},{"$f":"SB18a!J116","v":0},{"$f":"SB18a!K116","v":0},{"$f":"SB18a!L116","v":0},{"$f":"SB18a!M116","v":0},null,null,null,null,null,null,null,null,0]
["Investment properties",null,{"$f":"SUM(C22:C23)","v":0},{"$f":"SUM(D22:D23)","v":0},0,0,0,0,0,0,0,0,0,null,null,null,null,null,null,null,null,0]
["Operational Buildings",null,{"$f":"SB18a!C121","v":0},{"$f":"SB18a!D121","v":0},{"$f":"SB18a!E121","v":0},{"$f":"SB18a!F121","v":0},{"$f":"SB18a!G121","v":0},{"$f":"SB18a!H121","v":0},{"$f":"SB18a!I121","v":0},{"$f":"SB18a!J121","v":0},{"$f":"SB18a!K121","v":0},{"$f":"SB18a!L121","v":0},{"$f":"SB18a!M121","v":0},null,null,null,null,null,null,null,null,0]
["Housing",null,{"$f":"SB18a!C133","v":0},{"$f":"SB18a!D133","v":0},{"$f":"SB18a!E133","v":0},{"$f":"SB18a!F133","v":0},{"$f":"SB18a!G133","v":0},{"$f":"SB18a!H133","v":0},{"$f":"SB18a!I133","v":0},{"$f":"SB18a!J133","v":0},{"$f":"SB18a!K133","v":0},{"$f":"SB18a!L133","v":0},{"$f":"SB18a!M133","v":0},null,null,null,null,null,null,null,null,0]
["Other Assets",6,{"$f":"SUM(C25:C26)","v":0},{"$f":"SUM(D25:D26)","v":0},0,0,0,0,0,0,0,0,0,null,null,null,null,null,null,null,null,0]
["Biological or Cultivated Assets",null,{"$f":"SB18a!C138","v":0},{"$f":"SB18a!D138","v":0},{"$f":"SB18a!E138","v":0},{"$f":"SB18a!F138","v":0},{"$f":"SB18a!G138","v":0},{"$f":"SB18a!H138","v":0},{"$f":"SB18a!I138","v":0},{"$f":"SB18a!J138","v":0},{"$f":"SB18a!K138","v":0},{"$f":"SB18a!L138","v":0},{"$f":"SB18a!M138","v":0},null,null,null,null,null,null,null,null,0]
["Servitudes",null,{"$f":"SB18a!C142","v":0},{"$f":"SB18a!D142","v":0},{"$f":"SB18a!E142","v":0},{"$f":"SB18a!F142","v":0},{"$f":"SB18a!G142","v":0},{"$f":"SB18a!H142","v":0},{"$f":"SB18a!I142","v":0},{"$f":"SB18a!J142","v":0},{"$f":"SB18a!K142","v":0},{"$f":"SB18a!L142","v":0},{"$f":"SB18a!M142","v":0},null,null,null,null,null,null,null,null,0]
["Licences and Rights",null,{"$f":"SB18a!C143","v":0},{"$f":"SB18a!D143","v":0},{"$f":"SB18a!E143","v":0},{"$f":"SB18a!F143","v":0},{"$f":"SB18a!G143","v":0},{"$f":"SB18a!H143","v":0},{"$f":"SB18a!I143","v":0},{"$f":"SB18a!J143","v":0},{"$f":"SB18a!K143","v":0},{"$f":"SB18a!L143","v":0},{"$f":"SB18a!M143","v":0},null,null,null,null,null,null,null,null,0]
["Intangible Assets",null,{"$f":"SUM(C29:C30)","v":0},{"$f":"SUM(D29:D30)","v":0},0,0,0,0,0,0,0,0,0,null,null,null,null,null,null,null,null,0]
["Computer Equipment",null,{"$f":"SB18a!C151","v":50000},{"$f":"SB18a!D151","v":2470000},{"$f":"SB18a!E151","v":0},{"$f":"SB18a!F151","v":0},{"$f":"SB18a!G151","v":0},{"$f":"SB18a!H151","v":0},{"$f":"SB18a!I151","v":-233000},{"$f":"SB18a!J151","v":-233000},{"$f":"SB18a!K151","v":2237000},{"$f":"SB18a!L151","v":0},{"$f":"SB18a!M151","v":0},null,null,null,null,null,null,null,null,2470000]
["Furniture and Office Equipment",null,{"$f":"SB18a!C154","v":374000},{"$f":"SB18a!D154","v":414000},{"$f":"SB18a!E154","v":0},{"$f":"SB18a!F154","v":0},{"$f":"SB18a!G154","v":0},{"$f":"SB18a!H154","v":0},{"$f":"SB18a!I154","v":100566},{"$f":"SB18a!J154","v":100566},{"$f":"SB18a!K154","v":514566},{"$f":"SB18a!L154","v":0},{"$f":"SB18a!M154","v":0},null,null,null,null,null,null,null,null,414000]
["Machinery and Equipment",null,{"$f":"SB18a!C157","v":50000},{"$f":"SB18a!D157","v":730000},{"$f":"SB18a!E157","v":0},{"$f":"SB18a!F157","v":0},{"$f":"SB18a!G157","v":0},{"$f":"SB18a!H157","v":0},{"$f":"SB18a!I157","v":0},{"$f":"SB18a!J157","v":0},{"$f":"SB18a!K157","v":730000},{"$f":"SB18a!L157","v":0},{"$f":"SB18a!M157","v":0},null,null,null,null,null,null,null,null,730000]
["Transport Assets",null,{"$f":"SB18a!C160","v":0},{"$f":"SB18a!D160","v":0},{"$f":"SB18a!E160","v":0},{"$f":"SB18a!F160","v":0},{"$f":"SB18a!G160","v":0},{"$f":"SB18a!H160","v":0},{"$f":"SB18a!I160","v":0},{"$f":"SB18a!J160","v":0},{"$f":"SB18a!K160","v":0},{"$f":"SB18a!L160","v":0},{"$f":"SB18a!M160","v":0},null,null,null,null,null,null,null,null,0]
["Land",null,{"$f":"SB18a!C163","v":0},{"$f":"SB18a!D163","v":0},{"$f":"SB18a!E163","v":0},{"$f":"SB18a!F163","v":0},{"$f":"SB18a!G163","v":0},{"$f":"SB18a!H163","v":0},{"$f":"SB18a!I163","v":0},{"$f":"SB18a!J163","v":0},{"$f":"SB18a!K163","v":0},{"$f":"SB18a!L163","v":0},{"$f":"SB18a!M163","v":0},null,null,null,null,null,null,null,null,0]
["Zoo's, Marine and Non-biological Animals",null,{"$f":"SB18a!C166","v":0},{"$f":"SB18a!D166","v":0},{"$f":"SB18a!E166","v":0},{"$f":"SB18a!F166","v":0},{"$f":"SB18a!G166","v":0},{"$f":"SB18a!H166","v":0},{"$f":"SB18a!I166","v":0},{"$f":"SB18a!J166","v":0},{"$f":"SB18a!K166","v":0},{"$f":"SB18a!L166","v":0},{"$f":"SB18a!M166","v":0},null,null,null,null,null,null,null,null,0]
["Mature",null,{"$f":"+SB18a!C170","v":0},{"$f":"+SB18a!D170","v":0},{"$f":"+SB18a!E170","v":0},{"$f":"+SB18a!F170","v":0},{"$f":"+SB18a!G170","v":0},{"$f":"+SB18a!H170","v":0},{"$f":"+SB18a!I170","v":0},{"$f":"+SB18a!J170","v":0},{"$f":"+SB18a!K170","v":0},{"$f":"+SB18a!L170","v":0},{"$f":"+SB18a!M170","v":0},null,null,null,null,null,null,null,null,0]
["Immature",null,{"$f":"+SB18a!C173","v":0},{"$f":"+SB18a!D173","v":0},{"$f":"+SB18a!E173","v":0},{"$f":"+SB18a!F173","v":0},{"$f":"+SB18a!G173","v":0},{"$f":"+SB18a!H173","v":0},{"$f":"+SB18a!I173","v":0},{"$f":"+SB18a!J173","v":0},{"$f":"+SB18a!K173","v":0},{"$f":"+SB18a!L173","v":0},{"$f":"+SB18a!M173","v":0},null,null,null,null,null,null,null,null,0]
["Living Resources",null,{"$f":"+C38+C39","v":0},{"$f":"+D38+D39","v":0},0,0,0,0,0,0,0,0,0,null,null,null,null,null,null,null,null,0]
[]
["Total Renewal of Existing Assets to be adjusted",2,{"$f":"C52+C55+C56+C59+C62+C63+SUM(C66:C72)+C75","v":0},{"$f":"D52+D55+D56+D59+D62+D63+SUM(D66:D72)+D75","v":0},0,0,0,0,0,0,0,0,0,null,null,null,null,null,null,null,null,0]
["Roads Infrastructure",null,{"$f":"SB18b!C9","v":0},{"$f":"SB18b!D9","v":0},{"$f":"SB18b!E9","v":0},{"$f":"SB18b!F9","v":0},{"$f":"SB18b!G9","v":0},{"$f":"SB18b!H9","v":0},{"$f":"SB18b!I9","v":0},{"$f":"SB18b!J9","v":0},{"$f":"SB18b!K9","v":0},{"$f":"SB18b!L9","v":0},{"$f":"SB18b!M9","v":0},null,null,null,null,null,null,null,null,0]
["Storm water Infrastructure",null,{"$f":"SB18b!C14","v":0},{"$f":"SB18b!D14","v":0},{"$f":"SB18b!E14","v":0},{"$f":"SB18b!F14","v":0},{"$f":"SB18b!G14","v":0},{"$f":"SB18b!H14","v":0},{"$f":"SB18b!I14","v":0},{"$f":"SB18b!J14","v":0},{"$f":"SB18b!K14","v":0},{"$f":"SB18b!L14","v":0},{"$f":"SB18b!M14","v":0},null,null,null,null,null,null,null,null,0]
["Electrical Infrastructure",null,{"$f":"SB18b!C18","v":0},{"$f":"SB18b!D18","v":0},{"$f":"SB18b!E18","v":0},{"$f":"SB18b!F18","v":0},{"$f":"SB18b!G18","v":0},{"$f":"SB18b!H18","v":0},{"$f":"SB18b!I18","v":0},{"$f":"SB18b!J18","v":0},{"$f":"SB18b!K18","v":0},{"$f":"SB18b!L18","v":0},{"$f":"SB18b!M18","v":0},null,null,null,null,null,null,null,null,0]
["Water Supply Infrastructure",null,{"$f":"SB18b!C28","v":0},{"$f":"SB18b!D28","v":0},{"$f":"SB18b!E28","v":0},{"$f":"SB18b!F28","v":0},{"$f":"SB18b!G28","v":0},{"$f":"SB18b!H28","v":0},{"$f":"SB18b!I28","v":0},{"$f":"SB18b!J28","v":0},{"$f":"SB18b!K28","v":0},{"$f":"SB18b!L28","v":0},{"$f":"SB18b!M28","v":0},null,null,null,null,null,null,null,null,0]
["Sanitation Infrastructure",null,{"$f":"SB18b!C39","v":0},{"$f":"SB18b!D39","v":0},{"$f":"SB18b!E39","v":0},{"$f":"SB18b!F39","v":0},{"$f":"SB18b!G39","v":0},{"$f":"SB18b!H39","v":0},{"$f":"SB18b!I39","v":0},{"$f":"SB18b!J39","v":0},{"$f":"SB18b!K39","v":0},{"$f":"SB18b!L39","v":0},{"$f":"SB18b!M39","v":0},null,null,null,null,null,null,null,null,0]
["Solid Waste Infrastructure",null,{"$f":"SB18b!C46","v":0},{"$f":"SB18b!D46","v":0},{"$f":"SB18b!E46","v":0},{"$f":"SB18b!F46","v":0},{"$f":"SB18b!G46","v":0},{"$f":"SB18b!H46","v":0},{"$f":"SB18b!I46","v":0},{"$f":"SB18b!J46","v":0},{"$f":"SB18b!K46","v":0},{"$f":"SB18b!L46","v":0},{"$f":"SB18b!M46","v":0},null,null,null,null,null,null,null,null,0]
["Rail Infrastructure",null,{"$f":"SB18b!C54","v":0},{"$f":"SB18b!D54","v":0},{"$f":"SB18b!E54","v":0},{"$f":"SB18b!F54","v":0},{"$f":"SB18b!G54","v":0},{"$f":"SB18b!H54","v":0},{"$f":"SB18b!I54","v":0},{"$f":"SB18b!J54","v":0},{"$f":"SB18b!K54","v":0},{"$f":"SB18b!L54","v":0},{"$f":"SB18b!M54","v":0},null,null,null,null,null,null,null,null,0]
["Coastal Infrastructure",null,{"$f":"SB18b!C64","v":0},{"$f":"SB18b!D64","v":0},{"$f":"SB18b!E64","v":0},{"$f":"SB18b!F64","v":0},{"$f":"SB18b!G64","v":0},{"$f":"SB18b!H64","v":0},{"$f":"SB18b!I64","v":0},{"$f":"SB18b!J64","v":0},{"$f":"SB18b!K64","v":0},{"$f":"SB18b!L64","v":0},{"$f":"SB18b!M64","v":0},null,null,null,null,null,null,null,null,0]
["Information and Communication Infrastructure",null,{"$f":"SB18b!C70","v":0},{"$f":"SB18b!D70","v":0},{"$f":"SB18b!E70","v":0},{"$f":"SB18b!F70","v":0},{"$f":"SB18b!G70","v":0},{"$f":"SB18b!H70","v":0},{"$f":"SB18b!I70","v":0},{"$f":"SB18b!J70","v":0},{"$f":"SB18b!K70","v":0},{"$f":"SB18b!L70","v":0},{"$f":"SB18b!M70","v":0},null,null,null,null,null,null,null,null,0]
["Infrastructure",null,{"$f":"SUM(C43:C51)","v":0},{"$f":"SUM(D43:D51)","v":0},0,0,0,0,0,0,0,0,0,null,null,null,null,null,null,null,null,0]
["Community Facilities",null,{"$f":"SB18b!C77","v":0},{"$f":"SB18b!D77","v":0},{"$f":"SB18b!E77","v":0},{"$f":"SB18b!F77","v":0},{"$f":"SB18b!G77","v":0},{"$f":"SB18b!H77","v":0},{"$f":"SB18b!I77","v":0},{"$f":"SB18b!J77","v":0},{"$f":"SB18b!K77","v":0},{"$f":"SB18b!L77","v":0},{"$f":"SB18b!M77","v":0},null,null,null,null,null,null,null,null,0]
["Sport and Recreation Facilities",null,{"$f":"SB18b!C100","v":0},{"$f":"SB18b!D100","v":0},{"$f":"SB18b!E100","v":0},{"$f":"SB18b!F100","v":0},{"$f":"SB18b!G100","v":0},{"$f":"SB18b!H100","v":0},{"$f":"SB18b!I100","v":0},{"$f":"SB18b!J100","v":0},{"$f":"SB18b!K100","v":0},{"$f":"SB18b!L100","v":0},{"$f":"SB18b!M100","v":0},null,null,null,null,null,null,null,null,0]
["Community Assets",null,{"$f":"SUM(C53:C54)","v":0},{"$f":"SUM(D53:D54)","v":0},0,0,0,0,0,0,0,0,0,null,null,null,null,null,null,null,null,0]
["Heritage Assets",null,{"$f":"SB18b!C105","v":0},{"$f":"SB18b!D105","v":0},{"$f":"SB18b!E105","v":0},{"$f":"SB18b!F105","v":0},{"$f":"SB18b!G105","v":0},{"$f":"SB18b!H105","v":0},{"$f":"SB18b!I105","v":0},{"$f":"SB18b!J105","v":0},{"$f":"SB18b!K105","v":0},{"$f":"SB18b!L105","v":0},{"$f":"SB18b!M105","v":0},null,null,null,null,null,null,null,null,0]
["Revenue Generating",null,{"$f":"SB18b!C113","v":0},{"$f":"SB18b!D113","v":0},{"$f":"SB18b!E113","v":0},{"$f":"SB18b!F113","v":0},{"$f":"SB18b!G113","v":0},{"$f":"SB18b!H113","v":0},{"$f":"SB18b!I113","v":0},{"$f":"SB18b!J113","v":0},{"$f":"SB18b!K113","v":0},{"$f":"SB18b!L113","v":0},{"$f":"SB18b!M113","v":0},null,null,null,null,null,null,null,null,0]
["Non-revenue Generating",null,{"$f":"SB18b!C116","v":0},{"$f":"SB18b!D116","v":0},{"$f":"SB18b!E116","v":0},{"$f":"SB18b!F116","v":0},{"$f":"SB18b!G116","v":0},{"$f":"SB18b!H116","v":0},{"$f":"SB18b!I116","v":0},{"$f":"SB18b!J116","v":0},{"$f":"SB18b!K116","v":0},{"$f":"SB18b!L116","v":0},{"$f":"SB18b!M116","v":0},null,null,null,null,null,null,null,null,0]
["Investment properties",null,{"$f":"SUM(C57:C58)","v":0},{"$f":"SUM(D57:D58)","v":0},0,0,0,0,0,0,0,0,0,null,null,null,null,null,null,null,null,0]
["Operational Buildings",null,{"$f":"SB18b!C121","v":0},{"$f":"SB18b!D121","v":0},{"$f":"SB18b!E121","v":0},{"$f":"SB18b!F121","v":0},{"$f":"SB18b!G121","v":0},{"$f":"SB18b!H121","v":0},{"$f":"SB18b!I121","v":0},{"$f":"SB18b!J121","v":0},{"$f":"SB18b!K121","v":0},{"$f":"SB18b!L121","v":0},{"$f":"SB18b!M121","v":0},null,null,null,null,null,null,null,null,0]
["Housing",null,{"$f":"SB18b!C133","v":0},{"$f":"SB18b!D133","v":0},{"$f":"SB18b!E133","v":0},{"$f":"SB18b!F133","v":0},{"$f":"SB18b!G133","v":0},{"$f":"SB18b!H133","v":0},{"$f":"SB18b!I133","v":0},{"$f":"SB18b!J133","v":0},{"$f":"SB18b!K133","v":0},{"$f":"SB18b!L133","v":0},{"$f":"SB18b!M133","v":0},null,null,null,null,null,null,null,null,0]
["Other Assets",6,{"$f":"SUM(C60:C61)","v":0},{"$f":"SUM(D60:D61)","v":0},0,0,0,0,0,0,0,0,0,null,null,null,null,null,null,null,null,0]
["Biological or Cultivated Assets",null,{"$f":"SB18b!C138","v":0},{"$f":"SB18b!D138","v":0},{"$f":"SB18b!E138","v":0},{"$f":"SB18b!F138","v":0},{"$f":"SB18b!G138","v":0},{"$f":"SB18b!H138","v":0},{"$f":"SB18b!I138","v":0},{"$f":"SB18b!J138","v":0},{"$f":"SB18b!K138","v":0},{"$f":"SB18b!L138","v":0},{"$f":"SB18b!M138","v":0},null,null,null,null,null,null,null,null,0]
["Servitudes",null,{"$f":"SB18b!C142","v":0},{"$f":"SB18b!D142","v":0},{"$f":"SB18b!E142","v":0},{"$f":"SB18b!F142","v":0},{"$f":"SB18b!G142","v":0},{"$f":"SB18b!H142","v":0},{"$f":"SB18b!I142","v":0},{"$f":"SB18b!J142","v":0},{"$f":"SB18b!K142","v":0},{"$f":"SB18b!L142","v":0},{"$f":"SB18b!M142","v":0},null,null,null,null,null,null,null,null,0]
["Licences and Rights",null,{"$f":"SB18b!C143","v":0},{"$f":"SB18b!D143","v":0},{"$f":"SB18b!E143","v":0},{"$f":"SB18b!F143","v":0},{"$f":"SB18b!G143","v":0},{"$f":"SB18b!H143","v":0},{"$f":"SB18b!I143","v":0},{"$f":"SB18b!J143","v":0},{"$f":"SB18b!K143","v":0},{"$f":"SB18b!L143","v":0},{"$f":"SB18b!M143","v":0},null,null,null,null,null,null,null,null,0]
["Intangible Assets",null,{"$f":"SUM(C64:C65)","v":0},{"$f":"SUM(D64:D65)","v":0},0,0,0,0,0,0,0,0,0,null,null,null,null,null,null,null,null,0]
["Computer Equipment",null,{"$f":"SB18b!C151","v":0},{"$f":"SB18b!D151","v":0},{"$f":"SB18b!E151","v":0},{"$f":"SB18b!F151","v":0},{"$f":"SB18b!G151","v":0},{"$f":"SB18b!H151","v":0},{"$f":"SB18b!I151","v":0},{"$f":"SB18b!J151","v":0},{"$f":"SB18b!K151","v":0},{"$f":"SB18b!L151","v":0},{"$f":"SB18b!M151","v":0},null,null,null,null,null,null,null,null,0]
["Furniture and Office Equipment",null,{"$f":"SB18b!C154","v":0},{"$f":"SB18b!D154","v":0},{"$f":"SB18b!E154","v":0},{"$f":"SB18b!F154","v":0},{"$f":"SB18b!G154","v":0},{"$f":"SB18b!H154","v":0},{"$f":"SB18b!I154","v":0},{"$f":"SB18b!J154","v":0},{"$f":"SB18b!K154","v":0},{"$f":"SB18b!L154","v":0},{"$f":"SB18b!M154","v":0},null,null,null,null,null,null,null,null,0]
["Machinery and Equipment",null,{"$f":"SB18b!C157","v":0},{"$f":"SB18b!D157","v":0},{"$f":"SB18b!E157","v":0},{"$f":"SB18b!F157","v":0},{"$f":"SB18b!G157","v":0},{"$f":"SB18b!H157","v":0},{"$f":"SB18b!I157","v":0},{"$f":"SB18b!J157","v":0},{"$f":"SB18b!K157","v":0},{"$f":"SB18b!L157","v":0},{"$f":"SB18b!M157","v":0},null,null,null,null,null,null,null,null,0]
["Transport Assets",null,{"$f":"SB18b!C160","v":0},{"$f":"SB18b!D160","v":0},{"$f":"SB18b!E160","v":0},{"$f":"SB18b!F160","v":0},{"$f":"SB18b!G160","v":0},{"$f":"SB18b!H160","v":0},{"$f":"SB18b!I160","v":0},{"$f":"SB18b!J160","v":0},{"$f":"SB18b!K160","v":0},{"$f":"SB18b!L160","v":0},{"$f":"SB18b!M160","v":0},null,null,null,null,null,null,null,null,0]
["Land",null,{"$f":"SB18b!C163","v":0},{"$f":"SB18b!D163","v":0},{"$f":"SB18b!E163","v":0},{"$f":"SB18b!F163","v":0},{"$f":"SB18b!G163","v":0},{"$f":"SB18b!H163","v":0},{"$f":"SB18b!I163","v":0},{"$f":"SB18b!J163","v":0},{"$f":"SB18b!K163","v":0},{"$f":"SB18b!L163","v":0},{"$f":"SB18b!M163","v":0},null,null,null,null,null,null,null,null,0]
["Zoo's, Marine and Non-biological Animals",null,{"$f":"SB18b!C166","v":0},{"$f":"SB18b!D166","v":0},{"$f":"SB18b!E166","v":0},{"$f":"SB18b!F166","v":0},{"$f":"SB18b!G166","v":0},{"$f":"SB18b!H166","v":0},{"$f":"SB18b!I166","v":0},{"$f":"SB18b!J166","v":0},{"$f":"SB18b!K166","v":0},{"$f":"SB18b!L166","v":0},{"$f":"SB18b!M166","v":0},null,null,null,null,null,null,null,null,0]
["Mature",null,{"$f":"+SB18b!C170","v":0},{"$f":"+SB18b!D170","v":0},{"$f":"+SB18b!E170","v":0},{"$f":"+SB18b!F170","v":0},{"$f":"+SB18b!G170","v":0},{"$f":"+SB18b!H170","v":0},{"$f":"+SB18b!I170","v":0},{"$f":"+SB18b!J170","v":0},{"$f":"+SB18b!K170","v":0},{"$f":"+SB18b!L170","v":0},{"$f":"+SB18b!M170","v":0},null,null,null,null,null,null,null,null,0]
["Immature",null,{"$f":"+SB18b!C173","v":0},{"$f":"+SB18b!D173","v":0},{"$f":"+SB18b!E173","v":0},{"$f":"+SB18b!F173","v":0},{"$f":"+SB18b!G173","v":0},{"$f":"+SB18b!H173","v":0},{"$f":"+SB18b!I173","v":0},{"$f":"+SB18b!J173","v":0},{"$f":"+SB18b!K173","v":0},{"$f":"+SB18b!L173","v":0},{"$f":"+SB18b!M173","v":0},null,null,null,null,null,null,null,null,0]
["Living Resources",null,{"$f":"+C73+C74","v":0},0,0,0,0,0,0,0,0,0,0,null,null,null,null,null,null,null,null,0]
[]
["Total Upgrading of Existing Assets to be adjusted","2a",{"$f":"C87+C90+C91+C94+C97+C98+SUM(C101:C107)+C110","v":43067999.645652175},{"$f":"D87+D90+D91+D94+D97+D98+SUM(D101:D107)+D110","v":37309969.21652174},0,0,0,0,-2360084.21652174,-2360084.21652174,34949885,37687913,35566000,null,null,null,null,null,null,null,null,37309969.21652174]
["Roads Infrastructure",null,{"$f":"SB18e!C9","v":0},{"$f":"SB18e!D9","v":0},{"$f":"SB18e!E9","v":0},{"$f":"SB18e!F9","v":0},{"$f":"SB18e!G9","v":0},{"$f":"SB18e!H9","v":0},{"$f":"SB18e!I9","v":0},{"$f":"SB18e!J9","v":0},{"$f":"SB18e!K9","v":0},{"$f":"SB18e!L9","v":0},{"$f":"SB18e!M9","v":0},null,null,null,null,null,null,null,null,0]
["Storm water Infrastructure",null,{"$f":"SB18e!C14","v":0},{"$f":"SB18e!D14","v":0},{"$f":"SB18e!E14","v":0},{"$f":"SB18e!F14","v":0},{"$f":"SB18e!G14","v":0},{"$f":"SB18e!H14","v":0},{"$f":"SB18e!I14","v":0},{"$f":"SB18e!J14","v":0},{"$f":"SB18e!K14","v":0},{"$f":"SB18e!L14","v":0},{"$f":"SB18e!M14","v":0},null,null,null,null,null,null,null,null,0]
["Electrical Infrastructure",null,{"$f":"SB18e!C18","v":0},{"$f":"SB18e!D18","v":0},{"$f":"SB18e!E18","v":0},{"$f":"SB18e!F18","v":0},{"$f":"SB18e!G18","v":0},{"$f":"SB18e!H18","v":0},{"$f":"SB18e!I18","v":0},{"$f":"SB18e!J18","v":0},{"$f":"SB18e!K18","v":0},{"$f":"SB18e!L18","v":0},{"$f":"SB18e!M18","v":0},null,null,null,null,null,null,null,null,0]
["Water Supply Infrastructure",null,{"$f":"SB18e!C28","v":5000000},{"$f":"SB18e!D28","v":3800000},{"$f":"SB18e!E28","v":0},{"$f":"SB18e!F28","v":0},{"$f":"SB18e!G28","v":0},{"$f":"SB18e!H28","v":0},{"$f":"SB18e!I28","v":0},{"$f":"SB18e!J28","v":0},{"$f":"SB18e!K28","v":3800000},{"$f":"SB18e!L28","v":0},{"$f":"SB18e!M28","v":22042316.521739129},null,null,null,null,null,null,null,null,3800000]
["Sanitation Infrastructure",null,{"$f":"SB18e!C39","v":31667999.645652171},{"$f":"SB18e!D39","v":27500228.71652174},{"$f":"SB18e!E39","v":0},{"$f":"SB18e!F39","v":0},{"$f":"SB18e!G39","v":0},{"$f":"SB18e!H39","v":0},{"$f":"SB18e!I39","v":-2662294.71652174},{"$f":"SB18e!J39","v":-2662294.71652174},{"$f":"SB18e!K39","v":24837934},{"$f":"SB18e!L39","v":37687913},{"$f":"SB18e!M39","v":13523683.478260867},null,null,null,null,null,null,null,null,27500228.71652174]
["Solid Waste Infrastructure",null,{"$f":"SB18e!C46","v":0},{"$f":"SB18e!D46","v":0},{"$f":"SB18e!E46","v":0},{"$f":"SB18e!F46","v":0},{"$f":"SB18e!G46","v":0},{"$f":"SB18e!H46","v":0},{"$f":"SB18e!I46","v":0},{"$f":"SB18e!J46","v":0},{"$f":"SB18e!K46","v":0},{"$f":"SB18e!L46","v":0},{"$f":"SB18e!M46","v":0},null,null,null,null,null,null,null,null,0]
["Rail Infrastructure",null,{"$f":"SB18e!C54","v":0},{"$f":"SB18e!D54","v":0},{"$f":"SB18e!E54","v":0},{"$f":"SB18e!F54","v":0},{"$f":"SB18e!G54","v":0},{"$f":"SB18e!H54","v":0},{"$f":"SB18e!I54","v":0},{"$f":"SB18e!J54","v":0},{"$f":"SB18e!K54","v":0},{"$f":"SB18e!L54","v":0},{"$f":"SB18e!M54","v":0},null,null,null,null,null,null,null,null,0]
["Coastal Infrastructure",null,{"$f":"SB18e!C64","v":0},{"$f":"SB18e!D64","v":0},{"$f":"SB18e!E64","v":0},{"$f":"SB18e!F64","v":0},{"$f":"SB18e!G64","v":0},{"$f":"SB18e!H64","v":0},{"$f":"SB18e!I64","v":0},{"$f":"SB18e!J64","v":0},{"$f":"SB18e!K64","v":0},{"$f":"SB18e!L64","v":0},{"$f":"SB18e!M64","v":0},null,null,null,null,null,null,null,null,0]
["Information and Communication Infrastructure",null,{"$f":"SB18e!C70","v":0},{"$f":"SB18e!D70","v":0},{"$f":"SB18e!E70","v":0},{"$f":"SB18e!F70","v":0},{"$f":"SB18e!G70","v":0},{"$f":"SB18e!H70","v":0},{"$f":"SB18e!I70","v":0},{"$f":"SB18e!J70","v":0},{"$f":"SB18e!K70","v":0},{"$f":"SB18e!L70","v":0},{"$f":"SB18e!M70","v":0},null,null,null,null,null,null,null,null,0]
["Infrastructure",null,{"$f":"SUM(C78:C86)","v":36667999.645652175},{"$f":"SUM(D78:D86)","v":31300228.71652174},0,0,0,0,-2662294.71652174,-2662294.71652174,28637934,37687913,35566000,null,null,null,null,null,null,null,null,31300228.71652174]
["Community Facilities",null,{"$f":"SB18e!C77","v":0},{"$f":"SB18e!D77","v":884412},{"$f":"SB18e!E77","v":0},{"$f":"SB18e!F77","v":0},{"$f":"SB18e!G77","v":0},{"$f":"SB18e!H77","v":0},{"$f":"SB18e!I77","v":0},{"$f":"SB18e!J77","v":0},{"$f":"SB18e!K77","v":884412},{"$f":"SB18e!L77","v":0},{"$f":"SB18e!M77","v":0},null,null,null,null,null,null,null,null,884412]
["Sport and Recreation Facilities",null,{"$f":"SB18e!C100","v":0},{"$f":"SB18e!D100","v":574966.5},{"$f":"SB18e!E100","v":0},{"$f":"SB18e!F100","v":0},{"$f":"SB18e!G100","v":0},{"$f":"SB18e!H100","v":0},{"$f":"SB18e!I100","v":302210.5},{"$f":"SB18e!J100","v":302210.5},{"$f":"SB18e!K100","v":877177},{"$f":"SB18e!L100","v":0},{"$f":"SB18e!M100","v":0},null,null,null,null,null,null,null,null,574966.5]
["Community Assets",null,{"$f":"SUM(C88:C89)","v":0},{"$f":"SUM(D88:D89)","v":1459378.5},0,0,0,0,302210.5,302210.5,1761589,0,0,null,null,null,null,null,null,null,null,1459378.5]
["Heritage Assets",null,{"$f":"SB18e!C105","v":0},{"$f":"SB18e!D105","v":0},{"$f":"SB18e!E105","v":0},{"$f":"SB18e!F105","v":0},{"$f":"SB18e!G105","v":0},{"$f":"SB18e!H105","v":0},{"$f":"SB18e!I105","v":0},{"$f":"SB18e!J105","v":0},{"$f":"SB18e!K105","v":0},{"$f":"SB18e!L105","v":0},{"$f":"SB18e!M105","v":0},null,null,null,null,null,null,null,null,0]
["Revenue Generating",null,{"$f":"SB18e!C113","v":0},{"$f":"SB18e!D113","v":0},{"$f":"SB18e!E113","v":0},{"$f":"SB18e!F113","v":0},{"$f":"SB18e!G113","v":0},{"$f":"SB18e!H113","v":0},{"$f":"SB18e!I113","v":0},{"$f":"SB18e!J113","v":0},{"$f":"SB18e!K113","v":0},{"$f":"SB18e!L113","v":0},{"$f":"SB18e!M113","v":0},null,null,null,null,null,null,null,null,0]
["Non-revenue Generating",null,{"$f":"SB18e!C116","v":0},{"$f":"SB18e!D116","v":0},{"$f":"SB18e!E116","v":0},{"$f":"SB18e!F116","v":0},{"$f":"SB18e!G116","v":0},{"$f":"SB18e!H116","v":0},{"$f":"SB18e!I116","v":0},{"$f":"SB18e!J116","v":0},{"$f":"SB18e!K116","v":0},{"$f":"SB18e!L116","v":0},{"$f":"SB18e!M116","v":0},null,null,null,null,null,null,null,null,0]
["Investment properties",null,{"$f":"SUM(C92:C93)","v":0},{"$f":"SUM(D92:D93)","v":0},0,0,0,0,0,0,0,0,0,null,null,null,null,null,null,null,null,0]
["Operational Buildings",null,{"$f":"SB18e!C121","v":0},{"$f":"SB18e!D121","v":0},{"$f":"SB18e!E121","v":0},{"$f":"SB18e!F121","v":0},{"$f":"SB18e!G121","v":0},{"$f":"SB18e!H121","v":0},{"$f":"SB18e!I121","v":0},{"$f":"SB18e!J121","v":0},{"$f":"SB18e!K121","v":0},{"$f":"SB18e!L121","v":0},{"$f":"SB18e!M121","v":0},null,null,null,null,null,null,null,null,0]
["Housing",null,{"$f":"SB18e!C133","v":0},{"$f":"SB18e!D133","v":0},{"$f":"SB18e!E133","v":0},{"$f":"SB18e!F133","v":0},{"$f":"SB18e!G133","v":0},{"$f":"SB18e!H133","v":0},{"$f":"SB18e!I133","v":0},{"$f":"SB18e!J133","v":0},{"$f":"SB18e!K133","v":0},{"$f":"SB18e!L133","v":0},{"$f":"SB18e!M133","v":0},null,null,null,null,null,null,null,null,0]
["Other Assets",6,{"$f":"SUM(C95:C96)","v":0},{"$f":"SUM(D95:D96)","v":0},0,0,0,0,0,0,0,0,0,null,null,null,null,null,null,null,null,0]
["Biological or Cultivated Assets",null,{"$f":"SB18e!C138","v":0},{"$f":"SB18e!D138","v":0},{"$f":"SB18e!E138","v":0},{"$f":"SB18e!F138","v":0},{"$f":"SB18e!G138","v":0},{"$f":"SB18e!H138","v":0},{"$f":"SB18e!I138","v":0},{"$f":"SB18e!J138","v":0},{"$f":"SB18e!K138","v":0},{"$f":"SB18e!L138","v":0},{"$f":"SB18e!M138","v":0},null,null,null,null,null,null,null,null,0]
["Servitudes",null,{"$f":"SB18e!C142","v":0},{"$f":"SB18e!D142","v":0},{"$f":"SB18e!E142","v":0},{"$f":"SB18e!F142","v":0},{"$f":"SB18e!G142","v":0},{"$f":"SB18e!H142","v":0},{"$f":"SB18e!I142","v":0},{"$f":"SB18e!J142","v":0},{"$f":"SB18e!K142","v":0},{"$f":"SB18e!L142","v":0},{"$f":"SB18e!M142","v":0},null,null,null,null,null,null,null,null,0]
["Licences and Rights",null,{"$f":"SB18e!C143","v":0},{"$f":"SB18e!D143","v":0},{"$f":"SB18e!E143","v":0},{"$f":"SB18e!F143","v":0},{"$f":"SB18e!G143","v":0},{"$f":"SB18e!H143","v":0},{"$f":"SB18e!I143","v":0},{"$f":"SB18e!J143","v":0},{"$f":"SB18e!K143","v":0},{"$f":"SB18e!L143","v":0},{"$f":"SB18e!M143","v":0},null,null,null,null,null,null,null,null,0]
["Intangible Assets",null,{"$f":"SUM(C99:C100)","v":0},{"$f":"SUM(D99:D100)","v":0},0,0,0,0,0,0,0,0,0,null,null,null,null,null,null,null,null,0]
["Computer Equipment",null,{"$f":"SB18e!C151","v":0},{"$f":"SB18e!D151","v":0},{"$f":"SB18e!E151","v":0},{"$f":"SB18e!F151","v":0},{"$f":"SB18e!G151","v":0},{"$f":"SB18e!H151","v":0},{"$f":"SB18e!I151","v":0},{"$f":"SB18e!J151","v":0},{"$f":"SB18e!K151","v":0},{"$f":"SB18e!L151","v":0},{"$f":"SB18e!M151","v":0},null,null,null,null,null,null,null,null,0]
["Furniture and Office Equipment",null,{"$f":"SB18e!C154","v":0},{"$f":"SB18e!D154","v":0},{"$f":"SB18e!E154","v":0},{"$f":"SB18e!F154","v":0},{"$f":"SB18e!G154","v":0},{"$f":"SB18e!H154","v":0},{"$f":"SB18e!I154","v":0},{"$f":"SB18e!J154","v":0},{"$f":"SB18e!K154","v":0},{"$f":"SB18e!L154","v":0},{"$f":"SB18e!M154","v":0},null,null,null,null,null,null,null,null,0]
["Machinery and Equipment",null,{"$f":"SB18e!C157","v":0},{"$f":"SB18e!D157","v":0},{"$f":"SB18e!E157","v":0},{"$f":"SB18e!F157","v":0},{"$f":"SB18e!G157","v":0},{"$f":"SB18e!H157","v":0},{"$f":"SB18e!I157","v":0},{"$f":"SB18e!J157","v":0},{"$f":"SB18e!K157","v":0},{"$f":"SB18e!L157","v":0},{"$f":"SB18e!M157","v":0},null,null,null,null,null,null,null,null,0]
["Transport Assets",null,{"$f":"SB18e!C160","v":6400000},{"$f":"SB18e!D160","v":4550362},{"$f":"SB18e!E160","v":0},{"$f":"SB18e!F160","v":0},{"$f":"SB18e!G160","v":0},{"$f":"SB18e!H160","v":0},{"$f":"SB18e!I160","v":0},{"$f":"SB18e!J160","v":0},{"$f":"SB18e!K160","v":4550362},{"$f":"SB18e!L160","v":0},{"$f":"SB18e!M160","v":0},null,null,null,null,null,null,null,null,4550362]
["Land",null,{"$f":"SB18e!C163","v":0},{"$f":"SB18e!D163","v":0},{"$f":"SB18e!E163","v":0},{"$f":"SB18e!F163","v":0},{"$f":"SB18e!G163","v":0},{"$f":"SB18e!H163","v":0},{"$f":"SB18e!I163","v":0},{"$f":"SB18e!J163","v":0},{"$f":"SB18e!K163","v":0},{"$f":"SB18e!L163","v":0},{"$f":"SB18e!M163","v":0},null,null,null,null,null,null,null,null,0]
["Zoo's, Marine and Non-biological Animals",null,{"$f":"SB18e!C166","v":0},{"$f":"SB18e!D166","v":0},{"$f":"SB18e!E166","v":0},{"$f":"SB18e!F166","v":0},{"$f":"SB18e!G166","v":0},{"$f":"SB18e!H166","v":0},{"$f":"SB18e!I166","v":0},{"$f":"SB18e!J166","v":0},{"$f":"SB18e!K166","v":0},{"$f":"SB18e!L166","v":0},{"$f":"SB18e!M166","v":0},null,null,null,null,null,null,null,null,0]
["Mature",null,{"$f":"SB18e!C170","v":0},{"$f":"SB18e!D170","v":0},{"$f":"SB18e!E170","v":0},{"$f":"SB18e!F170","v":0},{"$f":"SB18e!G170","v":0},{"$f":"SB18e!H170","v":0},{"$f":"SB18e!I170","v":0},{"$f":"SB18e!J170","v":0},{"$f":"SB18e!K170","v":0},{"$f":"SB18e!L170","v":0},{"$f":"SB18e!M170","v":0},null,null,null,null,null,null,null,null,0]
["Immature",null,{"$f":"SB18e!C173","v":0},{"$f":"SB18e!D173","v":0},{"$f":"SB18e!E173","v":0},{"$f":"SB18e!F173","v":0},{"$f":"SB18e!G173","v":0},{"$f":"SB18e!H173","v":0},{"$f":"SB18e!I173","v":0},{"$f":"SB18e!J173","v":0},{"$f":"SB18e!K173","v":0},{"$f":"SB18e!L173","v":0},{"$f":"SB18e!M173","v":0},null,null,null,null,null,null,null,null,0]
["Living Resources",null,{"$f":"+C108+C109","v":0},0,0,0,0,0,0,0,0,0,0,null,null,null,null,null,null,null,null,0]
[]
["Total Capital Expenditure to be adjusted",4,{"$f":"C7+C42+C77","v":88830339.719652176},122475746.21652174,0,0,0,0,-4252213.21652174,-4252213.21652174,118223533,151707913,152037000,null,null,null,null,null,null,null,null,122475746.21652174]
["Roads Infrastructure",null,{"$f":"C8+C43+C78","v":45288340.073999994},78724340,0,0,0,0,617742,617742,79342082,108020000,110200000,null,null,null,null,null,null,null,null,78724340]
["Storm water Infrastructure",null,{"$f":"C9+C44+C79","v":0},0,0,0,0,0,0,0,0,0,0,null,null,null,null,null,null,null,null,0]
["Electrical Infrastructure",null,{"$f":"C10+C45+C80","v":0},1277437,0,0,0,0,-1277437,-1277437,0,6000000,6271000,null,null,null,null,null,null,null,null,1277437]
["Water Supply Infrastructure",null,{"$f":"C11+C46+C81","v":5000000},3800000,0,0,0,0,0,0,3800000,0,22042316.521739129,null,null,null,null,null,null,null,null,3800000]
["Sanitation Infrastructure",null,{"$f":"C12+C47+C82","v":31667999.645652171},27500228.71652174,0,0,0,0,-2662294.71652174,-2662294.71652174,24837934,37687913,13523683.478260867,null,null,null,null,null,null,null,null,27500228.71652174]
["Solid Waste Infrastructure",null,{"$f":"C13+C48+C83","v":0},0,0,0,0,0,0,0,0,0,0,null,null,null,null,null,null,null,null,0]
["Rail Infrastructure",null,{"$f":"C14+C49+C84","v":0},0,0,0,0,0,0,0,0,0,0,null,null,null,null,null,null,null,null,0]
["Coastal Infrastructure",null,{"$f":"C15+C50+C85","v":0},0,0,0,0,0,0,0,0,0,0,null,null,null,null,null,null,null,null,0]
["Information and Communication Infrastructure",null,{"$f":"C16+C51+C86","v":0},0,0,0,0,0,0,0,0,0,0,null,null,null,null,null,null,null,null,0]
["Infrastructure",null,{"$f":"C17+C52+C87","v":81956339.719652176},111302005.71652174,0,0,0,0,-3321989.71652174,-3321989.71652174,107980016,151707913,152037000,null,null,null,null,null,null,null,null,111302005.71652174]
["Community Facilities",null,{"$f":"C18+C53+C88","v":0},2434412,0,0,0,0,-1100000,-1100000,1334412,0,0,null,null,null,null,null,null,null,null,2434412]
["Sport and Recreation Facilities",null,{"$f":"C19+C54+C89","v":0},574966.5,0,0,0,0,302210.5,302210.5,877177,0,0,null,null,null,null,null,null,null,null,574966.5]
["Community Assets",null,{"$f":"C20+C55+C90","v":0},3009378.5,0,0,0,0,-797789.5,-797789.5,2211589,0,0,null,null,null,null,null,null,null,null,3009378.5]
["Heritage Assets",null,{"$f":"C21+C56+C91","v":0},0,0,0,0,0,0,0,0,0,0,null,null,null,null,null,null,null,null,0]
["Revenue Generating",null,{"$f":"C22+C57+C92","v":0},0,0,0,0,0,0,0,0,0,0,null,null,null,null,null,null,null,null,0]
["Non-revenue Generating",null,{"$f":"C23+C58+C93","v":0},{"$f":"D23+D58+D93","v":0},0,0,0,0,0,0,0,0,0,null,null,null,null,null,null,null,null,0]
["Investment properties",null,0,{"$f":"D24+D59+D94","v":0},0,0,0,0,0,0,0,0,0,null,null,null,null,null,null,null,null,0]
["Operational Buildings",null,0,{"$f":"D25+D60+D95","v":0},0,0,0,0,0,0,0,0,0,null,null,null,null,null,null,null,null,0]
["Housing",null,0,{"$f":"D26+D61+D96","v":0},0,0,0,0,0,0,0,0,0,null,null,null,null,null,null,null,null,0]
["Other Assets",null,0,{"$f":"D27+D62+D97","v":0},0,0,0,0,0,0,0,0,0,null,null,null,null,null,null,null,null,0]
["Biological or Cultivated Assets",null,0,{"$f":"D28+D63+D98","v":0},0,0,0,0,0,0,0,0,0,null,null,null,null,null,null,null,null,0]
["Servitudes",null,0,{"$f":"D29+D64+D99","v":0},0,0,0,0,0,0,0,0,0,null,null,null,null,null,null,null,null,0]
["Licences and Rights",null,0,{"$f":"D30+D65+D100","v":0},0,0,0,0,0,0,0,0,0,null,null,null,null,null,null,null,null,0]
["Intangible Assets",null,0,{"$f":"D31+D66+D101","v":0},0,0,0,0,0,0,0,0,0,null,null,null,null,null,null,null,null,0]
["Computer Equipment",null,50000,{"$f":"D32+D67+D102","v":2470000},0,0,0,0,-233000,-233000,2237000,0,0,null,null,null,null,null,null,null,null,2470000]
["Furniture and Office Equipment",null,374000,{"$f":"D33+D68+D103","v":414000},0,0,0,0,100566,100566,514566,0,0,null,null,null,null,null,null,null,null,414000]
["Machinery and Equipment",null,50000,{"$f":"D34+D69+D104","v":730000},0,0,0,0,0,0,730000,0,0,null,null,null,null,null,null,null,null,730000]
["Transport Assets",null,6400000,{"$f":"D35+D70+D105","v":4550362},0,0,0,0,0,0,4550362,0,0,null,null,null,null,null,null,null,null,4550362]
["Land",null,0,{"$f":"D36+D71+D106","v":0},0,0,0,0,0,0,0,0,0,null,null,null,null,null,null,null,null,0]
["Zoo's, Marine and Non-biological Animals",null,0,{"$f":"D37+D72+D107","v":0},0,0,0,0,0,0,0,0,0,null,null,null,null,null,null,null,null,0]
["Mature",null,0,0,0,0,0,0,0,0,0,0,0,null,null,null,null,null,null,null,null,0]
["Immature",null,0,0,0,0,0,0,0,0,0,0,0,null,null,null,null,null,null,null,null,0]
["Living Resources",null,{"$f":"+C40+C75+C110","v":0},{"$f":"+D40+D75+D110","v":0},0,0,0,0,0,0,0,0,0,null,null,null,null,null,null,null,null,0]
["TOTAL CAPITAL EXPENDITURE to be adjusted",4,{"$f":"C7+C42+C77","v":88830339.719652176},{"$f":"D7+D42+D77","v":122475746.21652174},0,0,0,0,-4252213.21652174,-4252213.21652174,118223533,151707913,152037000,null,null,"Audited",null,"Depreciation",null,null,null,122475746.21652174]
[]
["ASSET REGISTER SUMMARY - PPE (WDV)",5,1447076027.9782243,1400578149.7042372,0,0,0,0,-4252213.21652174,-4252213.21652174,1396325936.4877155,1512492532.4877155,1629018215.4877157,null,null,null,null,null,null,null,null,1400578149.7042372]
[{"$f":"+A8","v":"Roads Infrastructure"},null,192012965.99482796,222763557.55000001,0,0,0,0,617742,617742,223381299.55000001,327180667.55000001,433160035.55000001,null,null,148332347.55000001,null,{"$f":"SUMIF(SB18d!$A:$A,'B9-Asset'!$A149,SB18d!K:K)","v":4293130},{"$f":"SUMIF(SB18d!$A:$A,'B9-Asset'!$A149,SB18d!L:L)","v":4220632},{"$f":"SUMIF(SB18d!$A:$A,'B9-Asset'!$A149,SB18d!M:M)","v":4220632},null,222763557.55000001,{"$f":"197776463.4*0.75","v":148332347.55000001},null,{"$f":"K149+K150","v":272336677.39999998},0.76095050389653296]
["Storm water Infrastructure",null,60320089.849939592,48955377.849999994,0,0,0,0,0,0,48955377.849999994,48462639.849999994,47969901.849999994,null,null,49444115.849999994,null,{"$f":"SUMIF(SB18d!$A:$A,'B9-Asset'!$A150,SB18d!K:K)","v":488738},{"$f":"SUMIF(SB18d!$A:$A,'B9-Asset'!$A150,SB18d!L:L)","v":492738},{"$f":"SUMIF(SB18d!$A:$A,'B9-Asset'!$A150,SB18d!M:M)","v":492738},null,48955377.849999994,{"$f":"197776463.4-W149","v":49444115.849999994}]
["Electrical Infrastructure",null,148655955.51354799,141746847.31880879,0,0,0,0,-1277437,-1277437,140469410.31880879,142890230.31880879,145582050.31880879,null,null,144400567.31880879,null,{"$f":"SUMIF(SB18d!$A:$A,'B9-Asset'!$A151,SB18d!K:K)","v":3931157},{"$f":"SUMIF(SB18d!$A:$A,'B9-Asset'!$A151,SB18d!L:L)","v":3579180},{"$f":"SUMIF(SB18d!$A:$A,'B9-Asset'!$A151,SB18d!M:M)","v":3579180},null,141746847.31880879,144400567.31880879]
["Water Supply Infrastructure",null,226858500.73148078,224269898.13999981,0,0,0,0,0,0,224269898.13999981,217018078.13999981,231808574.66173893,null,null,228094839.13999981,null,{"$f":"SUMIF(SB18d!$A:$A,'B9-Asset'!$A152,SB18d!K:K)","v":7624941},{"$f":"SUMIF(SB18d!$A:$A,'B9-Asset'!$A152,SB18d!L:L)","v":7251820},{"$f":"SUMIF(SB18d!$A:$A,'B9-Asset'!$A152,SB18d!M:M)","v":7251820},null,224269898.13999981,228094839.13999981]
["Sanitation Infrastructure",null,490735287.44525373,441713904.88652146,0,0,0,0,-2662294.71652174,-2662294.71652174,439051610.16999972,467342219.16999972,471468598.64826059,null,null,425020210.16999972,null,{"$f":"SUMIF(SB18d!$A:$A,'B9-Asset'!$A153,SB18d!K:K)","v":10806534},{"$f":"SUMIF(SB18d!$A:$A,'B9-Asset'!$A153,SB18d!L:L)","v":9397304},{"$f":"SUMIF(SB18d!$A:$A,'B9-Asset'!$A153,SB18d!M:M)","v":9397304},null,441713904.88652146,425020210.16999972]
["Solid Waste Infrastructure",null,62475175.833410591,55744317.396932602,0,0,0,0,0,0,55744317.396932602,52160323.396932602,48576329.396932602,null,null,64555024.396932602,null,{"$f":"SUMIF(SB18d!$A:$A,'B9-Asset'!$A154,SB18d!K:K)","v":8810707},{"$f":"SUMIF(SB18d!$A:$A,'B9-Asset'!$A154,SB18d!L:L)","v":3583994},{"$f":"SUMIF(SB18d!$A:$A,'B9-Asset'!$A154,SB18d!M:M)","v":3583994},null,55744317.396932602,64555024.396932602]
["Rail Infrastructure",null,0,0,0,0,0,0,0,0,0,0,0,null,null,null,null,null,null,null,null,0]
["Coastal Infrastructure",null,0,0,0,0,0,0,0,0,0,0,0,null,null,null,null,null,null,null,null,0]
["Information and Communication Infrastructure",null,0,0,0,0,0,0,0,0,0,0,0,null,null,null,null,null,null,null,null,0]
["Infrastructure",null,1181057975.3684604,1135193903.1422625,0,0,0,0,-3321989.71652174,-3321989.71652174,1131871913.4257407,1255054158.4257407,1378565490.425741,null,null,null,null,null,null,null,null,1135193903.1422625]
[]
[null,null,null,null,null,null,null,null,null,null,null,0,0]
[{"$f":"+A20","v":"Community Assets"},null,5235232.6900000032,3103348.4900000021,0,0,0,0,-797789.49999999953,-797789.49999999953,2305558.9900000026,2183116.9900000026,2060674.9900000026,null,null,216411.99000000273,null,{"$f":"SUMIF(SB18d!$A:$A,'B9-Asset'!$A161,SB18d!K:K)","v":122442},{"$f":"SUMIF(SB18d!$A:$A,'B9-Asset'!$A161,SB18d!L:L)","v":122442},{"$f":"SUMIF(SB18d!$A:$A,'B9-Asset'!$A161,SB18d!M:M)","v":122442},null,3103348.4900000021]
[{"$f":"+A21","v":"Heritage Assets"},null,0,0,0,0,0,0,0,0,0,0,0,null,null,null,null,null,null,null,null,0]
[null,null,null,null,null,null,null,null,null,null,null,0,0]
[null,null,null,null,null,null,null,null,null,null,null,0,0]
[{"$f":"+A24","v":"Investment properties"},null,67392741.071974665,67261934.321974665,0,0,0,0,0,0,67261934.321974665,67261934.321974665,67261934.321974665,null,null,67261934.321974665,null,{"$f":"SUMIF(SB18d!$A:$A,'B9-Asset'!$A165,SB18d!K:K)","v":0},{"$f":"SUMIF(SB18d!$A:$A,'B9-Asset'!$A165,SB18d!L:L)","v":0},{"$f":"SUMIF(SB18d!$A:$A,'B9-Asset'!$A165,SB18d!M:M)","v":0},null,67261934.321974665]
[null,null,null,0,null,null,null,null,null,null,null,0,0]
[null,null,null,0,null,null,null,null,null,null,null,0,0]
[{"$f":"+A27","v":"Other Assets"},null,86023264,88716138.170000017,0,0,0,0,0,0,88716138.170000017,86793416.170000017,84870694.170000017,null,null,90617860.170000017,null,{"$f":"SUMIF(SB18d!$A:$A,'B9-Asset'!$A168,SB18d!K:K)","v":1901722},{"$f":"SUMIF(SB18d!$A:$A,'B9-Asset'!$A168,SB18d!L:L)","v":1922722},{"$f":"SUMIF(SB18d!$A:$A,'B9-Asset'!$A168,SB18d!M:M)","v":1922722},null,88716138.170000017]
[{"$f":"+A28","v":"Biological or Cultivated Assets"},null,0,0,0,0,0,0,0,0,0,0,0,null,null,null,null,null,null,null,null,0]
[null,null,null,null,null,null,null,null,0,null,null,0,0]
[null,null,null,null,null,null,null,null,null,null,null,0,0]
[{"$f":"+A31","v":"Intangible Assets"},null,93133.517789111764,99063.559999999939,0,0,0,0,0,0,99063.559999999939,38551.559999999939,8039.5599999999395,null,null,157575.55999999994,null,{"$f":"SUMIF(SB18d!$A:$A,'B9-Asset'!$A172,SB18d!K:K)","v":58512},{"$f":"SUMIF(SB18d!$A:$A,'B9-Asset'!$A172,SB18d!L:L)","v":60512},{"$f":"SUMIF(SB18d!$A:$A,'B9-Asset'!$A172,SB18d!M:M)","v":30512},null,99063.559999999939]
["Computer Equipment",null,5929809.1399999978,6995705.6899999967,0,0,0,0,-233000,-233000,6762705.6899999967,6000548.6899999967,5238391.6899999967,null,null,5527362.6899999967,null,{"$f":"SUMIF(SB18d!$A:$A,'B9-Asset'!$A173,SB18d!K:K)/2","v":1001657},{"$f":"SUMIF(SB18d!$A:$A,'B9-Asset'!$A173,SB18d!L:L)/2","v":762157},{"$f":"SUMIF(SB18d!$A:$A,'B9-Asset'!$A173,SB18d!M:M)/2","v":762157},null,6995705.6899999967]
["Furniture and Office Equipment",null,4108161.619999947,4667722.7699999409,0,0,0,0,100566,100566,4768288.7699999409,4160887.7699999409,3553486.7699999409,null,null,4836790.7699999409,null,{"$f":"SUMIF(SB18d!$A:$A,'B9-Asset'!$A174,SB18d!K:K)/2","v":583068},{"$f":"SUMIF(SB18d!$A:$A,'B9-Asset'!$A174,SB18d!L:L)/2","v":607401},{"$f":"SUMIF(SB18d!$A:$A,'B9-Asset'!$A174,SB18d!M:M)/2","v":607401},null,4667722.7699999409]
["Machinery and Equipment",null,4847865.5200000275,5169283.6400000248,0,0,0,0,0,0,5169283.6400000248,4376725.6400000248,3584167.6400000248,null,null,5209841.6400000248,null,{"$f":"SUMIF(SB18d!$A:$A,'B9-Asset'!$A175,SB18d!K:K)/2","v":770558},{"$f":"SUMIF(SB18d!$A:$A,'B9-Asset'!$A175,SB18d!L:L)/2","v":792558},{"$f":"SUMIF(SB18d!$A:$A,'B9-Asset'!$A175,SB18d!M:M)/2","v":792558},null,5169283.6400000248]
["Transport Assets",null,50466063.729999945,47539268.599999942,0,0,0,0,0,0,47539268.599999942,44791411.599999942,42043554.599999942,null,null,46443281.599999942,null,{"$f":"SUMIF(SB18d!$A:$A,'B9-Asset'!$A176,SB18d!K:K)/2","v":3454375},{"$f":"SUMIF(SB18d!$A:$A,'B9-Asset'!$A176,SB18d!L:L)/2","v":2747857},{"$f":"SUMIF(SB18d!$A:$A,'B9-Asset'!$A176,SB18d!M:M)/2","v":2747857},null,47539268.599999942]
["Land",null,41921781.319999993,41831781.319999993,0,0,0,0,0,0,41831781.319999993,41831781.319999993,41831781.319999993,null,null,41831781.319999993,null,{"$f":"SUMIF(SB18d!$A:$A,'B9-Asset'!$A177,SB18d!K:K)","v":0},{"$f":"SUMIF(SB18d!$A:$A,'B9-Asset'!$A177,SB18d!L:L)","v":0},{"$f":"SUMIF(SB18d!$A:$A,'B9-Asset'!$A177,SB18d!M:M)","v":0},null,41831781.319999993]
["Zoo's, Marine and Non-biological Animals",null,0,0,0,0,0,0,0,0,0,0,0,null,null,null,null,null,null,null,null,0]
["Living Resources",null,0,0,0,0,0,0,0,null,null,0,0]
["TOTAL ASSET REGISTER SUMMARY - PPE (WDV)",5,1447076027.9782243,1400578149.7042372,0,0,0,0,-4252213.21652174,-4252213.21652174,1396325936.4877155,1512492532.4877155,1629018215.4877157,null,null,null,null,{"$f":"SUM(R149:R178)","v":43847541},{"$f":"SUM(S149:S178)","v":35541317},{"$f":"SUM(T149:T178)","v":35511317},null,1400578149.7042372]
[]
["EXPENDITURE OTHER ITEMS",null,null,null,null,null,null,null,null,null,null,null,null,null,null,null,null,{"$f":"R180-'B4-FinPerf RE'!K43","v":0},{"$f":"S180-'B4-FinPerf RE'!L43","v":0},{"$f":"T180-'B4-FinPerf RE'!M43","v":0}]
["Depreciation & asset impairment",null,35541317,43847541,0,0,0,0,0,0,43847541,35541317,35511317,null,null,null,null,{"$f":"K180-'B6-FinPos'!K18-'B6-FinPos'!K19-'B6-FinPos'!K23","v":0.16999978071544319},{"$f":"L180-'B6-FinPos'!L18-'B6-FinPos'!L19-'B6-FinPos'!L23","v":0.16999978071544319},{"$f":"M180-'B6-FinPos'!M18-'B6-FinPos'!M19-'B6-FinPos'!M23","v":0.1700000191340223},null,43847541]
["Repairs and Maintenance by asset class",3,148680779,147894890,0,0,0,0,-3590673,-3590673,144304217,155371462,159255789,null,null,null,null,null,null,null,null,147894890]
[{"$f":"+A8","v":"Roads Infrastructure"},null,28897643,27892294,0,0,0,0,-700489,-700489,27191805,30198036,30952997,null,null,null,null,null,null,null,null,27892294]
["Storm water Infrastructure",null,210000,210000,0,0,0,0,-54250,-54250,155750,219450,224936,null,null,null,null,null,null,null,null,210000]
["Electrical Infrastructure",null,15283086,13690039,0,0,0,0,-78237,-78237,13611802,15970826,16370095,null,null,null,null,null,null,null,null,13690039]
["Water Supply Infrastructure",null,21459085,21445191,0,0,0,0,269097,269097,21714288,22424750,22985374,null,null,null,null,null,null,null,null,21445191]
["Sanitation Infrastructure",null,34231000,34856128,0,0,0,0,-362988,-362988,34493140,35771397,36665694,null,null,null,null,null,null,null,null,34856128]
["Solid Waste Infrastructure",null,4717635,3730944,0,0,0,0,18813,18813,3749757,4929931,5053182,null,null,null,null,null,null,null,null,3730944]
["Rail Infrastructure",null,0,0,0,0,0,0,0,0,0,0,0,null,null,null,null,null,null,null,null,0]
["Coastal Infrastructure",null,0,0,0,0,0,0,0,0,0,0,0,null,null,null,null,null,null,null,null,0]
["Information and Communication Infrastructure",null,0,0,0,0,0,0,0,0,0,0,0,null,null,null,null,null,null,null,null,0]
["Infrastructure",null,104798449,101824596,0,0,0,0,-908054,-908054,100916542,109514390,112252278,null,null,null,null,null,null,null,null,101824596]
["Community Facilities",null,13604069,13449375,0,0,0,0,-1011143,-1011143,12438232,14216259,14571665,null,null,null,null,null,null,null,null,13449375]
["Sport and Recreation Facilities",null,393651,1531867,0,0,0,0,-919410,-919410,612457,411367,421653,null,null,null,null,null,null,null,null,1531867]
["Community Assets",null,13997720,14981242,0,0,0,0,-1930553,-1930553,13050689,14627626,14993318,null,null,null,null,null,null,null,null,14981242]
["Heritage Assets",null,0,0,0,0,0,0,0,0,0,0,0,null,null,null,null,null,null,null,null,0]
["Revenue Generating",null,0,0,0,0,0,0,0,0,0,0,0,null,null,null,null,null,null,null,null,0]
["Non-revenue Generating",null,40000,60000,0,0,0,0,-10000,-10000,50000,41800,42845,null,null,null,null,null,null,null,null,60000]
["Investment properties",null,40000,60000,0,0,0,0,-10000,-10000,50000,41800,42845,null,null,null,null,null,null,null,null,60000]
["Operational Buildings",null,10533427,11286383,0,0,0,0,-41770,-41770,11244613,11007427,11282613,null,null,null,null,null,null,null,null,11286383]
["Housing",null,818314,799725,0,0,0,0,-94174,-94174,705551,855138,876517,null,null,null,null,null,null,null,null,799725]
["Other Assets",null,11351741,12086108,0,0,0,0,-135944,-135944,11950164,11862565,12159130,null,null,null,null,null,null,null,null,12086108]
["Biological or Cultivated Assets",null,0,0,0,0,0,0,0,0,0,0,0,null,null,null,null,null,null,null,null,0]
["Servitudes",null,0,0,0,0,0,0,0,0,0,0,0,null,null,null,null,null,null,null,null,0]
["Licences and Rights",null,9904900,10374597,0,0,0,0,-568942,-568942,9805655,10350621,10609389,null,null,null,null,null,null,null,null,10374597]
["Intangible Assets",null,9904900,10374597,0,0,0,0,-568942,-568942,9805655,10350621,10609389,null,null,null,null,null,null,null,null,10374597]
["Computer Equipment",null,0,0,0,0,0,0,0,0,0,0,0,null,null,null,null,null,null,null,null,0]
["Furniture and Office Equipment",null,205843,205843,0,0,0,0,0,0,205843,215106,220484,null,null,null,null,null,null,null,null,205843]
["Machinery and Equipment",null,764438,1058009,0,0,0,0,50000,50000,1108009,798839,818809,null,null,null,null,null,null,null,null,1058009]
["Transport Assets",null,7617688,7304495,0,0,0,0,-87180,-87180,7217315,7960515,8159536,null,null,null,null,null,null,null,null,7304495]
["Land",null,0,0,0,0,0,0,0,0,0,0,0,null,null,null,null,null,null,null,null,0]
["Zoo's, Marine and Non-biological Animals",6,0,0,0,0,0,0,0,0,0,0,0,null,null,null,null,null,null,null,null,0]
["Mature",null,0,0,0,0,0,0,0,0,0,0,0,null,null,null,null,null,null,null,null,0]
["Immature",null,0,0,0,0,0,0,0,0,0,0,0,null,null,null,null,null,null,null,null,0]
["Living Resources",null,0,0,0,0,0,0,0,0,0,0,0,null,null,null,null,null,null,null,null,0]
["TOTAL EXPENDITURE OTHER ITEMS to be adjusted",null,184222096,191742431,0,0,0,0,-3590673,-3590673,188151758,190912779,194767106,null,null,null,null,null,null,null,null,191742431]
[]
["Renewal and upgrading of Existing Assets as % of total capex",null,{"$f":"IF(ISERROR((C42+C77)/C146),0,((C42+C77)/C146))","v":0.48483434580543572},{"$f":"IF(ISERROR((D42+D77)/D146),0,((D42+D77)/D146))","v":0.30463149128777217},null,null,null,null,null,null,{"$f":"IF(ISERROR((K42+K77)/K146),0,((K42+K77)/K146))","v":0.29562544878438035},{"$f":"IF(ISERROR((L42+L77)/L146),0,((L42+L77)/L146))","v":0.24842417415629467},{"$f":"IF(ISERROR((M42+M77)/M146),0,((M42+M77)/M146))","v":0.23392989864309346},null,null,null,null,null,null,null,null,0.30463149128777217]
["Renewal and upgrading of Existing Assets as % of deprecn\"",null,{"$f":"IF(ISERROR((C42+C77)/C183),0,((C42+C77)/C183))","v":1.2117727557943949},{"$f":"IF(ISERROR((D42+D77)/D183),0,((D42+D77)/D183))","v":0.8509022026234434},null,null,null,null,null,null,{"$f":"IF(ISERROR((K42+K77)/K183),0,((K42+K77)/K183))","v":0.79707742333828935},{"$f":"IF(ISERROR((L42+L77)/L183),0,((L42+L77)/L183))","v":1.0603971991246133},{"$f":"IF(ISERROR((M42+M77)/M183),0,((M42+M77)/M183))","v":1.0015398753022875},null,null,null,null,null,null,null,null,0.8509022026234434]
["R&M as a % of PPE",null,{"$f":"IF(ISERROR(C184/C180),0,(C184/C180))","v":0.10274565822759754},{"$f":"IF(ISERROR(D184/D180),0,(D184/D180))","v":0.10559559995365575},null,null,null,null,null,null,{"$f":"IF(ISERROR(K184/K180),0,(K184/K180))","v":0.10334565392588735},{"$f":"IF(ISERROR(L184/L180),0,(L184/L180))","v":0.10272544072958055},{"$f":"IF(ISERROR(M184/M180),0,(M184/M180))","v":9.7761822112173269E-2},null,null,null,null,null,null,null,null,0.10559559995365575]
["Renewal and upgrading and R&M as a % of PPE",null,{"$f":"IF(ISERROR((C42+C77+C184)/C180),0,((C42+C77+C184)/C180))","v":0.13250774315814845},{"$f":"IF(ISERROR((D42+D77+D184)/D180),0,((D42+D77+D184)/D180))","v":0.13223457702494631},null,null,null,null,null,null,{"$f":"IF(ISERROR((K42+K77+K184)/K180),0,((K42+K77+K184)/K180))","v":0.12837554421633923},{"$f":"IF(ISERROR((L42+L77+L184)/L180),0,((L42+L77+L184)/L180))","v":0.12764319218321035},{"$f":"IF(ISERROR((M42+M77+M184)/M180),0,((M42+M77+M184)/M180))","v":0.1195946043744341},null,null,null,null,null,null,null,null,0.13223457702494631]
[]
[{"$f":"head27a","v":"References"}]
["1. Detail of new assets provided in Table SB18a"]
["2. Detail of renewal of existing assets provided in Table SB18b"]
["2a. Detail of upgrading of existing assets provided in Table SB18e"]
["3. Detail of Repairs and Maintenance by Asset Class provided in Table SB18c"]
["4. Must reconcile to total capital expenditure on Budgeted Capital Expenditure"]
["5. Must reconcile to Adjustments Budget Financial Position (written down value)"]
["6. Donated/contributed and assets funded by finance leases to be allocated to the respective category"]
["7. Only complete if a previous adjusted budget has been approved in the same financial year. Reflect most recent adjusted budget."]
["8. Additional cash-backed accumulated funds/unspent funds (MFMA section 18(1)(b) and section 28(2)(e)) identified after the Original Budget approved and after annual financial statements audited (note: only where underspending could not reasonably have been foreseen)"]
["9. Increases of funds approved under MFMA section 31"]
["10. Adjustments approved in accordance with MFMA section 29 "]
[{"$f":"'B4-FinPerf RE'!B273","v":0}]
["12. Adjusts. = 'Other' Adjustments proposed to be approved; including revenue under-collection (MFMA section 28(2)(a)); additional revenue appropriation on existing programmes (section 28(2))(b); projected savings (section 28(2)(d)); error correction (section 28(2)(f))"]
["13. G = B + C + D + E + F"]
["14. Adjusted Budget H = (A or A1) + G"]
[]
[]
[null,"Asset register balance check",{"$f":"SUM('B6-FinPos'!C22:C25)-'B9-Asset'!C180","v":-1446982894.4604352},{"$f":"SUM('B6-FinPos'!D22:D25)-'B9-Asset'!D180","v":-1400479086.1442373},{"$f":"SUM('B6-FinPos'!E22:E25)-'B9-Asset'!E180","v":0},{"$f":"SUM('B6-FinPos'!F22:F25)-'B9-Asset'!F180","v":0},{"$f":"SUM('B6-FinPos'!G22:G25)-'B9-Asset'!G180","v":0},{"$f":"SUM('B6-FinPos'!H22:H25)-'B9-Asset'!H180","v":0},{"$f":"SUM('B6-FinPos'!I22:I25)-'B9-Asset'!I180","v":4252213.21652174},{"$f":"SUM('B6-FinPos'!J22:J25)-'B9-Asset'!J180","v":4252213.21652174},{"$f":"SUM('B6-FinPos'!K22:K25)-'B9-Asset'!K180","v":-1396226872.9277155},{"$f":"SUM('B6-FinPos'!L22:L25)-'B9-Asset'!L180","v":-1512453980.9277155},{"$f":"SUM('B6-FinPos'!M22:M25)-'B9-Asset'!M180","v":-1629010175.9277158},null,null,null,null,null,null,null,null,-1400479086.1442373]

{"sheet":"B10-SerDel","index":18,"n_rows":99,"n_cols":13,"rows_kept":99,"cut":false,"hidden":false,"merged":[[95,0,95,12],[93,0,93,12],[1,0,4,0],[1,1,4,1],[1,2,1,10],[89,0,89,12],[88,0,88,12],[90,0,90,12],[91,0,91,12]]}
[{"$f":"muni&\" - \"&_ADJ10&\" - \"&Date","v":"WC031 Theewaterskloof - Table B10 Basic service delivery measurement - 16 April 2026"}]
[{"$f":"desc","v":"Description"},{"$f":"head27","v":"Ref"},{"$f":"Head2","v":"Budget Year 2025/26"},null,null,null,null,null,null,null,null,{"$f":"Head10","v":"Budget Year +1 2026/27"},{"$f":"Head11","v":"Budget Year +2 2027/28"}]
[null,null,{"$f":"Head6","v":"Original Budget"},{"$f":"Head54","v":"Prior Adjusted"},{"$f":"Head51","v":"Accum. Funds"},{"$f":"Head52","v":"Multi-year capital"},{"$f":"Head53","v":"Unfore. Unavoid."},{"$f":"Head55","v":"Nat. or Prov. Govt"},{"$f":"Head50","v":"Other Adjusts."},{"$f":"Head56","v":"Total Adjusts."},{"$f":"Head7","v":"Adjusted Budget"},{"$f":"Head7","v":"Adjusted Budget"},{"$f":"Head7","v":"Adjusted Budget"}]
[null,null,null,7,8,9,10,11,12,13,14]
[null,null,"A","A1","B","C","D","E","F","G","H"]
["Household service targets",1]
["Water:"]
["Piped water inside dwelling",null,41308.01,41308.01,0,0,0,0,0,0,41308.01,42547.950300000004,43824]
["Piped water inside yard (but not in dwelling)",null,14388.07,14388.07,0,0,0,0,0,0,14388.07,14819.712099999999,15264]
["Using public tap (at least min.service level)",2,8680.77,8680.77,0,0,0,0,0,0,8680.77,8941.1631000000016,9209]
["Other water supply (at least min.service level)",null,0,0,0,0,0,0,0,0,0,0,0]
["Minimum Service Level and Above sub-total",null,64376.850000000006,64376.850000000006,0,0,0,0,0,0,64376.850000000006,66308.825500000006,68297]
["Using public tap (< min.service level)",3,220,220,0,0,0,0,0,0,220,220,220]
["Other water supply (< min.service level)","3,4",0,0,0,0,0,0,0,0,0,0,0]
["No water supply",null,1900,1900,0,0,0,0,0,0,1900,1750,1550]
["Below Minimum Servic Level sub-total",null,2120,2120,0,0,0,0,0,0,2120,1970,1770]
["Total number of households",5,66496.850000000006,66496.850000000006,0,0,0,0,0,0,66496.850000000006,68278.825500000006,70067]
["Sanitation/sewerage:"]
["Flush toilet (connected to sewerage)",null,19778,19778,0,0,0,0,0,0,19778,20371,20982]
["Flush toilet (with septic tank)",null,15500,15500,0,0,0,0,0,0,15500,15505,15515]
["Chemical toilet",null,70,70,0,0,0,0,0,0,70,70,70]
["Pit toilet (ventilated)",null,130,130,0,0,0,0,0,0,130,130,130]
["Other toilet provisions (> min.service level)",null,7790,7790,0,0,0,0,0,0,7790,7790,7790]
[{"$f":"$A$12","v":"Minimum Service Level and Above sub-total"},null,43268,43268,0,0,0,0,0,0,43268,43866,44487]
["Bucket toilet",null,30,30,0,0,0,0,0,0,30,30,30]
["Other toilet provisions (< min.service level)",null,100,100,0,0,0,0,0,0,100,100,100]
["No toilet provisions",null,500,500,0,0,0,0,0,0,500,500,500]
[{"$f":"$A$16","v":"Below Minimum Servic Level sub-total"},null,630,630,0,0,0,0,0,0,630,630,630]
[{"$f":"$A$17","v":"Total number of households"},{"$f":"$B$17","v":5},43898,43898,0,0,0,0,0,0,43898,44496,45117]
["Energy:"]
["Electricity (at least min. service level)",null,39,39,0,0,0,0,0,0,39,35,31]
["Electricity - prepaid (> min.service level)",null,8500,8500,0,0,0,0,0,0,8500,8777,8905]
[{"$f":"$A$12","v":"Minimum Service Level and Above sub-total"},null,8539,8539,0,0,0,0,0,0,8539,8812,8936]
["Electricity (< min.service level)",null,0,0,0,0,0,0,0,0,0,0,0]
["Electricity - prepaid (< min. service level)",null,0,0,0,0,0,0,0,0,0,0,0]
["Other energy sources",null,0,0,0,0,0,0,0,0,0,0,0]
[{"$f":"$A$16","v":"Below Minimum Servic Level sub-total"},null,0,0,0,0,0,0,0,0,0,0,0]
[{"$f":"$A$17","v":"Total number of households"},{"$f":"$B$17","v":5},8539,8539,0,0,0,0,0,0,8539,8812,8936]
["Refuse:"]
["Removed at least once a week (min.service)",null,43926,43926,0,0,0,0,0,0,43926,43926,43926]
[{"$f":"$A$12","v":"Minimum Service Level and Above sub-total"},null,43926,43926,0,0,0,0,0,0,43926,43926,43926]
["Removed less frequently than once a week",null,0,0,0,0,0,0,0,0,0,0,0]
["Using communal refuse dump",null,0,0,0,0,0,0,0,0,0,0,0]
["Using own refuse dump",null,0,0,0,0,0,0,0,0,0,0,0]
["Other rubbish disposal",null,0,0,0,0,0,0,0,0,0,0,0]
["No rubbish disposal",null,0,0,0,0,0,0,0,0,0,0,0]
[{"$f":"$A$16","v":"Below Minimum Servic Level sub-total"},null,0,0,0,0,0,0,0,0,0,0,0]
[{"$f":"$A$17","v":"Total number of households"},{"$f":"$B$17","v":5},43926,43926,0,0,0,0,0,0,43926,43926,43926]
[]
["Households receiving Free Basic Service",15]
["Water (6 kilolitres per household per month)",null,0,0,0,0,0,0,0,0,0,0,0]
["Sanitation (free minimum level service)",null,0,0,0,0,0,0,0,0,0,0,0]
["Electricity/other energy (50kwh per household per month)",null,0,0,0,0,0,0,0,0,0,0,0]
["Refuse (removed at least once a week)",null,0,0,0,0,0,0,0,0,0,0,0]
["Informal Settlements",null,0,0,0,0,0,0,0,null,null,0,0]
["Cost of Free Basic Services provided (R'000)",16," "]
["Water (6 kilolitres per indigent household per month)",null,16050960,15483000,0,0,0,0,0,0,15483000,16773253,17192584]
["Sanitation (free sanitation service to indigent households)",null,15676500,14805000,0,0,0,0,0,0,14805000,16381943,16791492]
["Electricity/other energy (50kwh per indigent household per month)",null,7672174,6676000,0,0,0,0,0,0,6676000,8017422,8217858]
["Refuse (removed once a week for indigent households)",null,17591700,16618000,0,0,0,0,0,0,16618000,18383327,18842910]
["Cost of Free Basic Services provided - Informal Formal Settlements (R'000)",null,0,0,0,0,0,0,0,0,0,0,0]
["Total cost of FBS provided  ",null,56991334,53582000,0,0,0,0,0,0,53582000,59555945,61044844]
[]
["Highest level of free service provided"]
["Property rates (R'000 value threshold)",null,0,0,0,0,0,0,0,0,0,0,0]
["Water (kilolitres per household per month)",null,0,0,0,0,0,0,0,0,0,0,0]
["Sanitation (kilolitres per household per month)",null,0,0,0,0,0,0,0,0,0,0,0]
["Sanitation (Rand per household per month)",null,0,0,0,0,0,0,0,0,0,0,0]
["Electricity (kw per household per month)",null,0,0,0,0,0,0,0,0,0,0,0]
["Refuse (average litres per week)",null,0,0,0,0,0,0,0,0,0,0,0]
["Revenue cost of free services provided (R'000)",17]
["Property rates (tariff adjustment) ( impermissable values per section 17 of MPRA)",null,0,0,0,0,0,0,0,0,0,0,0]
["Property rates  exemptions, reductions and rebates and impermissable values in excess of section 17 of MPRA)",null,0,0,0,0,0,0,0,0,0,0,0]
["Water (in excess of 6 kilolitres per indigent household per month)",null,0,0,0,0,0,0,0,0,0,0,0]
["Sanitation (in excess of free sanitation service to indigent households)",null,0,0,0,0,0,0,0,0,0,0,0]
["Electricity/other energy (in excess of 50 kwh per indigent household per month)",null,0,0,0,0,0,0,0,0,0,0,0]
["Refuse (in excess of one removal a week for indigent households)",null,0,0,0,0,0,0,0,0,0,0,0]
["Municipal Housing - rental rebates",null,0,0,0,0,0,0,0,0,0,0,0]
["Housing - top structure subsidies",6,0,0,0,0,0,0,0,0,0,0,0]
["Other",null,0,0,0,0,0,0,0,0,0,0,0]
["Total revenue cost of subsidised services provided ",null,0,0,0,0,0,0,0,0,0,0,0]
[{"$f":"head27a","v":"References"}]
["1. Include services provided by another entity; e.g. Eskom"]
["2. Stand distance > 200m from dwelling"]
["3. Stand distance <= 200m from dwelling"]
["4. Borehole, spring, rain-water tank etc."]
["5. Must agree to total number of households in municipal area"]
["6. Include value of subsidy provided by municipality above provincial subsidy level"]
["7. Only complete if a previous adjusted budget has been approved in the same financial year. Reflect most recent adjusted budget."]
["8. Additional cash-backed accumulated funds/unspent funds (MFMA section 18(1)(b) and section 28(2)(e)) identified after the Original Budget approved and after annual financial statements audited (note: only where underspending could not reasonably have been foreseen)"]
["9. Increases of funds approved under MFMA section 31"]
["10. Adjustments approved in accordance with MFMA section 29 "]
["11. Adjustments to transfers from National or Provincial Government"]
["12. Adjusts. = 'Other' Adjustments proposed to be approved; including revenue under-collection (MFMA section 28(2)(a)); additional revenue appropriation on existing programmes (section 28(2))(b); projected savings (section 28(2)(d)); error correction (section 28(2)(f))"]
["13. G = B + C + D + E + F"]
["14. Adjusted Budget H = (A or A1) + G"]
["15. Show number of households receiving at least these levels of services completely free"]
["16. Must reflect the cost to the municipality of providing the Free Basic Service"]
["17.Reflect the cost of free or subsidised services in excess to the National policy that are not funded from the Free Basic Services component of the Equitable Share"]

{"sheet":"SB1","index":19,"n_rows":153,"n_cols":22,"rows_kept":153,"cut":false,"hidden":false,"merged":[[148,0,148,12],[1,0,3,0],[1,1,3,1],[1,2,1,10],[144,0,144,12]]}
[{"$f":"muni&\" - \"&ADJB1&\" - \"&Date","v":"WC031 Theewaterskloof - Supporting Table SB1 Supporting detail to 'Budgeted Financial Performance' - 16 April 2026"}]
[{"$f":"desc","v":"Description"},{"$f":"head27","v":"Ref"},{"$f":"Head2","v":"Budget Year 2025/26"},null,null,null,null,null,null,null,null,{"$f":"Head10","v":"Budget Year +1 2026/27"},{"$f":"Head11","v":"Budget Year +2 2027/28"}]
[null,null,{"$f":"Head6","v":"Original Budget"},{"$f":"Head54","v":"Prior Adjusted"},{"$f":"Head51","v":"Accum. Funds"},{"$f":"Head52","v":"Multi-year capital"},{"$f":"Head53","v":"Unfore. Unavoid."},{"$f":"Head55","v":"Nat. or Prov. Govt"},{"$f":"Head50","v":"Other Adjusts."},{"$f":"Head56","v":"Total Adjusts."},{"$f":"Head7","v":"Adjusted Budget"},{"$f":"Head7","v":"Adjusted Budget"},{"$f":"Head7","v":"Adjusted Budget"},null,null,null,null,null,null,null,null,"Adjusted Budget"]
[null,null,null,6,7,8,9,10,11,12,13,null,null,null,null,null,null,null,null,null,null,13]
["R thousands",null,"A","A1","B","C","D","E","F","G","H",null,null,null,null,null,null,null,null,null,null,"H"]
["REVENUE ITEMS"]
["Non-exchange revenue by source"]
["Property rates"]
["Total Property Rates",null,173070423,170753000,0,0,0,0,0,0,170753000,180858592,185380056,null,null,null,null,null,null,null,null,170753000]
["Less Revenue Foregone (exemptions, reductions and rebates and impermissable values in excess of section 17 of MPRA)",null,0,0,0,0,0,0,0,0,0,0,0,null,null,null,null,null,null,null,null,0]
["Net Property Rates",null,173070423,170753000,0,0,0,0,0,0,170753000,180858592,185380056,null,null,null,null,null,null,null,null,170753000]
[]
["Exchange revenue service charges"]
["Service charges - Electricity"]
["Total Service charges - Electricity",null,177750209,172657000,0,0,0,0,0,0,172657000,185748967,190392690,null,null,null,null,null,null,null,null,172657000]
["Less Revenue Foregone (in excess of 50 kwh per indigent household per month)",null,0,0,0,0,0,0,0,0,0,0,0,null,null,null,null,null,null,null,null,0]
["Less Cost of Free Basis Services (50 kwh per indigent household per month)",null,7672174,6676000,0,0,0,0,0,0,6676000,8017422,8217858,null,null,null,null,null,null,null,null,6676000]
["Net Service charges - Electricity ",null,170078035,165981000,0,0,0,0,0,0,165981000,177731545,182174832,null,null,null,null,null,null,null,null,165981000]
[]
["Service charges - Water"]
["Total Service charges - water ",null,119770920,131482000,0,0,0,0,0,0,131482000,125160612,128289626,null,null,null,null,null,null,null,null,131482000]
["Less Revenue Foregone (in excess of 6 kilolitres per indigent household per month)",null,0,0,0,0,0,0,0,0,0,0,0,null,null,null,null,null,null,null,null,0]
["Less Cost of Free Basis Services (6 kilolitres per indigent household per month)",null,16050960,15483000,0,0,0,0,0,0,15483000,16773253,17192584,null,null,null,null,null,null,null,null,15483000]
["Net Service charges - Water ",null,103719960,115999000,0,0,0,0,0,0,115999000,108387359,111097042,null,null,null,null,null,null,null,null,115999000]
[]
["Service charges - Waste Water Management"]
["Total Service charges - Waste Water Management",null,65418150,64793000,0,0,0,0,0,0,64793000,68361967,70071016,null,null,null,null,null,null,null,null,64793000]
["Less Revenue Foregone (in excess of free sanitation service to indigent households)",null,0,0,0,0,0,0,0,0,0,0,0,null,null,null,null,null,null,null,null,0]
["Less Cost of Free Basis Services (free sanitation service to indigent households)",null,15676500,14805000,0,0,0,0,0,0,14805000,16381943,16791492,null,null,null,null,null,null,null,null,14805000]
["Net Service charges - Waste Water Management",null,49741650,49988000,0,0,0,0,0,0,49988000,51980024,53279524,null,null,null,null,null,null,null,null,49988000]
[null,null,"."]
["Service charges - Waste Management"]
["Total refuse removal revenue",null,64140300,63221000,0,0,0,0,0,0,63221000,67026614,68702279,null,null,null,null,null,null,null,null,63221000]
["Total landfill revenue",null,0,0,0,0,0,0,0,0,0,0,0,null,null,null,null,null,null,null,null,0]
["Less Revenue Foregone (in excess of one removal a week to indigent households)",null,0,0,0,0,0,0,0,0,0,0,0,null,null,null,null,null,null,null,null,0]
["Less Cost of Free Basis Services  (removed once a week to indigent households)",null,17591700,16618000,0,0,0,0,0,0,16618000,18383327,18842910,null,null,null,null,null,null,null,null,16618000]
["Service charges - Waste Management",null,46548600,46603000,0,0,0,0,0,0,46603000,48643287,49859369,null,null,null,null,null,null,null,null,46603000]
[]
[]
[]
[]
["EXPENDITURE ITEMS"]
["Employee related costs"]
["Basic Salaries and Wages",null,229443473,219621314,0,0,0,0,-4952498,-4952498,214668816,239768422,245762636,null,null,null,null,null,null,null,null,219621314]
["Pension and UIF Contributions",null,38096629,36426977,0,0,0,0,-769384,-769384,35657593,39810982,40806264,null,null,null,null,null,null,null,null,36426977]
["Medical Aid Contributions",null,11630118,11613211,0,0,0,0,222340,222340,11835551,12153470,12457308,null,null,null,null,null,null,null,null,11613211]
["Overtime",null,6532764,9487451,0,0,0,0,1796656,1796656,11284107,6826737,6997404,null,null,null,null,null,null,null,null,9487451]
["Performance Bonus",null,655692,680564,0,0,0,0,145766,145766,826330,685198,702329,null,null,null,null,null,null,null,null,680564]
["Motor Vehicle Allowance",null,14030767,13203339,0,0,0,0,-307789,-307789,12895550,14662150,15028705,null,null,null,null,null,null,null,null,13203339]
["Cellphone Allowance",null,1190396,1241443,0,0,0,0,-72737,-72737,1168706,1243972,1275078,null,null,null,null,null,null,null,null,1241443]
["Housing Allowances",null,1075098,1130246,0,0,0,0,52493,52493,1182739,1123468,1151543,null,null,null,null,null,null,null,null,1130246]
["Other benefits and allowances",null,8031958,10490302,0,0,0,0,1174967,1174967,11665269,8393396,8603228,null,null,null,null,null,null,null,null,10490302]
["Payments in lieu of leave",null,500000,5300000,0,0,0,0,0,0,5300000,522500,535563,null,null,null,null,null,null,null,null,5300000]
["Long service awards",null,1780216,1963762,0,0,0,0,0,0,1963762,1860328,1906838,null,null,null,null,null,null,null,null,1963762]
["Post-retirement benefit obligations",4,2669000,2377000,0,0,0,0,0,0,2377000,2789105,2858833,null,null,null,null,null,null,null,null,2377000]
["Entertainment",null,0,0,0,0,0,0,0,0,0,0,0,null,null,null,null,null,null,null,null,0]
["Scarcity",null,0,0,0,0,0,0,0,0,0,0,0,null,null,null,null,null,null,null,null,0]
["Acting and post related allowance",null,185000,1880856,0,0,0,0,989533,989533,2870389,193325,198172,null,null,null,null,null,null,null,null,1880856]
["In kind benefits",null,0,0,0,0,0,0,0,0,0,0,0,null,null,null,null,null,null,null,null,0]
["sub-total",null,315821111,315416465,0,0,0,0,-1720653,-1720653,313695812,330033053,338283901,null,null,null,null,null,null,null,null,315416465]
["Less: Employees costs capitalised to PPE",null,0,0,0,0,0,0,0,0,0,0,0,null,null,null,null,null,null,null,null,0]
[{"$f":"\"Total \"&A43","v":"Total Employee related costs"},1,315821111,315416465,0,0,0,0,-1720653,-1720653,313695812,330033053,338283901,null,null,null,null,null,null,null,null,315416465]
[]
[]
[]
[]
[]
[]
[]
[]
[]
[]
["Depreciation and amortisation"]
["Depreciation of Property, Plant & Equipment",null,35051317,38137541,0,0,0,0,0,0,38137541,35051317,35021317,null,null,null,null,null,null,null,null,38137541]
["Lease amortisation",null,0,0,0,0,0,0,0,0,0,0,0,null,null,null,null,null,null,null,null,0]
["Capital asset impairment",null,490000,5710000,0,0,0,0,0,0,5710000,490000,490000,null,null,null,null,null,null,null,null,5710000]
[]
[{"$f":"\"Total \"&LEFT(A73,35)","v":"Total Depreciation and amortisation"},1,35541317,43847541,0,0,0,0,0,0,43847541,35541317,35511317,null,null,null,null,null,null,null,null,43847541]
[]
["Bulk purchases"]
["Electricity Bulk Purchases",null,139206740,139206740,0,0,0,0,0,0,139206740,145471043,149107819,null,null,null,null,null,null,null,null,139206740]
["Water Bulk Purchases",null,null,0,null,null,null,null,null,0,0,null,null,null,null,null,null,null,null,null,null,0]
["Total bulk purchases",1,139206740,139206740,0,0,0,0,0,0,139206740,145471043,149107819,null,null,null,null,null,null,null,null,139206740]
[]
["Transfers and grants"]
["Cash transfers and grants",null,12080001,11549087,0,0,0,0,0,0,11549087,0,0,null,null,null,null,null,null,null,null,11549087]
["Non-cash transfers and grants",null,0,0,0,0,0,0,0,0,0,0,0,null,null,null,null,null,null,null,null,0]
["Total transfers and grants",null,12080001,11549087,0,0,0,0,0,0,11549087,0,0,null,null,null,null,null,null,null,null,11549087]
[]
["Contracted services"]
["Outsourced Services",null,15890530,16600508,0,0,0,0,-1551118,-1551118,15049390,16605606,17020759,null,null,null,null,null,null,null,null,16600508]
["Consultants and Professional Services",null,15023549,14418244,0,0,0,0,-2242296,-2242296,12175948,15699610,16092101,null,null,null,null,null,null,null,null,14418244]
["Contractors",null,29514899,42123954,0,0,0,0,-5259015,-5259015,36864939,30843102,31614191,null,null,null,null,null,null,null,null,42123954]
["Total contracted services",null,60428978,73142706,0,0,0,0,-9052429,-9052429,64090277,63148318,64727051,null,null,null,null,null,null,null,null,73142706]
[]
["Operational Costs"]
["Collection costs",null,0,0,0,0,0,0,0,0,0,0,0,null,null,null,null,null,null,null,null,0]
["Contributions to 'other' provisions",null,0,0,0,0,0,0,0,0,0,0,0,null,null,null,null,null,null,null,null,0]
[null,null,0,0,0,0,0,0,0,null,null,0,0]
["Audit fees",null,4500000,5738512,0,0,0,0,0,0,5738512,4702500,4820063,null,null,null,null,null,null,null,null,5738512]
[null,null,null,null,0,0,0,0,0]
[null,null,null,null,0,0,0,0,0]
["Other Operational Costs",null,89965699,83523457,0,0,0,0,-2314084,-2314084,81209373,94014175,96364535,null,null,null,null,null,null,null,null,83523457]
[]
[]
[]
[]
[]
[]
[]
[]
[]
[]
[]
[]
[]
[]
[]
[]
[]
[]
[]
[]
["Total Other Operational Costs",1,94465699,89261969,0,0,0,0,-2314084,-2314084,86947885,98716675,101184598,null,null,null,null,null,null,null,null,89261969]
[]
["Repairs and Maintenance by Expenditure Item",14]
["Employee related costs",null,80788482,78025525,0,0,0,0,134951,134951,78160476,84423964,86534570,null,null,null,null,null,null,null,null,78025525]
["Inventory Consumed",null,7596213,8512471,0,0,0,0,-351893,-351893,8160578,7938053,8136516,null,null,null,null,null,null,null,null,8512471]
["Contracted Services",null,25006325,28193900,0,0,0,0,-2695889,-2695889,25498011,26131644,26784948,null,null,null,null,null,null,null,null,28193900]
["Operational Costs",null,35289759,33162994,0,0,0,0,-677842,-677842,32485152,36877801,37799755,null,null,null,null,null,null,null,null,33162994]
["Total Repairs and Maintenance Expenditure",15,148680779,147894890,0,0,0,0,-3590673,-3590673,144304217,155371462,159255789,null,null,null,null,null,null,null,null,147894890]
[]
[" Inventory Consumed"]
["Inventory Consumed - Water",null,24967000,30000000,0,0,0,0,0,0,30000000,26090515,26742778,null,null,null,null,null,null,null,null,30000000]
["Inventory Consumed - Other",null,16822812,16956247,0,0,0,0,-1116283,-1116283,15839964,17579863,18019378,null,null,null,null,null,null,null,null,16956247]
["Total Inventory Consumed & Other Material",null,41789812,46956247,0,0,0,0,-1116283,-1116283,45839964,43670378,44762156,null,null,null,null,null,null,null,null,46956247]
[]
[{"$f":"head27a","v":"References"}]
["1. Must reconcile with 'Budgeted Financial Performance (Revenue and Expenditure)"]
["2. Must reconcile to supporting documentation on staff salaries"]
[]
["4. Expenditure to meet any unfunded obligations"]
["5. Special consideration may have to be given to including 'goodwill arising' or 'joint venture' budgets where circumstances require this (include separately under relevant notes)"]
["6. Only complete if a previous adjusted budget has been approved in the same financial year. Reflect most recent adjusted budget."]
["7. Additional cash-backed accumulated funds/unspent funds (section 18(1)(b) and section 28(2)(e) MFMA) identified after Original Budget approved and after annual financial statements audited (note: only where underspending could not reasonably be have for"]
["8. Increases of funds approved under section 31 MFMA"]
["9. Adjustments approved in accordance with section 29 MFMA"]
["10. Adjustments to funding allocations from National or Provincial Government"]
["11. Adjusts. = 'Other' Adjustments proposed to be approved; including revenue under-collection (MFMA section 28(2)(a)); additional revenue appropriation on existing programmes (section 28(2))(b); projected savings (section 28(2)(d)); error correction (sec"]
["12. G = B + C + D + E + F"]
["13. Adjusted Budget H = (A or A1) + G"]
["14. Repairs and Maintenance is not a GRAP item. However to facilitate transparency, municipalities must provide a breakdown of the amounts included in the relevant GRAP items that will be spent on Repairs and Maintenance."]
["15. Must reconcile with Repairs and Maintenance by Asset Class (Total Repairs and Maintenance) on Table SA34c."]

{"sheet":"SB2","index":20,"n_rows":206,"n_cols":22,"rows_kept":206,"cut":false,"hidden":false,"merged":[[198,0,198,12],[1,1,3,1],[1,0,3,0],[1,2,1,10],[194,0,194,12]]}
[{"$f":"muni&\" - \"&ADJB2&\" - \"&Date","v":"WC031 Theewaterskloof - Supporting Table SB2 Supporting detail to 'Financial Position Budget' - 16 April 2026"}]
[{"$f":"desc","v":"Description"},{"$f":"head27","v":"Ref"},{"$f":"Head2","v":"Budget Year 2025/26"},null,null,null,null,null,null,null,null,{"$f":"Head10","v":"Budget Year +1 2026/27"},{"$f":"Head11","v":"Budget Year +2 2027/28"},null,{"$f":"Head10","v":"Budget Year +1 2026/27"}]
[null,null,{"$f":"Head6","v":"Original Budget"},{"$f":"Head54","v":"Prior Adjusted"},{"$f":"Head51","v":"Accum. Funds"},{"$f":"Head52","v":"Multi-year capital"},{"$f":"Head53","v":"Unfore. Unavoid."},{"$f":"Head55","v":"Nat. or Prov. Govt"},{"$f":"Head50","v":"Other Adjusts."},{"$f":"Head56","v":"Total Adjusts."},{"$f":"Head7","v":"Adjusted Budget"},{"$f":"Head7","v":"Adjusted Budget"},{"$f":"Head7","v":"Adjusted Budget"},null,{"$f":"Head7","v":"Adjusted Budget"},null,null,null,null,null,null,"Adjusted Budget"]
[null,null,null,4,5,6,7,8,9,10,11,null,null,null,null,null,null,null,null,null,null,11]
["R thousands",null,"A","A1","B","C","D","E","F","G","H",null,null,null,null,null,null,null,null,null,null,"H"]
["ASSETS"]
["Trade and other receivables from exchange transactions"]
["Electricity",null,22074169.600000009,17366769.379999999,0,0,0,0,0,0,17366769.379999999,20565937.190000001,23845084.166000012,null,14379111.379999999,{"$f":"K8-O8","v":2987658},null,null,null,null,null,17366769.379999999]
["Water",null,117610778.98,109923069.19000001,0,0,0,0,0,0,109923069.19000001,137778620.45300001,166330560.24700001,null,80111326.190000013,{"$f":"K9-O9","v":29811743},null,null,null,null,null,109923069.19000001]
["Waste",null,100904714.54000001,91993179.49000001,0,0,0,0,0,0,91993179.49000001,107899534.33900002,124203548.002,null,76753998.49000001,{"$f":"K10-O10","v":15239181},null,null,null,null,null,91993179.49000001]
["Waste Water",null,91436099.340000004,85644699.820000008,0,0,0,0,0,0,85644699.820000008,101758507.26000002,118275159.70000002,null,70148419.820000008,{"$f":"K11-O11","v":15496280},null,null,null,null,null,85644699.820000008]
["Other trade receivables from exchange transactions",null,143481411,136685385.25,0,0,0,0,0,0,136685385.25,167050922.09999999,198175597.484,null,109572167.25,{"$f":"K12-O12","v":27113218},null,null,null,null,null,136685385.25]
["Gross: Trade and other receivables from exchange transactions",null,475507173.46000004,441613103.13,0,0,0,0,0,0,441613103.13,535053521.34200001,630829949.59899998,null,{"$f":"SUM(O8:O12)","v":350965023.13},null,null,null,null,null,null,441613103.13]
["Less: Impairment for debt",1,-431400999.95999944,-395176820.45999885,0,0,0,0,0,0,-395176820.45999885,-485640955.45999885,-578366694.45999885,null,{"$f":"SUM(O15:O19)","v":-307686816.45999885},null,null,null,null,null,null,-395176820.45999885]
["Impairment for Electricity",null,-4608463.3200000022,-3746918.7500000028,0,0,0,0,0,0,-3746918.7500000028,-5273193.7500000028,-6837625.7500000028,null,-1845917.7500000028,{"$f":"K15-O15","v":-1901001},null,null,null,null,null,-3746918.7500000028]
["Impairment for Water",null,-104475135.11000064,-93680208.270000234,0,0,0,0,0,0,-93680208.270000234,-121431228.27000023,-149876024.27000022,null,-65225207.270000234,{"$f":"K16-O16","v":-28455001},null,null,null,null,null,-93680208.270000234]
["Impairment for Waste",null,-95167618.83999911,-87029663.21999909,0,0,0,0,0,0,-87029663.21999909,-103513493.21999909,-120409419.21999909,null,-72133662.21999909,{"$f":"K17-O17","v":-14896001},null,null,null,null,null,-87029663.21999909]
["Impairment for Waste Water",null,-83675556.6899997,-78257955.749999523,0,0,0,0,0,0,-78257955.749999523,-92631930.749999523,-107365254.74999952,null,-63771954.749999516,{"$f":"K18-O18","v":-14486001.000000007},null,null,null,null,null,-78257955.749999523]
["Impairment for other trade receivalbes from exchange transactions",null,-143474226,-132462074.47,0,0,0,0,0,0,-132462074.47,-162791109.47,-193878370.47,null,-104710074.47,{"$f":"K19-O19","v":-27752000},null,null,null,null,null,-132462074.47]
["Total net Trade and other receivables from Exchange Transactions",null,44106173.500000596,46436282.670001149,0,0,0,0,0,0,46436282.670001149,49412565.882001162,52463255.139001131,null,{"$f":"+O13+O14","v":43278206.670001149},null,null,null,null,null,null,46436282.670001149]
[" "]
["Receivables from non-exchange transactions"]
["Property rates",null,61443288.647000007,51804960.439999968,0,0,0,0,0,0,51804960.439999968,57592435.383999974,63524597.175999969,null,46340864.439999968,{"$f":"K23-O23","v":5464096},null,null,null,null,null,51804960.439999968]
["Less: Impairment of Property rates",null,-40351218.376482889,-34740220.076483078,0,0,0,0,0,0,-34740220.076483078,-40973650.076483078,-47362916.076483078,null,-30254219.076483078,{"$f":"K24-O24","v":-4486001},null,null,null,null,null,-34740220.076483078]
["Net Property rates",null,21092070.270517118,17064740.36351689,0,0,0,0,0,0,17064740.36351689,16618785.307516895,16161681.099516891,null,{"$f":"+O23+O24","v":16086645.36351689},null,null,null,null,null,null,17064740.36351689]
["Other receivables from non-exchange transactions",null,118838091.64,103916960.118,0,0,0,0,0,0,103916960.118,128190029.639,152521977.00400001,null,66391124.469999999,{"$f":"K26-O26","v":37525835.648000002},null,null,null,null,null,103916960.118]
["Impairment for other receivalbes from non-exchange transactions",null,-101916026,-91137878.450000003,0,0,0,0,0,0,-91137878.450000003,-116278070.45,-142046767.44999999,null,-55549878.450000003,{"$f":"K27-O27","v":-35588000},null,null,null,null,null,-91137878.450000003]
["Net other receivables from non-exchange transactions",null,16922065.640000001,12779081.667999998,0,0,0,0,0,0,12779081.667999998,11911959.188999996,10475209.55400002,null,{"$f":"+O26+O27","v":10841246.019999996},null,null,null,null,null,null,12779081.667999998]
["Total net Receivables from non-exchange transactions",null,38014135.910517119,29843822.031516887,0,0,0,0,0,0,29843822.031516887,28530744.496516891,26636890.653516911,null,{"$f":"+O25+O28","v":26927891.383516885},null,null,null,null,null,null,29843822.031516887]
[]
["Inventory"]
["Water"]
["  Opening Balance",null,633445.26000000164,846748.38,0,0,0,0,0,0,846748.38,846748.37999999896,846748.37999999896,null,846748.38,null,null,null,null,null,null,846748.38]
["  System Input Volume",null,24967000,30000000,0,0,0,0,0,0,30000000,26090515,26742778,null,{"$f":"SUM(O35:O37)","v":0},null,null,null,null,null,null,30000000]
["      Water Treatment Works",null,0,0,0,0,0,0,0,0,0,0,0,null,{"$f":"F35*1.055","v":0},null,null,null,null,null,null,0]
["      Bulk Purchases",null,24967000,30000000,0,0,0,0,0,0,30000000,26090515,26742778,null,0,null,null,null,null,null,null,30000000]
["      Natural Sources",null,0,0,0,0,0,0,0,0,0,0,0,null,{"$f":"F37*1.055","v":0},null,null,null,null,null,null,0]
["  Authorised Consumption",12,-24967000,-30000000,0,0,0,0,0,0,-30000000,-26090515,-26742778,null,{"$f":"O39+O48","v":0},null,null,null,null,null,null,-30000000]
["      Billed Authorised Consumption",null,-24967000,-30000000,0,0,0,0,0,0,-30000000,-26090515,-26742778,null,{"$f":"O40+O44","v":0},null,null,null,null,null,null,-30000000]
["         Billed Metered Consumption",null,-24967000,-30000000,0,0,0,0,0,0,-30000000,-26090515,-26742778,null,{"$f":"SUM(O41:O43)","v":0},null,null,null,null,null,null,-30000000]
["          Free Basic Water",null,0,0,0,0,0,0,0,0,0,0,0,null,{"$f":"F41*1.055","v":0},null,null,null,null,null,null,0]
["          Subsidised Water",null,0,0,0,0,0,0,0,0,0,0,0,null,{"$f":"F42*1.055","v":0},null,null,null,null,null,null,0]
["          Revenue Water",null,-24967000,-30000000,0,0,0,0,0,0,-30000000,-26090515,-26742778,null,0,null,null,null,null,null,null,-30000000]
["         Billed Unmetered Consumption",null,0,0,0,0,0,0,0,0,0,0,0,null,{"$f":"SUM(O45:O47)","v":0},null,null,null,null,null,null,0]
["          Free Basic Water",null,0,0,0,0,0,0,0,0,0,0,0,null,{"$f":"F45*1.055","v":0},null,null,null,null,null,null,0]
["          Subsidised Water",null,0,0,0,0,0,0,0,0,0,0,0,null,{"$f":"F46*1.055","v":0},null,null,null,null,null,null,0]
["          Revenue Water",null,0,0,0,0,0,0,0,0,0,0,0,null,{"$f":"F47*1.055","v":0},null,null,null,null,null,null,0]
["     UnBilled Authorised Consumption",null,0,0,0,0,0,0,0,0,0,0,0,null,{"$f":"SUM(O49:O50)","v":0},null,null,null,null,null,null,0]
["          Unbilled Metered Consumption",null,0,0,0,0,0,0,0,0,0,0,0,null,{"$f":"F49*1.055","v":0},null,null,null,null,null,null,0]
["          Unbilled Unmetered Consumption",null,0,0,0,0,0,0,0,0,0,0,0,null,{"$f":"F50*1.055","v":0},null,null,null,null,null,null,0]
["     Water Losses",null,0,0,0,0,0,0,0,0,0,0,0,null,{"$f":"O52+O55","v":0},null,null,null,null,null,null,0]
["         Apparent losses",null,0,0,0,0,0,0,0,0,0,0,0,null,{"$f":"SUM(O53:O54)","v":0},null,null,null,null,null,null,0]
["           Unauthorised Consumption",null,0,0,0,0,0,0,0,0,0,0,0,null,{"$f":"F53*1.055","v":0},null,null,null,null,null,null,0]
["           Customer Meter Inaccuracies",null,0,0,0,0,0,0,0,0,0,0,0,null,{"$f":"F54*1.055","v":0},null,null,null,null,null,null,0]
["         Real losses",null,0,0,0,0,0,0,0,0,0,0,0,null,{"$f":"SUM(O56:O60)","v":0},null,null,null,null,null,null,0]
["           Leakage on Transmission and Distribution Mains",null,0,0,0,0,0,0,0,0,0,0,0,null,{"$f":"F56*1.055","v":0},null,null,null,null,null,null,0]
["           Leakage and Overflows at Storage Tanks/Reservoirs",null,0,0,0,0,0,0,0,0,0,0,0,null,{"$f":"F57*1.055","v":0},null,null,null,null,null,null,0]
["           Leakage on Service Connections up to the point of Customer Meter",null,0,0,0,0,0,0,0,0,0,0,0,null,{"$f":"F58*1.055","v":0},null,null,null,null,null,null,0]
["           Data Transfer and Management Errors",null,0,0,0,0,0,0,0,0,0,0,0,null,{"$f":"F59*1.055","v":0},null,null,null,null,null,null,0]
["           Unavoidable Annual Real Losses",null,0,0,0,0,0,0,0,0,0,0,0,null,{"$f":"F60*1.055","v":0},null,null,null,null,null,null,0]
["  Non-revenue Water",null,0,0,0,0,0,0,0,0,0,0,0,null,{"$f":"O51+O48","v":0},null,null,null,null,null,null,0]
["Correction of Prior period errors",null,0,0,0,0,0,0,0,0,0,0,0,null,0,null,null,null,null,null,null,0]
["  Closing Balance Water",null,633445.26000000164,846748.37999999896,0,0,0,0,0,0,846748.37999999896,846748.37999999896,846748.37999999896,null,{"$f":"O33+O34+O38+O51+O62","v":846748.38},null,null,null,null,null,null,846748.37999999896]
[]
["Agricultural"]
["  Opening Balance",null,0,0,0,0,0,0,0,0,0,0,0,null,{"$f":"N72","v":0},null,null,null,null,null,null,0]
["      Acquisitions",null,0,0,0,0,0,0,0,0,0,0,0,null,{"$f":"N67*1.05","v":0},null,null,null,null,null,null,0]
["      Issues",13,0,0,0,0,0,0,0,0,0,0,0,null,{"$f":"N68*1.05","v":0},null,null,null,null,null,null,0]
["      Adjustments",14,0,0,0,0,0,0,0,0,0,0,0,null,{"$f":"N69*1.05","v":0},null,null,null,null,null,null,0]
["      Write-offs",15,0,0,0,0,0,0,0,0,0,0,0,null,{"$f":"N70*1.05","v":0},null,null,null,null,null,null,0]
["Correction of Prior period errors",null,0,0,0,0,0,0,0,0,0,null,null,null,null,null,null,null,null,null,null,0]
["  Closing balance - Agricultural",null,0,0,0,0,0,0,0,0,0,0,0,null,{"$f":"SUM(O66:O71)","v":0},null,null,null,null,null,null,0]
[]
["Consumables"]
["Standard Rated"]
["  Opening Balance",null,0,0,0,0,0,0,0,0,0,0,0,null,{"$f":"N82","v":0},null,null,null,null,null,null,0]
["      Acquisitions",null,4075814,3652559,0,0,0,0,-1038739,-1038739,2613820,4259240,4365729,null,0,null,null,null,null,null,null,3652559]
["      Issues",13,-4075814,-3652559,0,0,0,0,1038739,1038739,-2613820,-4259240,-4365729,null,0,null,null,null,null,null,null,-3652559]
["      Adjustments",14,0,0,0,0,0,0,0,0,0,0,0,null,0,null,null,null,null,null,null,0]
["      Write-offs",15,0,0,0,0,0,0,0,0,0,0,0,null,0,null,null,null,null,null,null,0]
["Correction of Prior period errors",null,0,0,0,0,0,0,0,0,0,0,0,null,0,null,null,null,null,null,null,0]
["  Closing balance - Consumables Standard Rated",null,0,0,0,0,0,0,0,0,0,0,0,null,{"$f":"SUM(O76:O81)","v":0},null,null,null,null,null,null,0]
["Zero Rated"]
["  Opening Balance",null,0,0,0,0,0,0,0,0,0,0,0,null,{"$f":"N90","v":0},null,null,null,null,null,null,0]
["      Acquisitions",null,173000,173000,0,0,0,0,-13000,-13000,160000,180785,185304,null,0,null,null,null,null,null,null,173000]
["      Issues",13,-173000,-173000,0,0,0,0,13000,13000,-160000,-180785,-185304,null,0,null,null,null,null,null,null,-173000]
["      Adjustments",14,0,0,0,0,0,0,0,0,0,0,0,null,0,null,null,null,null,null,null,0]
["      Write-offs",15,0,0,0,0,0,0,0,0,0,0,0,null,0,null,null,null,null,null,null,0]
["Correction of Prior period errors",null,0,0,0,0,0,0,0,0,0,0,0,null,0,null,null,null,null,null,null,0]
["  Closing balance - Consumables Zero Rated",null,0,0,0,0,0,0,0,0,0,0,0,null,{"$f":"SUM(O84:O89)","v":0},null,null,null,null,null,null,0]
[]
["Finished Goods"]
["  Opening Balance",null,0,0,0,0,0,0,0,0,0,0,0,null,{"$f":"N99","v":0},null,null,null,null,null,null,0]
["      Acquisitions",null,0,0,0,0,0,0,0,0,0,0,0,null,{"$f":"N94*1.055","v":0},null,null,null,null,null,null,0]
["      Issues",13,0,0,0,0,0,0,0,0,0,0,0,null,{"$f":"N95*1.055","v":0},null,null,null,null,null,null,0]
["      Adjustments",14,0,0,0,0,0,0,0,0,0,0,0,null,{"$f":"N96*1.055","v":0},null,null,null,null,null,null,0]
["      Write-offs",15,0,0,0,0,0,0,0,0,0,0,0,null,{"$f":"N97*1.055","v":0},null,null,null,null,null,null,0]
["Correction of Prior period errors",null,0,0,0,0,0,0,0,0,0,null,null,null,null,null,null,null,null,null,null,0]
["  Closing balance - Finished Goods",null,0,0,0,0,0,0,0,0,0,0,0,null,{"$f":"SUM(O93:O98)","v":0},null,null,null,null,null,null,0]
[]
["Materials and Supplies"]
["  Opening Balance",null,8315709.7800000012,7012124.1499999994,0,0,0,0,0,0,7012124.1499999994,7012124.1499999985,7012124.1499999985,null,7012124.1499999994,null,null,null,null,null,null,7012124.1499999994]
["      Acquisitions",null,12573998,13130688,0,0,0,0,-64544,-64544,13066144,13139838,13468345,null,0,null,null,null,null,null,null,13130688]
["      Issues",13,-12573998,-13130688,0,0,0,0,64544,64544,-13066144,-13139838,-13468345,null,0,null,null,null,null,null,null,-13130688]
["      Adjustments",14,0,0,0,0,0,0,0,0,0,0,0,null,{"$f":"N105*1.055","v":0},null,null,null,null,null,null,0]
["      Write-offs",15,0,0,0,0,0,0,0,0,0,0,0,null,{"$f":"N106*1.055","v":0},null,null,null,null,null,null,0]
["Correction of Prior period errors",null,0,0,0,0,0,0,0,0,0,null,null,null,null,null,null,null,null,null,null,0]
["  Closing balance - Materials and Supplies",null,8315709.7800000012,7012124.1499999985,0,0,0,0,0,0,7012124.1499999985,7012124.1499999985,7012124.1499999985,null,{"$f":"SUM(O102:O107)","v":7012124.1499999994},null,null,null,null,null,null,7012124.1499999985]
[]
["Work-in-progress"]
["  Opening Balance",null,0,0,0,0,0,0,0,0,0,0,0,null,{"$f":"N114","v":0},null,null,null,null,null,null,0]
["      Materials",null,0,0,0,0,0,0,0,0,0,0,0,null,{"$f":"N112*1.055","v":0},null,null,null,null,null,null,0]
["      Transfers",null,0,0,0,0,0,0,0,0,0,0,0,null,{"$f":"N113*1.055","v":0},null,null,null,null,null,null,0]
["  Closing balance - Work-in-progress",null,0,0,0,0,0,0,0,0,0,0,0,null,{"$f":"SUM(O111:O113)","v":0},null,null,null,null,null,null,0]
[]
["Housing Stock"]
["  Opening Balance",null,0,0,0,0,0,0,0,0,0,0,0,null,{"$f":"N122","v":0},null,null,null,null,null,null,0]
["      Acquisitions",null,0,0,0,0,0,0,0,0,0,0,0,null,{"$f":"N118*1.055","v":0},null,null,null,null,null,null,0]
["      Transfers",null,0,0,0,0,0,0,0,0,0,0,0,null,{"$f":"N119*1.055","v":0},null,null,null,null,null,null,0]
["      Sales",null,0,0,0,0,0,0,0,0,0,0,0,null,{"$f":"N120*1.055","v":0},null,null,null,null,null,null,0]
["Correction of Prior period errors",null,0,0,0,0,0,0,0,0,0,null,null,null,null,null,null,null,null,null,null,0]
["  Closing Balance - Housing Stock",null,0,0,0,0,0,0,0,0,0,0,0,null,{"$f":"SUM(O117:O121)","v":0},null,null,null,null,null,null,0]
[]
["Land"]
["  Opening Balance",null,0,0,0,0,0,0,0,0,0,0,0,null,{"$f":"N131","v":0},null,null,null,null,null,null,0]
["      Acquisitions",null,0,0,0,0,0,0,0,0,0,0,0,null,{"$f":"N126*1.055","v":0},null,null,null,null,null,null,0]
["      Sales",null,0,0,0,0,0,0,0,0,0,0,0,null,{"$f":"N127*1.055","v":0},null,null,null,null,null,null,0]
["      Adjustments",null,0,0,0,0,0,0,0,0,0,0,0,null,{"$f":"N128*1.055","v":0},null,null,null,null,null,null,0]
["     Correction of  Prior period errors",null,0,0,0,0,0,0,0,0,0,0,0,null,{"$f":"N129*1.055","v":0},null,null,null,null,null,null,0]
["     Transfers",null,0,0,0,0,0,0,0,0,0,0,0,null,{"$f":"N130*1.055","v":0},null,null,null,null,null,null,0]
["  Closing Balance - Land",null,0,0,0,0,0,0,0,0,0,0,0,null,{"$f":"SUM(O125:O130)","v":0},null,null,null,null,null,null,0]
["Closing Balance - Inventory & Consumables",null,8949155.0400000028,7858872.5299999975,0,0,0,0,0,0,7858872.5299999975,7858872.5299999975,7858872.5299999975,null,{"$f":"O63+O72+O82+O90+O99+O108+O114+O122+O131","v":7858872.5299999993},null,null,null,null,null,null,7858872.5299999975]
[]
["Property, plant & equipment"]
["PPE at cost/valuation (excl. finance leases)",null,1812137361.1230264,1776336380.059896,0,0,0,0,-4252213.21652174,-4252213.21652174,1772084166.8433743,1923792079.8433743,2075829079.8433743,null,1653860633.8433743,null,null,null,null,null,null,1776336380.059896]
["Leases recognised as PPE",2,0,0,0,0,0,0,0,0,0,0,0,null,0,null,null,null,null,null,null,0]
["Less: Accumulated depreciation",null,432547207.84163338,443119228.40763342,0,0,0,0,0,0,443119228.40763342,478600033.40763342,514080838.40763342,null,399330199.40763342,null,null,null,null,null,null,443119228.40763342]
[{"$f":"\"Total \"&A134","v":"Total Property, plant & equipment"},1,1379590153.2813931,1333217151.6522627,0,0,0,0,-4252213.21652174,-4252213.21652174,1328964938.4357409,1445192046.4357409,1561748241.4357409,null,{"$f":"SUM(O135:O136)-O137","v":1254530434.4357409},null,null,null,null,null,null,1333217151.6522627]
[]
["LIABILITIES"]
["Current liabilities - Financial liabilities"]
["Short term loans (other than bank overdraft)",null,0,0,0,0,0,0,0,0,0,0,0,null,0,null,null,null,null,null,null,0]
["Current portion of long-term liabilities",null,29689231.349165116,20113593.632987399,0,0,0,0,0,0,20113593.632987399,15986875.038222244,13572713.618343666,null,33338186.149999999,null,null,null,null,null,null,20113593.632987399]
[{"$f":"\"Total \"&A141","v":"Total Current liabilities - Financial liabilities"},null,29689231.349165116,20113593.632987399,0,0,0,0,0,0,20113593.632987399,15986875.038222244,13572713.618343666,null,{"$f":"SUM(O142:O143)","v":33338186.149999999},null,null,null,null,null,null,20113593.632987399]
[]
["Trade and other payables "]
["Trade and other payables from exchange transactions",null,262716237.89417985,215765988.74727985,0,0,0,0,0,0,215765988.74727985,230273159.39578801,234443470.68724957,null,185915844.56999987,null,{"$f":"O147-K147","v":-29850144.177279979},null,null,null,null,215765988.74727985]
["Other trade payables from exchange transactions",null,26691540.73,30971273.960000001,0,0,0,0,0,0,30971273.960000001,30971273.960000001,30971273.960000001,null,30971273.960000001,null,null,null,null,null,null,30971273.960000001]
["Trade payables from Non-exchange transactions: Unspent conditional Grants",null,527594,3761368.5099999886,0,0,0,0,5781347.0000000894,5781347.0000000894,9542715.510000078,9542715.5100000501,9542715.5100000501,null,25698857,null,null,null,null,null,null,3761368.5099999886]
["Trade payables from Non-exchange transactions: Other",null,124376.80000000005,124376.80000000005,0,0,0,0,0,0,124376.80000000005,124376.80000000005,124376.80000000005,null,124376.8,null,null,null,null,null,null,124376.80000000005]
["VAT",null,0,0,0,0,0,0,0,0,0,0,0,null,0,null,null,null,null,null,null,0]
["Total Trade and other payables",1,290059749.42417985,250623008.01727986,0,0,0,0,5781347.0000000894,5781347.0000000894,256404355.01727995,270911525.66578811,275081836.95724964,null,{"$f":"SUM(O147:O151)","v":242710352.32999989},null,null,null,null,null,null,250623008.01727986]
["Non current liabilities - Financial liabilities"]
["Borrowing",3,113548763.48153742,104400549.10477699,0,0,0,0,0,0,104400549.10477699,88413674.066554531,74840960.44821085,null,124653221.84999999,null,null,null,null,null,null,104400549.10477699]
["Other financial liabilities",null,0,0,0,0,0,0,0,0,0,0,0,null,0,null,null,null,null,null,null,0]
["Total Non current liabilities - Financial liabilities",null,113548763.48153742,104400549.10477699,0,0,0,0,0,0,104400549.10477699,88413674.066554531,74840960.44821085,null,{"$f":"SUM(O154:O155)","v":124653221.84999999},null,null,null,null,null,null,104400549.10477699]
[]
["Non current liabilities - Long Term  portion of trade payables",null,0,0,0,0,0,0,0,0,0,0,0,null,{"$f":"SUM(O159:O162)","v":0},null,null,null,null,null,null,0]
["Elelctricty Bulk Purchases",null,0,0,0,0,0,0,0,0,0,0,0,null,0,null,null,null,null,null,null,0]
["Payables and Accruals - General",null,0,0,0,0,0,0,0,0,0,0,0,null,0,null,null,null,null,null,null,0]
["Water Bulk Purchases",null,0,0,0,0,0,0,0,0,0,0,0,null,0,null,null,null,null,null,null,0]
["Municipal Debt Relief",null,0,0,0,0,0,0,0,0,0,0,0,null,0,null,null,null,null,null,null,0]
[]
["Provisions - non current"]
["Retirement benefits",null,64929000,67495000,0,0,0,0,0,0,67495000,73632000,78049920,null,61942000,null,{"$f":"K165-O165","v":5553000},{"$f":"L165-K165","v":6137000},{"$f":"M165-L165","v":4417920},null,null,67495000]
[null,null,0,null,0,0,0,0,0,null,null,0,0,null,0]
["Refuse landfill site rehabilitation",null,137313488.56999999,148039854.007754,0,0,0,0,0,0,148039854.007754,162089735.21315607,177490158.66270617,null,135220851,null,{"$f":"K167-O167","v":12819003.007753998},{"$f":"L167-K167","v":14049881.205402076},{"$f":"M167-L167","v":15400423.449550092},null,null,148039854.007754]
["Other",null,13723000,13864000,0,0,0,0,0,0,13864000,14114000,14960840,null,12947999.999999998,null,{"$f":"K168-O168","v":916000.00000000186},{"$f":"L168-K168","v":250000},{"$f":"M168-L168","v":846840},null,null,13864000]
["Total Provisions - non current",null,215965488.56999999,229398854.007754,0,0,0,0,0,0,229398854.007754,249835735.21315607,270500918.66270614,null,{"$f":"+O165+O167+O168","v":210110851},null,null,null,null,null,null,229398854.007754]
[]
["CHANGES IN NET ASSETS"]
["Accumulated surplus/(Deficit)"]
[{"$f":"A172&\" - opening balance\"","v":"Accumulated surplus/(Deficit) - opening balance"},null,833698290.99801064,781517458.00461352,0,0,0,0,0,0,781517458.00461352,850787657.00461352,957615387.0046134,null,781517458.00461352,null,null,null,null,null,null,781517458.00461352]
["GRAP adjustments",null,0,0,0,0,0,0,0,0,0,0,0,null,0,null,null,null,null,null,null,0]
["Restated balance",null,833698290.99801064,781517458.00461352,0,0,0,0,0,0,781517458.00461352,850787657.00461352,957615387.0046134,null,{"$f":"+O173+O174","v":781517458.00461352},null,null,null,null,null,null,781517458.00461352]
["Surplus/(Deficit)",null,38733284,72812390,0,0,0,0,-3542191,-3542191,69270199,106827729.99999994,113623578.99999997,null,{"$f":"'B4-FinPerf RE'!O61","v":0},null,null,null,null,null,null,72812390]
[]
["Transfers to/from Reserves",null,0,0,0,0,0,0,0,0,0,0,0,null,0,null,null,null,null,null,null,0]
["Depreciation offsets",null,0,0,0,0,0,0,0,0,0,0,0,null,0,null,null,null,null,null,null,0]
["Other adjustments",null,0,0,0,0,0,0,0,0,0,0,0,null,0,null,null,null,null,null,null,0]
["Accumulated Surplus/(Deficit)",1,872431574.99801064,854329848.00461352,0,0,0,0,-3542191,-3542191,850787657.00461352,957615387.0046134,1071238966.0046134,null,{"$f":"SUM(O175:O180)","v":781517458.00461352},null,null,null,null,null,null,854329848.00461352]
["Reserves"]
["Housing Development Fund",null,0,0,0,0,0,0,0,0,0,0,0,null,0,null,null,null,null,null,null,0]
["Capital replacement",null,0,0,0,0,0,0,0,0,0,0,0,null,0,null,null,null,null,null,null,0]
["Self-insurance",null,0,0,0,0,0,0,0,0,0,0,0,null,0,null,null,null,null,null,null,0]
["Other reserves",null,0,0,0,0,0,0,0,0,0,0,0,null,0,null,null,null,null,null,null,0]
["Revaluation",null,0,0,0,0,0,0,0,0,0,0,0,null,0,null,null,null,null,null,null,0]
["Total Reserves",2,0,0,0,0,0,0,0,0,0,0,0,null,{"$f":"SUM(O183:O187)","v":0},null,null,null,null,null,null,0]
["TOTAL COMMUNITY WEALTH/EQUITY",2,872431574.99801064,854329848.00461352,0,0,0,0,-3542191,-3542191,850787657.00461352,957615387.0046134,1071238966.0046134,null,{"$f":"O181+O188","v":781517458.00461352},null,null,null,null,null,null,854329848.00461352]
[{"$f":"head27a","v":"References"}]
["1. Must reconcile with 'Financial Position' budget"]
["2. Leases treated as assets to be depreciated as the same as purchased/constructed assets.  Includes PPP asset element accounted for as finance leases"]
["3. Borrowing (original budget) must reconcile to Budget Table A16"]
["4. Only complete if a previous adjusted budget has been approved in the same financial year. Reflect most recent adjusted budget. Column D should be a complete Adjustment Budget which indicates that if some figures were not adjusted the original budget should then be used"]
["5. Additional cash-backed accumulated funds/unspent funds (section 18(1)(b) and section 28(2)(e) MFMA) identified after Original Budget approved and after annual financial statements audited (note: only where underspending could not reasonably be have for"]
["6. Increases of funds approved under section 31 MFMA"]
["7. Adjustments approved in accordance with section 29 MFMA"]
["8. Adjustments to funding allocations from National or Provincial Government"]
["9. Adjusts. = 'Other' Adjustments proposed to be approved; including revenue under-collection (MFMA section 28(2)(a)); additional revenue appropriation on existing programmes (section 28(2))(b); projected savings (section 28(2)(d)); error correction (sect"]
["10. G = B + C + D + E + F"]
["11. Adjusted Budget H = (A or A1) + G"]
["check",null,{"$f":"C189-'B6-FinPos'!C56","v":0},null,null,null,null,null,null,null,null,null,{"$f":"K189-'B6-FinPos'!K56","v":0}]
["12. Inventory Consumed - Water - included under \"Other materials & inventory \" on Table B4 - Detail to be submitted on Table SB1"]
["13. Inventry Consumed Other materials - included under \"Other materials & inventory \" on Table B4 - Detail to be submitted on Table SB1"]
["14. Inventory Transfers/Adjustments (Include under gains/losses on Table A4) - Note that the amount could be positive or negative - please capture according to the sign"]
["15. Inventory Write-offs (Include under losses on Table A4) -  capture Cr amounts"]

{"sheet":"SB3","index":21,"n_rows":75,"n_cols":13,"rows_kept":75,"cut":false,"hidden":false,"merged":[[74,0,74,12],[69,0,69,12],[1,0,3,0],[1,1,3,1],[1,2,1,10],[73,0,73,12]]}
[{"$f":"muni&\" - \"&ADJB3&\" - \"&Date","v":"WC031 Theewaterskloof - Supporting Table SB3 Adjustments to the SDBIP - performance objectives - 16 April 2026"}]
[{"$f":"desc","v":"Description"},"Unit of measurement",{"$f":"Head2","v":"Budget Year 2025/26"},null,null,null,null,null,null,null,null,{"$f":"Head10","v":"Budget Year +1 2026/27"},{"$f":"Head11","v":"Budget Year +2 2027/28"}]
[null,null,{"$f":"Head6","v":"Original Budget"},{"$f":"Head54","v":"Prior Adjusted"},{"$f":"Head51","v":"Accum. Funds"},{"$f":"Head52","v":"Multi-year capital"},{"$f":"Head53","v":"Unfore. Unavoid."},{"$f":"Head55","v":"Nat. or Prov. Govt"},{"$f":"Head50","v":"Other Adjusts."},{"$f":"Head56","v":"Total Adjusts."},{"$f":"Head7","v":"Adjusted Budget"},{"$f":"Head7","v":"Adjusted Budget"},{"$f":"Head7","v":"Adjusted Budget"}]
[null,null,"A","A1","B","C","D","E","F","G","H"]
["Vote 1 - Office of the Municipal Manager",null,0,0,0,0,0,0,0]
["Function 1 -Municipal Manager",null,0,0,0,0,0,0,0]
["Compile and submit the final annual budget to Council by 31 May 2023","Final budget submitted to Council",0,0,0,0,0,0,0]
["The percentage of the municipal capital budget spent on projects as at 30 June 2023 {(Actual amount spent on capital projects excluding orders/Total amount budgeted for capital projects)X100}","% of capital budget spent",0,0,0,0,0,0,0,{"$f":"SUM(E8:I8)","v":0},{"$f":"IF(D8=0,C8+J8,D8+J8)","v":0},{"$f":"IF(E8=0,D8+K8,E8+K8)","v":0},{"$f":"IF(F8=0,E8+L8,F8+L8)","v":0}]
["Sub-function 1 -IDP and  Strategic Planning",null,0,0,0,0,0,0,0]
["Conduct a formal performance evaluation of the senior managers in terms of their signed agreements","Number of formal evaluations conducted",0,0,0,0,0,0,0]
["Compile and submit the final IDP to Council by 31 May 2023","Final IDP submitted to Council",0,0,0,0,0,0,0,{"$f":"SUM(E11:I11)","v":0},{"$f":"IF(D11=0,C11+J11,D11+J11)","v":0},{"$f":"IF(E11=0,D11+K11,E11+K11)","v":0},{"$f":"IF(F11=0,E11+L11,F11+L11)","v":0}]
["Compile and submit the Oversight Report to Council by 31 March 2023","Report submitted to Council",0,0,0,0,0,0,0]
["Compile and submit the Draft Annual Report to Council by 31 January 2023 (MFMA 127(2) and MSA 46(2)","Draft Annual Report submitted to Council",0,0,0,0,0,0,0]
["Compile and submit Annual Performance Report (APR) to the AG by 31 August","Annual Performance Report Submitted",0,0,0,0,0,0,0,{"$f":"SUM(E14:I14)","v":0},{"$f":"IF(D14=0,C14+J14,D14+J14)","v":0},{"$f":"IF(E14=0,D14+K14,E14+K14)","v":0},{"$f":"IF(F14=0,E14+L14,F14+L14)","v":0}]
["Sign Performance agreements for all S56/57 appointments by 31 July 2022 or within 30 days after employment","Number of Performance Agreements Signed",0,0,0,0,0,0,0]
["Vote 2 - Financial Services",null,0,0,0,0,0,0,0]
["Function 1 -Director Financial Services",null,0,0,0,0,0,0,0]
["achieve an unqualified audit opinion for the 2021/22 financial year","Plan completed and submitted to management",0,0,0,0,0,0,0,{"$f":"SUM(E18:I18)","v":0},{"$f":"IF(D18=0,C18+J18,D18+J18)","v":0},{"$f":"IF(E18=0,D18+K18,E18+K18)","v":0},{"$f":"IF(F18=0,E18+L18,F18+L18)","v":0}]
["Achieve an unqualified audit opinion for the 2021/22 financial year","Unqualified audit opinion achieved",0,0,0,0,0,0,0]
["Compile and submit the Annual Financial Statements to the Auditor General (AG) by 31 August 2022",null,0,0,0,0,0,0,0]
["Sub-function 2 -Deputy Director: Cost and Management Accounting",null,0,0,0,0,0,0,0,{"$f":"SUM(E21:I21)","v":0},{"$f":"IF(D21=0,C21+J21,D21+J21)","v":0},{"$f":"IF(E21=0,D21+K21,E21+K21)","v":0},{"$f":"IF(F21=0,E21+L21,F21+L21)","v":0}]
["Compile and submit the Annual Financial Statements to the Auditor General (AG) by 31 August 2022","Annual Financial Statements submitted to the AG",0,0,0,0,0,0,0]
[null,null,0,0,0,0,0,0,0]
["Sub-function 3- Head: Financial Operations",null,0,0,0,0,0,0,0,{"$f":"SUM(E24:I24)","v":0},{"$f":"IF(D24=0,C24+J24,D24+J24)","v":0},{"$f":"IF(E24=0,D24+K24,E24+K24)","v":0},{"$f":"IF(F24=0,E24+L24,F24+L24)","v":0}]
["Provide 6kl free basic water per month to all indigent households during the 2022/23 financial year","Number of indigent households receiving free basic water",0,0,0,0,0,0,0]
["Provide 70kwh of free basic electricity per month to all indigent households (Excluding Eskom) during the 2022/23 financial year","Number of indigent households receiving free basic electricity",0,0,0,0,0,0,0]
["Provide free basic sanitation to indigent households in terms of the equitable share requirements during the 2022/23 financial year","Number of indigent households receiving free basic sanitation",0,0,0,0,0,0,0]
["Provide free basic refuse removal to indigent households in terms of the equitable share requirements during the 2022/23 financial year","Number of indigent households receiving free basic refuse removal",0,0,0,0,0,0,0]
["Purchase smart (utility) water meters by 30 June 2023","Number of smart water meters purchased",0,0,0,0,0,0,0,{"$f":"SUM(E29:I29)","v":0},{"$f":"IF(D29=0,C29+J29,D29+J29)","v":0},{"$f":"IF(E29=0,D29+K29,E29+K29)","v":0},{"$f":"IF(F29=0,E29+L29,F29+L29)","v":0}]
["Sub-function 4 - SCM",null,0,0,0,0,0,0,0]
["Award tenders in line with SCM Policies and Regulations that result in not more than 1 successful appeal per annum during the financial year","Number of successful SCM related appeals",0,0,0,0,0,0,0]
["Sub-function 5 - Revenue",null,0,0,0,0,0,0,0,{"$f":"SUM(E32:I32)","v":0},{"$f":"IF(D32=0,C32+J32,D32+J32)","v":0},{"$f":"IF(E32=0,D32+K32,E32+K32)","v":0},{"$f":"IF(F32=0,E32+L32,F32+L32)","v":0}]
["Achieve a debtor payment percentage of 85% as at 30 June 2023 ((Gross Debtors Opening Balance + Billed Revenue - Gross Debtors Closing Balance - Bad Debts Written Off)/Billed Revenue) x 100","Payment % achieved",0,0,0,0,0,0,0]
["Financial viability measured in terms of the outstanding service debtors as at 30 June 2023 (Total outstanding service debtors/ revenue received for services)","% of outstanding service debtors",0,0,0,0,0,0,0]
["Number of residential properties that receive piped water (credit and prepaid water) that is connected to the municipal water infrastructure network and billed for the services during 2022/23 financial year","Number of residential properties which are billed for water or have prepaid meters",0,0,0,0,0,0,0,{"$f":"SUM(E35:I35)","v":0},{"$f":"IF(D35=0,C35+J35,D35+J35)","v":0},{"$f":"IF(E35=0,D35+K35,E35+K35)","v":0},{"$f":"IF(F35=0,E35+L35,F35+L35)","v":0}]
["Number of residential properties connected to the municipal electrical infrastructure network (credit and prepaid electrical metering) (excluding ESKOM areas) and billed for the services during the 2022/23 financial year","Number of residential properties which are billed for electricity or have prepaid meters (excluding ESKOM areas)",0,0,0,0,0,0,0]
["Number of residential properties for which refuse is removed once per week and billed for the services during the 2022/23 financial year","Number of residential properties which are billed for refuse removal once a month",0,0,0,0,0,0,0]
["Number of residential properties connected to the municipal waste water sanitation/sewer network for sewerage services (inclusive of septic tanks) irrespective of the number of water closets (toilets) and billed for the services during the 2022/23","Number of residential properties which are billed for sewerage",0,0,0,0,0,0,0]
["Sub-function 6 -Expenditure",null,0,0,0,0,0,0,0,{"$f":"SUM(E39:I39)","v":0},{"$f":"IF(D39=0,C39+J39,D39+J39)","v":0},{"$f":"IF(E39=0,D39+K39,E39+K39)","v":0},{"$f":"IF(F39=0,E39+L39,F39+L39)","v":0}]
["Financial viability measured in terms of the municipality's ability to meet its service debt obligations as at 30 June 2023 ((Total Operating Revenue-Operating Grants)/Debt Service Payments (i.e. interest + redemption) due within one year","Ratio achieved",0,0,0,0,0,0,0]
["Financial viability measured in terms of the available cash to cover fixed operating expenditure as at 30 June 2023 ((Cash and Cash Equivalents - Unspent Conditional Grants - Overdraft) + Short Term Investment) / Monthly Fixed Operational Expenditure excl",null,0,0,0,0,0,0,0]
["Vote 3 - Techncial and Infrastratructure Implementation Sevices",null,0,0,0,0,0,0,0,{"$f":"SUM(E42:I42)","v":0},{"$f":"IF(D42=0,C42+J42,D42+J42)","v":0},{"$f":"IF(E42=0,D42+K42,E42+K42)","v":0},{"$f":"IF(F42=0,E42+L42,F42+L42)","v":0}]
["Sub-function 1 - (name)- Deputy Director Electrical",null,0,0,0,0,0,0,0]
["Limit unaccounted electricity to less than 8.4% as at 30 June 2023 {(Number of Electricity Units Purchased and/or Generated - Number of Electricity Units Sold (incl Free basic electricity)) / Number of Electricity Units Purchased and/or Generated) X 100","% unaccounted electricity captured in the report",0,0,0,0,0,0,0]
["Sub-function 2 -Deputy Dikrector Technical",null,0,0,0,0,0,0,0,{"$f":"SUM(E45:I45)","v":0},{"$f":"IF(D45=0,C45+J45,D45+J45)","v":0},{"$f":"IF(E45=0,D45+K45,E45+K45)","v":0},{"$f":"IF(F45=0,E45+L45,F45+L45)","v":0}]
["Spend 95% of the capital budget for Technical Services spent by 30 June {(Total actual expenditure /Total amount budgeted )x100}","% of capital budget spent by 30 June",0,0,0,0,0,0,0]
["Vote 4- Community Services",null,0,0,0,0,0,0,0]
["Sub-function 1 - (Deputy Director ",null,0,0,0,0,0,0,0]
["Achieve an average of 90% water sample compliance with SANS 241 micro biological indicators Water Treatment Works {(% achievement all WTW's/WTW's tested) by 30 June 2023","Average % water compliance in terms of SANS 241 achieved",0,0,0,0,0,0,0]
["65% of effluent samples comply with permit values {(% compliance of all WWTW's achieved / the number of WWTW's tested)}","Average % achieved",0,0,0,0,0,0,0,{"$f":"SUM(E50:I50)","v":0},{"$f":"IF(D50=0,C50+J50,D50+J50)","v":0},{"$f":"IF(E50=0,D50+K50,E50+K50)","v":0},{"$f":"IF(F50=0,E50+L50,F50+L50)","v":0}]
["Limit unaccounted water to less than 18% as at 30 June 2023 {(Number of Kiloliters Water Purchased or Purified - Number of Kiloliters Water Sold (incl free basic water) / Number of Kiloliters Water Purchased or Purified _ x 100}","% unaccounted water captured in the report",0,0,0,0,0,0,0]
["Vote 5- Economic Development and Planning",null,0,0,0,0,0,0,0]
["Sub-function 1 - (Human Settlement",null,0,0,0,0,0,0,0,{"$f":"SUM(E53:I53)","v":0},{"$f":"IF(D53=0,C53+J53,D53+J53)","v":0},{"$f":"IF(E53=0,D53+K53,E53+K53)","v":0},{"$f":"IF(F53=0,E53+L53,F53+L53)","v":0}]
["Spend 95% of the approved housing grant funds by 30 June 2023 {(Total actual expenditure /Total budgeted )x100}",null,0,0,0,0,0,0,0]
["Sub-function 2 - LED",null,0,0,0,0,0,0,0]
["Create temporary work opportunities in terms of EPWP by 30 June 2023",null,0,0,0,0,0,0,0,{"$f":"SUM(E56:I56)","v":0},{"$f":"IF(D56=0,C56+J56,D56+J56)","v":0},{"$f":"IF(E56=0,D56+K56,E56+K56)","v":0},{"$f":"IF(F56=0,E56+L56,F56+L56)","v":0}]
["Sub-function 3 - Town planning",null,0,0,0,0,0,0,0]
["Review a Draft SDF and submit to Council by 30 June 2023",null,0,0,0,0,0,0,0]
["Vote 6 - Corporate",null,0,0,0,0,0,0,0]
["Function 1 - (name)",null,0,0,0,0,0,0,0,{"$f":"SUM(E60:I60)","v":0},{"$f":"IF(D60=0,C60+J60,D60+J60)","v":0},{"$f":"IF(E60=0,D60+K60,E60+K60)","v":0},{"$f":"IF(F60=0,E60+L60,F60+L60)","v":0}]
["Sub-function 1 -HR",null,0,0,0,0,0,0,0]
["The percentage of the municipality's personnel budget actually spent on implementing its workplace skills plan by 30 June 2023 [(Actual amount spent on training/total personnel budget)x100]","% of the personnel budget spent",0,0,0,0,0,0,0]
["The number of people from employment equity target groups employed (new appointments) in the three highest levels of management in compliance with the equity plan by 30 June 2023","Number of people employed",0,0,0,0,0,0,0,{"$f":"SUM(E63:I63)","v":0},{"$f":"IF(D63=0,C63+J63,D63+J63)","v":0},{"$f":"IF(E63=0,D63+K63,E63+K63)","v":0},{"$f":"IF(F63=0,E63+L63,F63+L63)","v":0}]
[null,null,0,0,0,0,0,0,0]
["Sub-function 3 - (name)",null,0,0,0,0,0,0,0]
["Insert measure/s description",null,0,0,0,0,0,0,0,{"$f":"SUM(E66:I66)","v":0},{"$f":"IF(D66=0,C66+J66,D66+J66)","v":0},{"$f":"IF(E66=0,D66+K66,E66+K66)","v":0},{"$f":"IF(F66=0,E66+L66,F66+L66)","v":0}]
[null,null,0,0,0,0,0,0,0]
["And so on for the rest of the Votes",null,0,0,0,0,0,0,0,{"$f":"SUM(E68:I68)","v":0},{"$f":"IF(D68=0,C68+J68,D68+J68)","v":0},{"$f":"IF(E68=0,D68+K68,E68+K68)","v":0},{"$f":"IF(F68=0,E68+L68,F68+L68)","v":0}]
[{"$f":"head27a","v":"References"}]
["1. Include a measurable performance objective for each revenue source (within a relevant function) and each vote (MFMA s17(3)(b))"]
["2. Include the estimated effect on the target of each component of an adjustment budget (B to G)"]
["3. Include all Basic Services performance targets from Table A10 to ensure Table SA7 represents all strategic responsibilities"]
["4. Total target adjustments G = B + C + D + E + F"]
["5. Adjusted Budget H = (A or A1) + G"]
["6. NOTE - include adjustsment by 'exception' (only where amended)"]

{"sheet":"SB4","index":22,"n_rows":53,"n_cols":11,"rows_kept":53,"cut":false,"hidden":false,"merged":[[32,0,34,0],[1,0,2,0],[1,1,2,1],[1,5,1,7],[25,0,27,0],[29,0,31,0]]}
[{"$f":"muni&\" - \"&ADJB4&\" - \"&Date","v":"WC031 Theewaterskloof - Supporting Table SB4 Adjustments to budgeted performance indicators and benchmarks - 16 April 2026"}]
[{"$f":"desc&\" of financial indicator\"","v":"Description of financial indicator"},"Basis of calculation",{"$f":"Head1B","v":"2022/23"},{"$f":"Head1A","v":"2023/24"},{"$f":"Head1","v":"2024/25"},{"$f":"Head2","v":"Budget Year 2025/26"},null,null,{"$f":"Head10","v":"Budget Year +1 2026/27"},{"$f":"Head11","v":"Budget Year +2 2027/28"}]
[null,null,{"$f":"Head5","v":"Audited Outcome"},{"$f":"Head5","v":"Audited Outcome"},{"$f":"Head5","v":"Audited Outcome"},{"$f":"Head6","v":"Original Budget"},{"$f":"Head54","v":"Prior Adjusted"},{"$f":"Head7","v":"Adjusted Budget"},{"$f":"Head7","v":"Adjusted Budget"},{"$f":"Head7","v":"Adjusted Budget"}]
["Borrowing Management"]
[]
["Credit Rating","Short term/long term rating"]
["Capital Charges to Operating Expenditure","Interest & Principal Paid /Operating Expenditure",6.2241551873610232E-2,7.0223791303650931E-2,0,{"$f":"IF(ISERROR(('B4-FinPerf RE'!C42-'B7-CFlow'!C37)/'B4-FinPerf RE'!C51),0,(('B4-FinPerf RE'!C42-'B7-CFlow'!C37)/'B4-FinPerf RE'!C51))","v":0.15591876058054926},{"$f":"IF(ISERROR(('B4-FinPerf RE'!D42-'B7-CFlow'!D37)/'B4-FinPerf RE'!D51),0,(('B4-FinPerf RE'!D42-'B7-CFlow'!D37)/'B4-FinPerf RE'!D51))","v":0.1569188422764195},{"$f":"IF(ISERROR(('B4-FinPerf RE'!K42-'B7-CFlow'!K37)/'B4-FinPerf RE'!K51),0,(('B4-FinPerf RE'!K42-'B7-CFlow'!K37)/'B4-FinPerf RE'!K51))","v":0.15937897776815041},{"$f":"IF(ISERROR(('B4-FinPerf RE'!L42-'B7-CFlow'!L37)/'B4-FinPerf RE'!L51),0,(('B4-FinPerf RE'!L42-'B7-CFlow'!L37)/'B4-FinPerf RE'!L51))","v":0.15604794364424826},{"$f":"IF(ISERROR(('B4-FinPerf RE'!M42-'B7-CFlow'!M37)/'B4-FinPerf RE'!M51),0,(('B4-FinPerf RE'!M42-'B7-CFlow'!M37)/'B4-FinPerf RE'!M51))","v":0.15123174339645443}]
["Capital Charges to Own Revenue","Finance charges & Repayment of borrowing /Own Revenue",7.5522861635087757E-2,8.8919785880907265E-2,0,{"$f":"IF(ISERROR(('B4-FinPerf RE'!C43-'B7-CFlow'!C38)/'B4-FinPerf RE'!C52),0,(('B4-FinPerf RE'!C43-'B7-CFlow'!C38)/'B4-FinPerf RE'!C52))","v":0},{"$f":"IF(ISERROR(('B4-FinPerf RE'!D43-'B7-CFlow'!D38)/'B4-FinPerf RE'!D52),0,(('B4-FinPerf RE'!D43-'B7-CFlow'!D38)/'B4-FinPerf RE'!D52))","v":0},{"$f":"IF(ISERROR(('B4-FinPerf RE'!K43-'B7-CFlow'!K38)/'B4-FinPerf RE'!K52),0,(('B4-FinPerf RE'!K43-'B7-CFlow'!K38)/'B4-FinPerf RE'!K52))","v":0},{"$f":"IF(ISERROR(('B4-FinPerf RE'!L43-'B7-CFlow'!L38)/'B4-FinPerf RE'!L52),0,(('B4-FinPerf RE'!L43-'B7-CFlow'!L38)/'B4-FinPerf RE'!L52))","v":0},{"$f":"IF(ISERROR(('B4-FinPerf RE'!M43-'B7-CFlow'!M38)/'B4-FinPerf RE'!M52),0,(('B4-FinPerf RE'!M43-'B7-CFlow'!M38)/'B4-FinPerf RE'!M52))","v":0}]
["Borrowed funding of 'own' capital expenditure","Borrowing/Capital expenditure excl. transfers and grants",4.2146950312801144,0,0,{"$f":"IF(ISERROR('B5-Capex'!C74/('B5-Capex'!C65-'B5-Capex'!C72)),0,('B5-Capex'!C74/('B5-Capex'!C65-'B5-Capex'!C72)))","v":0.60266563459109823},{"$f":"IF(ISERROR('B5-Capex'!D74/('B5-Capex'!D65-'B5-Capex'!D72)),0,('B5-Capex'!D74/('B5-Capex'!D65-'B5-Capex'!D72)))","v":1.1560400493918295E-16},{"$f":"IF(ISERROR('B5-Capex'!K74/('B5-Capex'!K65-'B5-Capex'!L72)),0,('B5-Capex'!K74/('B5-Capex'!K65-'B5-Capex'!L72)))","v":0},{"$f":"IF(ISERROR('B5-Capex'!L74/('B5-Capex'!L65-'B5-Capex'!M72)),0,('B5-Capex'!L74/('B5-Capex'!L65-'B5-Capex'!M72)))","v":0},{"$f":"IF(ISERROR('B5-Capex'!M74/('B5-Capex'!M65-'B5-Capex'!N72)),0,('B5-Capex'!M74/('B5-Capex'!M65-'B5-Capex'!N72)))","v":0}]
["Safety of Capital"]
["Gearing","Long Term Borrowing/ Funds & Reserves",null,null,null,{"$f":"IF(ISERROR('B6-FinPos'!C43/'B6-FinPos'!C54),0,('B6-FinPos'!C43/'B6-FinPos'!C54))","v":0},{"$f":"IF(ISERROR('B6-FinPos'!D43/'B6-FinPos'!D54),0,('B6-FinPos'!D43/'B6-FinPos'!D54))","v":0},{"$f":"IF(ISERROR('B6-FinPos'!K43/'B6-FinPos'!K54),0,('B6-FinPos'!K43/'B6-FinPos'!K54))","v":0},{"$f":"IF(ISERROR('B6-FinPos'!L43/'B6-FinPos'!L54),0,('B6-FinPos'!L43/'B6-FinPos'!L54))","v":0},{"$f":"IF(ISERROR('B6-FinPos'!M43/'B6-FinPos'!M54),0,('B6-FinPos'!M43/'B6-FinPos'!M54))","v":0}]
["Liquidity"]
["Current Ratio","Current assets/current liabilities",1.220451206059213,0.37288327317050168,0.30935614282650781,{"$f":"IF(ISERROR('B6-FinPos'!C15/'B6-FinPos'!C40),0,('B6-FinPos'!C15/'B6-FinPos'!C40))","v":0.30617173532873249},{"$f":"IF(ISERROR('B6-FinPos'!D15/'B6-FinPos'!D40),0,('B6-FinPos'!D15/'B6-FinPos'!D40))","v":0.30183984467247749},{"$f":"IF(ISERROR('B6-FinPos'!K15/'B6-FinPos'!K40),0,('B6-FinPos'!K15/'B6-FinPos'!K40))","v":0.31663336492446087},{"$f":"IF(ISERROR('B6-FinPos'!L15/'B6-FinPos'!L40),0,('B6-FinPos'!L15/'B6-FinPos'!L40))","v":0.3277874143639421},{"$f":"IF(ISERROR('B6-FinPos'!M15/'B6-FinPos'!M40),0,('B6-FinPos'!M15/'B6-FinPos'!M40))","v":0.34833444974494682}]
["Current Ratio adjusted for aged debtors","Current assets/current liabilities less debtors > 90 days/current liabilities",1.220451206059213,0.37288327317050168,0.30935614282650781,{"$f":"IF(ISERROR(('B6-FinPos'!C15-'SB4'!F48)/'B6-FinPos'!C40),0,(('B6-FinPos'!C15-'SB4'!F48)/'B6-FinPos'!C40))","v":0.30617173532873249},{"$f":"IF(ISERROR(('B6-FinPos'!D15-'SB4'!G48)/'B6-FinPos'!D40),0,(('B6-FinPos'!D15-'SB4'!G48)/'B6-FinPos'!D40))","v":0.30183984467247749},{"$f":"IF(ISERROR(('B6-FinPos'!E15-'SB4'!H48)/'B6-FinPos'!E40),0,(('B6-FinPos'!E15-'SB4'!H48)/'B6-FinPos'!E40))","v":0},{"$f":"IF(ISERROR(('B6-FinPos'!F15-'SB4'!I48)/'B6-FinPos'!F40),0,(('B6-FinPos'!F15-'SB4'!I48)/'B6-FinPos'!F40))","v":0},{"$f":"IF(ISERROR(('B6-FinPos'!G15-'SB4'!J48)/'B6-FinPos'!G40),0,(('B6-FinPos'!G15-'SB4'!J48)/'B6-FinPos'!G40))","v":0}]
["Liquidity Ratio","Monetary Assets/Current Liabilities",1.042732338739943,0.22605080685353218,0.1547717291027286,{"$f":"IF(ISERROR(('B6-FinPos'!C8+'B6-FinPos'!C10)/'B6-FinPos'!C40),0,(('B6-FinPos'!C8+'B6-FinPos'!C10)/'B6-FinPos'!C40))","v":0.12288349525485577},{"$f":"IF(ISERROR(('B6-FinPos'!D8+'B6-FinPos'!D10)/'B6-FinPos'!D40),0,(('B6-FinPos'!D8+'B6-FinPos'!D10)/'B6-FinPos'!D40))","v":9.9703609110508587E-2},{"$f":"IF(ISERROR(('B6-FinPos'!K8+'B6-FinPos'!K10)/'B6-FinPos'!K40),0,(('B6-FinPos'!K8+'B6-FinPos'!K10)/'B6-FinPos'!K40))","v":0.1181395237053901},{"$f":"IF(ISERROR(('B6-FinPos'!L8+'B6-FinPos'!L10)/'B6-FinPos'!L40),0,(('B6-FinPos'!L8+'B6-FinPos'!L10)/'B6-FinPos'!L40))","v":0.12786612385349649},{"$f":"IF(ISERROR(('B6-FinPos'!M8+'B6-FinPos'!M10)/'B6-FinPos'!M40),0,(('B6-FinPos'!M8+'B6-FinPos'!M10)/'B6-FinPos'!M40))","v":0.1417930140611835},"?"]
["Revenue Management"]
["Annual Debtors Collection Rate (Payment Level %)","Last 12 Mths Receipts/ Last 12 Mths Billing",1.2847233955318571,1.2945009266811776,1.2177349173722352,1.2177349173722352,1.2177349173722352,1.2177349173722352,1.190611964579271,1.1906119620430442]
["Current Debtors Collection Rate (Cash receipts % of Ratepayer & Other revenue)",null,1.2945009266811776,1.3428610684395836,1.2177349173722352,1.190611964579271,1.190611964579271,1.190611964579271,1.1906119620430442,1.1906119568542877]
["Outstanding Debtors to Revenue","Total Outstanding Debtors to Annual Revenue",0.15336456098496992,0.15922863380473923,0.15190389004803842,{"$f":"IF(ISERROR((SUM('B6-FinPos'!C9:C13)+'B6-FinPos'!C18)/'B4-FinPerf RE'!C35),0,((SUM('B6-FinPos'!C9:C13)+'B6-FinPos'!C18)/'B4-FinPerf RE'!C35))","v":0.20381550356023054},{"$f":"IF(ISERROR((SUM('B6-FinPos'!D9:D13)+'B6-FinPos'!D18)/'B4-FinPerf RE'!D35),0,((SUM('B6-FinPos'!D9:D13)+'B6-FinPos'!D18)/'B4-FinPerf RE'!D35))","v":0.18260704284396406},{"$f":"IF(ISERROR((SUM('B6-FinPos'!K9:K13)+'B6-FinPos'!K18)/'B4-FinPerf RE'!K35),0,((SUM('B6-FinPos'!K9:K13)+'B6-FinPos'!K18)/'B4-FinPerf RE'!K35))","v":0.18552810241969483},{"$f":"IF(ISERROR((SUM('B6-FinPos'!L9:L13)+'B6-FinPos'!L18)/'B4-FinPerf RE'!L35),0,((SUM('B6-FinPos'!L9:L13)+'B6-FinPos'!L18)/'B4-FinPerf RE'!L35))","v":0.18519980784899148},{"$f":"IF(ISERROR((SUM('B6-FinPos'!M9:M13)+'B6-FinPos'!M18)/'B4-FinPerf RE'!M35),0,((SUM('B6-FinPos'!M9:M13)+'B6-FinPos'!M18)/'B4-FinPerf RE'!M35))","v":0.18134288343059254}]
["Longstanding Debtors Recovered","Debtors > 12 Mths Recovered/Total Debtors > 12 Months Old",null,null,null,{"$f":"IF(ISERROR(F49/'B6-FinPos'!C18),0,(F49/'B6-FinPos'!C18))","v":0},{"$f":"IF(ISERROR(G49/'B6-FinPos'!D18),0,(G49/'B6-FinPos'!D18))","v":0},{"$f":"IF(ISERROR(H49/'B6-FinPos'!K18),0,(H49/'B6-FinPos'!K18))","v":0},{"$f":"IF(ISERROR(I49/'B6-FinPos'!L18),0,(I49/'B6-FinPos'!L18))","v":0},{"$f":"IF(ISERROR(J49/'B6-FinPos'!M18),0,(J49/'B6-FinPos'!M18))","v":0}]
["Creditors Management"]
["Creditors System Efficiency","% of Creditors Paid Within Terms (within MFMA s 65(e))",1]
["Creditors to Cash and Investments",null,null,null,null,{"$f":"IF(ISERROR('SB2'!C152/'B7-CFlow'!C42), 0, ('SB2'!C152/'B7-CFlow'!C42))","v":36.422006654371899},{"$f":"IF(ISERROR('SB2'!D152/'B7-CFlow'!D42), 0, ('SB2'!D152/'B7-CFlow'!D42))","v":159.78547820339864},{"$f":"IF(ISERROR('SB2'!K152/'B7-CFlow'!K42), 0, ('SB2'!K152/'B7-CFlow'!K42))","v":31.812483623800645},{"$f":"IF(ISERROR('SB2'!L152/'B7-CFlow'!L42), 0, ('SB2'!L152/'B7-CFlow'!L42))","v":19.207764354562229},{"$f":"IF(ISERROR('SB2'!M152/'B7-CFlow'!M42), 0, ('SB2'!M152/'B7-CFlow'!M42))","v":12.962857839014728}]
[]
["Other Indicators"]
["Electricity Distribution Losses (2)","Total Volume Losses (kW)",3997,3997,3997,3997,3997,3997,3997,3997]
[null,"Total Volume Losses (kW) non technical"]
[null,"Total Cost of Losses (Rand '000)"]
[null,"% Volume (units purchased and generated less units sold)/units purchased and generated",7.0000000000000007E-2,7.0000000000000007E-2,7.0000000000000007E-2,7.0000000000000007E-2,7.0000000000000007E-2,7.0000000000000007E-2,7.0000000000000007E-2,7.0000000000000007E-2]
["Water Volumes :System input","Bulk Purchase"]
[null,"Water treatment works"]
[null,"Natural sources"]
["Water Distribution Losses (2)","Total Volume Losses (kℓ)",1748000,1748000,1748000,1748000,1748000,1748000,1748000,1748000]
[null,"Total Cost of Losses (Rand '000)"]
[null,"% Volume (units purchased and generated less units sold)/units purchased and generated"]
["Employee costs","Employee costs/(Total Revenue - capital revenue)",0.37191760348041397,0.38869968026032847,0.35819642115214634,{"$f":"IF(ISERROR('B4-FinPerf RE'!C38/'B4-FinPerf RE'!C35),0,('B4-FinPerf RE'!C38/'B4-FinPerf RE'!C35))","v":0.37131438220227458},{"$f":"IF(ISERROR('B4-FinPerf RE'!D38/'B4-FinPerf RE'!D35),0,('B4-FinPerf RE'!D38/'B4-FinPerf RE'!D35))","v":0.3597080002743035},{"$f":"IF(ISERROR('B4-FinPerf RE'!K38/'B4-FinPerf RE'!K35),0,('B4-FinPerf RE'!K38/'B4-FinPerf RE'!K35))","v":0.36346838121660424},{"$f":"IF(ISERROR('B4-FinPerf RE'!L38/'B4-FinPerf RE'!L35),0,('B4-FinPerf RE'!L38/'B4-FinPerf RE'!L35))","v":0.3777969006494501},{"$f":"IF(ISERROR('B4-FinPerf RE'!M38/'B4-FinPerf RE'!M35),0,('B4-FinPerf RE'!M38/'B4-FinPerf RE'!M35))","v":0.376485216881494}]
["Remuneration","Total remuneration/(Total Revenue - capital revenue)",0.391019533078235,0.40731628995837682,0.41856234392986524,0.38897048121359878,0.38897048121359878,0.38897048121359878,0.39576124553339365,0.39438718855944827]
["Repairs & Maintenance","R&M/(Total Revenue excluding capital revenue)",0.18276119773465005,0.22663080588243134,0.18810439908475671,{"$f":"IF(ISERROR('B9-Asset'!C184/'B4-FinPerf RE'!C35),0,('B9-Asset'!C184/'B4-FinPerf RE'!C35))","v":0.17480564052520833},{"$f":"IF(ISERROR('B9-Asset'!D184/'B4-FinPerf RE'!D35),0,('B9-Asset'!D184/'B4-FinPerf RE'!D35))","v":0.16866264458543118},{"$f":"IF(ISERROR('B9-Asset'!K184/'B4-FinPerf RE'!K35),0,('B9-Asset'!K184/'B4-FinPerf RE'!K35))","v":0.16720025626519866},{"$f":"IF(ISERROR('B9-Asset'!L184/'B4-FinPerf RE'!L35),0,('B9-Asset'!L184/'B4-FinPerf RE'!L35))","v":0.17785750929914831},{"$f":"IF(ISERROR('B9-Asset'!M184/'B4-FinPerf RE'!M35),0,('B9-Asset'!M184/'B4-FinPerf RE'!M35))","v":0.17724003443278977}]
["Finance charges & Depreciation","FC&D/(Total Revenue - capital revenue)",9.7808526389728367E-2,0.10711337771474996,0.10832774119563363,{"$f":"IF(ISERROR(('B4-FinPerf RE'!C41+'B4-FinPerf RE'!C42)/'B4-FinPerf RE'!C35),0,(('B4-FinPerf RE'!C41+'B4-FinPerf RE'!C42)/'B4-FinPerf RE'!C35))","v":0.18621025323931537},{"$f":"IF(ISERROR(('B4-FinPerf RE'!D41+'B4-FinPerf RE'!D42)/'B4-FinPerf RE'!D35),0,(('B4-FinPerf RE'!D41+'B4-FinPerf RE'!D42)/'B4-FinPerf RE'!D35))","v":0.18003876510118255},{"$f":"IF(ISERROR(('B4-FinPerf RE'!K41+'B4-FinPerf RE'!K42)/'B4-FinPerf RE'!K35),0,(('B4-FinPerf RE'!K41+'B4-FinPerf RE'!K42)/'B4-FinPerf RE'!K35))","v":0.18162534329392277},{"$f":"IF(ISERROR(('B4-FinPerf RE'!L41+'B4-FinPerf RE'!L42)/'B4-FinPerf RE'!L35),0,(('B4-FinPerf RE'!L41+'B4-FinPerf RE'!L42)/'B4-FinPerf RE'!L35))","v":0.18946120086428517},{"$f":"IF(ISERROR(('B4-FinPerf RE'!M41+'B4-FinPerf RE'!M42)/'B4-FinPerf RE'!M35),0,(('B4-FinPerf RE'!M41+'B4-FinPerf RE'!M42)/'B4-FinPerf RE'!M35))","v":0.18880341503378562}]
["IDP regulation financial viability indicators"]
["i. Debt coverage","(Total Operating Revenue - Operating Grants)/Debt service payments due within financial year)",24.193256640708729,15.918725135796338,25.788930926874929,{"$f":"IF(ISERROR(('B4-FinPerf RE'!C35-'B4-FinPerf RE'!C33)/('B4-FinPerf RE'!L42-'B7-CFlow'!L37)),0,(('B4-FinPerf RE'!C35-'B4-FinPerf RE'!C33)/('B4-FinPerf RE'!L42-'B7-CFlow'!L37)))","v":5.9527656411566445},{"$f":"IF(ISERROR(('B4-FinPerf RE'!D35-'B4-FinPerf RE'!D33)/('B4-FinPerf RE'!L42-'B7-CFlow'!L37)),0,(('B4-FinPerf RE'!D35-'B4-FinPerf RE'!D33)/('B4-FinPerf RE'!L42-'B7-CFlow'!L37)))","v":6.1501923782899297},{"$f":"IF(ISERROR(('B4-FinPerf RE'!K35-'B4-FinPerf RE'!K33)/('B4-FinPerf RE'!L42-'B7-CFlow'!L37)),0,(('B4-FinPerf RE'!K35-'B4-FinPerf RE'!K33)/('B4-FinPerf RE'!L42-'B7-CFlow'!L37)))","v":6.0529343499250921},{"$f":"IF(ISERROR(('B4-FinPerf RE'!L35-'B4-FinPerf RE'!L33)/('B4-FinPerf RE'!M42-'B7-CFlow'!M37)),0,(('B4-FinPerf RE'!L35-'B4-FinPerf RE'!L33)/('B4-FinPerf RE'!M42-'B7-CFlow'!M37)))","v":6.1601021614996689},{"$f":"IF(ISERROR(('B4-FinPerf RE'!M35-'B4-FinPerf RE'!M33)/('B4-FinPerf RE'!M42-'B7-CFlow'!M37)),0,(('B4-FinPerf RE'!M35-'B4-FinPerf RE'!M33)/('B4-FinPerf RE'!M42-'B7-CFlow'!M37)))","v":6.3362505423494344}]
["ii. O/S Service Debtors to Revenue","Total outstanding service debtors/annual revenue received for services",0.11688665059833439,0.14351050944533278,0.1422319790072811,{"$f":"IF(ISERROR('B6-FinPos'!C9/'B4-FinPerf RE'!C35),0,('B6-FinPos'!C9/'B4-FinPerf RE'!C35))","v":5.1856117257655578E-2},{"$f":"IF(ISERROR('B6-FinPos'!D9/'B4-FinPerf RE'!D35),0,('B6-FinPos'!D9/'B4-FinPerf RE'!D35))","v":5.295697667335917E-2},{"$f":"IF(ISERROR('B6-FinPos'!K9/'B4-FinPerf RE'!K35),0,('B6-FinPos'!K9/'B4-FinPerf RE'!K35))","v":5.3804098894957422E-2},{"$f":"IF(ISERROR('B6-FinPos'!L9/'B4-FinPerf RE'!L35),0,('B6-FinPos'!L9/'B4-FinPerf RE'!L35))","v":5.6563771639432735E-2},{"$f":"IF(ISERROR('B6-FinPos'!M9/'B4-FinPerf RE'!M35),0,('B6-FinPos'!M9/'B4-FinPerf RE'!M35))","v":5.8387762263968912E-2}]
["iii. Cost coverage","(Available cash + Investments)/monthly fixed operational expenditure",1.6130401953857449,0.28386536190838529,0.18700016460872279,{"$f":"IF(ISERROR('B7-CFlow'!C42/'SB4'!F50),0,('B7-CFlow'!C42/'SB4'!F50))","v":0.12915396120159012},{"$f":"IF(ISERROR('B7-CFlow'!D42/'SB4'!G50),0,('B7-CFlow'!D42/'SB4'!G50))","v":2.5410530980842231E-2},{"$f":"IF(ISERROR('B7-CFlow'!K42/'SB4'!H50),0,('B7-CFlow'!K42/'SB4'!H50))","v":0.13275103674559391},{"$f":"IF(ISERROR('B7-CFlow'!L42/'SB4'!I50),0,('B7-CFlow'!L42/'SB4'!I50))","v":0.22190631531959817},{"$f":"IF(ISERROR('B7-CFlow'!M42/'SB4'!J50),0,('B7-CFlow'!M42/'SB4'!J50))","v":0.32381133056774286}]
[{"$f":"head27a","v":"References"}]
["1.  Consumer debtors > 12 months old are excluded from current assets"]
["2. Only include if services provided by the municipality"]
["Calculation data"]
["Debtors > 90 days"]
["Debtors > 12 months recovered"]
["Monthly fixed operational expenditure",null,53263632.130044125,57713515.033333331,62761607.65423625,{"$f":"(('B4-FinPerf RE'!C38+'B4-FinPerf RE'!C39+'B4-FinPerf RE'!C42+'B4-FinPerf RE'!C44+'B4-FinPerf RE'!C40+'B4-FinPerf RE'!C45+'SB1'!C86+'B7-CFlow'!C37)+(('B4-FinPerf RE'!C41+'B4-FinPerf RE'!C48)*F51))/12","v":61661753.01922521},{"$f":"(('B4-FinPerf RE'!D38+'B4-FinPerf RE'!D39+'B4-FinPerf RE'!D42+'B4-FinPerf RE'!D44+'B4-FinPerf RE'!D40+'B4-FinPerf RE'!D45+'SB1'!D86+'B7-CFlow'!D37)+(('B4-FinPerf RE'!D41+'B4-FinPerf RE'!D48)*G51))/12","v":61726249.678147025},{"$f":"(('B4-FinPerf RE'!K38+'B4-FinPerf RE'!K39+'B4-FinPerf RE'!K42+'B4-FinPerf RE'!K44+'B4-FinPerf RE'!K40+'B4-FinPerf RE'!K45+'SB1'!K86+'B7-CFlow'!K37)+(('B4-FinPerf RE'!K41+'B4-FinPerf RE'!K48)*H51))/12","v":60714147.278147034},{"$f":"(('B4-FinPerf RE'!L38+'B4-FinPerf RE'!L39+'B4-FinPerf RE'!L42+'B4-FinPerf RE'!L44+'B4-FinPerf RE'!L40+'B4-FinPerf RE'!L45+'SB1'!L86+'B7-CFlow'!L37)+(('B4-FinPerf RE'!L41+'B4-FinPerf RE'!L48)*I51))/12","v":63559577.380584367},{"$f":"(('B4-FinPerf RE'!M38+'B4-FinPerf RE'!M39+'B4-FinPerf RE'!M42+'B4-FinPerf RE'!M44+'B4-FinPerf RE'!M40+'B4-FinPerf RE'!M45+'SB1'!M86+'B7-CFlow'!M37)+(('B4-FinPerf RE'!M41+'B4-FinPerf RE'!M48)*J51))/12","v":65534368.130148143}]
["Fixed operational expenditure % assumption",null,null,null,null,0.4,{"$f":"$F$51","v":0.4},{"$f":"$F$51","v":0.4},{"$f":"$F$51","v":0.4},{"$f":"$F$51","v":0.4}]
["Own capex",null,24608054.729999974,9820425.5799999982,118248047.18999997,{"$f":"'B5-Capex'!C42-'B5-Capex'!C72-'B5-Capex'!C74","v":6592948.7696521729},{"$f":"'B5-Capex'!D42-'B5-Capex'!D72-'B5-Capex'!D74","v":86502193.459999993},{"$f":"'B5-Capex'!K42-'B5-Capex'!K72-'B5-Capex'!K74","v":86189712},{"$f":"'B5-Capex'!L42-'B5-Capex'!L72-'B5-Capex'!L74","v":8787913.3043478131},{"$f":"'B5-Capex'!M42-'B5-Capex'!M72-'B5-Capex'!M74","v":5457000.4782608747}]
["Borrowing",null,103715446,0,0,{"$f":"'B7-CFlow'!C33+'B7-CFlow'!C34","v":10000000},{"$f":"'B7-CFlow'!D33+'B7-CFlow'!D34","v":9.9999999999999995E-7},{"$f":"'B7-CFlow'!K33+'B7-CFlow'!K34","v":0},{"$f":"'B7-CFlow'!L33+'B7-CFlow'!L34","v":0},{"$f":"'B7-CFlow'!M33+'B7-CFlow'!M34","v":0}]

{"sheet":"SB5","index":23,"n_rows":311,"n_cols":22,"rows_kept":311,"cut":false,"hidden":false,"merged":[[246,0,247,0],[246,4,246,12],[154,0,155,0],[108,10,108,12],[154,7,154,9],[108,0,109,0],[200,7,200,9],[200,0,201,0],[154,10,154,12],[1,10,1,12],[62,10,62,12],[1,2,2,2],[200,10,200,12],[62,0,63,0],[1,1,2,1],[62,7,62,9],[1,5,2,5],[1,4,2,4],[108,7,108,9],[1,3,2,3],[1,0,2,0]]}
[{"$f":"muni&\" - \"&ADJB5&\" - \"&Date","v":"WC031 Theewaterskloof - Supporting Table SB5 Adjustments Budget - social, economic and demographic statistics and assumptions - 16 April 2026"}]
["Description of economic indicator","Ref.","Basis of calculation",{"$f":"Head44","v":"2001 Census"},"2007 Survey",{"$f":"Head45","v":"2011 Census"},{"$f":"Head1B","v":"2022/23"},{"$f":"Head1A","v":"2023/24"},{"$f":"Head1","v":"2024/25"},{"$f":"Head2","v":"Budget Year 2025/26"},{"$f":"Head3","v":"2025/26 Medium Term Revenue & Expenditure Framework"}]
[null,null,null,null,null,null,{"$f":"Head5A","v":"Outcome"},"Outcome","Outcome",{"$f":"Head6","v":"Original Budget"},"Outcome","Outcome","Outcome",null,null,null,null,null,null,null,null,"Outcome"]
["Demographics"]
["Population",null,"Stats SA",93276,86721,108790,124050,124050,124050,124050,124050,124050,124050,null,null,null,null,null,null,null,null,124050]
["Females aged 5 - 14",null,"Stats SA",8380,7996,8754,2510,2510,2510,2510,2510,2510,2510,null,null,null,null,null,null,null,null,2510]
["Males aged 5 - 14",null,"Stats SA",8580,6900,8958,2210,2210,2210,2210,2210,2210,2210,null,null,null,null,null,null,null,null,2210]
["Females aged 15 - 34",null,"Stats SA",18394,0,18394,6530,6530,6530,6530,6530,6530,6530,null,null,null,null,null,null,null,null,6530]
["Males aged 15 - 34",null,"Stats SA",20529,0,20529,8060,8060,8060,8060,8060,8060,8060,null,null,null,null,null,null,null,null,8060]
["Unemployment",null,"Stats SA",8030,0,6550,0.151,0.151,0.151,0.151,0.151,0.151,0.151,null,null,null,null,null,null,null,null,0.151]
[]
["Monthly Household income ( no. of households)","1, 12"]
["None",null,null,2659,927,3772,3407.9006299999414,3407.9006299999414,3407.9006299999414,3407.9006299999414,3407.9006299999414,3407.9006299999414,3407.9006299999414,null,null,null,null,null,null,null,null,3407.9006299999414]
["R1 - R1 600",null,"Stats SA",982,456,584,6635.464119999986,6635.464119999986,6635.464119999986,6635.464119999986,6635.464119999986,6635.464119999986,6635.464119999986,null,null,null,null,null,null,null,null,6635.464119999986]
["R1 601 - R3 200",null,"Stats SA",3942,1167,1088,6614.7676200001188,6614.7676200001188,6614.7676200001188,6614.7676200001188,6614.7676200001188,6614.7676200001188,6614.7676200001188,null,null,null,null,null,null,null,null,6614.7676200001188]
["R3 201 - R6 400",null,"Stats SA",5091,1728,5467,5513.7720700001073,5513.7720700001073,5513.7720700001073,5513.7720700001073,5513.7720700001073,5513.7720700001073,5513.7720700001073,null,null,null,null,null,null,null,null,5513.7720700001073]
["R6 401 - R12 800",null,"Stats SA",5626,2276,6859,3288.904929999936,3288.904929999936,3288.904929999936,3288.904929999936,3288.904929999936,3288.904929999936,3288.904929999936,null,null,null,null,null,null,null,null,3288.904929999936]
["R12 801 - R25 600",null,"Stats SA",3235,1357,5647,2028.1886600000125,2028.1886600000125,2028.1886600000125,2028.1886600000125,2028.1886600000125,2028.1886600000125,2028.1886600000125,null,null,null,null,null,null,null,null,2028.1886600000125]
["R25 601 - R51 200",null,"Stats SA",1818,663,3361,1046.9251600000034,1046.9251600000034,1046.9251600000034,1046.9251600000034,1046.9251600000034,1046.9251600000034,1046.9251600000034,null,null,null,null,null,null,null,null,1046.9251600000034]
["R52 201 - R102 400",null,"Stats SA",653,615,2068,251.64490999999941,251.64490999999941,251.64490999999941,251.64490999999941,251.64490999999941,251.64490999999941,251.64490999999941,null,null,null,null,null,null,null,null,251.64490999999941]
["R102 401 - R204 800",null,"Stats SA",165,88,1056,47.420890000000014,47.420890000000014,47.420890000000014,47.420890000000014,47.420890000000014,47.420890000000014,47.420890000000014,null,null,null,null,null,null,null,null,47.420890000000014]
["R204 801 - R409 600",null,"Stats SA",50,34,251,48.855659999999986,48.855659999999986,48.855659999999986,48.855659999999986,48.855659999999986,48.855659999999986,48.855659999999986,null,null,null,null,null,null,null,null,48.855659999999986]
["R409 601 - R819 200",null,"Stats SA",54,0,48,0,0,0,0,0]
[" > R819 200",null,"Stats SA",23,0,49,0,0,0,0,0]
[]
[]
["Poverty profiles (no. of households)"]
["< R2 060 per household per month",13,"Stats SA",45991,"-",81318,0,45991,0,0,0]
["Insert description",2,null,0,0,0,0,0,0,0,0]
[]
["Household/demographics (000)"]
["Number of people in municipal area",null,null,93279,86721,108790,124050,124050,124050,124050,124050,124050,124050,null,null,null,null,null,null,null,null,124050]
["Number of poor people in municipal area",null,"No data","-","-","-",0,0,0,0,0,0,0,null,null,null,null,null,null,null,null,0]
["Number of households in municipal area",null,"Stats SA",23044,23464,28884,35990,35990,35990,35990,35990,35990,35990,null,null,null,null,null,null,null,null,35990]
["Number of poor households in municipal area",null,"Stats SA",0.35299999999999998,0.35599999999999998,0.13700000000000001,0,0,0,0,0]
["Definition of poor household (R per month)",null,null,0,0,0,0,0,0,0,0]
[]
["Housing statistics",3]
["Formal",null,null,0,0,0,29266,29266,29266,29266,29266,29266,29266,null,null,null,null,null,null,null,null,29266]
["Informal",null,null,0,0,0,0,17891,0,22014,22014,22014,22014,null,null,null,null,null,null,null,null,22014]
["Total number of households",null,{"$f":"SUM(C39:C40)","v":0},0,0,0,29266,47157,29266,51280,51280]
["Dwellings provided by municipality",4,null,0,0,0,0,0,0,0,0]
["Dwellings provided by province/s",null,null,0,0,0,0,0,0,0,0]
["Dwellings provided by private sector",5,null,0,0,0,0,0,0,0,0]
["Total new housing dwellings",null,{"$f":"SUM(C42:C44)","v":0},0,0,0,0,0,0,0,0]
[]
["Economic",6]
["Inflation/inflation outlook (CPIX)",null,null,null,null,0,0,0,0,0,0,0,0,null,null,null,null,null,null,null,null,0]
["Interest rate - borrowing",null,null,null,null,0,0,0,0,0,0,0,0,null,null,null,null,null,null,null,null,0]
["Interest rate - investment",null,null,null,null,0,0,0,0,0,0,0,0,null,null,null,null,null,null,null,null,0]
["Remuneration increases",null,null,null,null,0,0,0,0,0,0,0,0,null,null,null,null,null,null,null,null,0]
["Consumption growth (electricity)",null,null,null,null,0,0,0,0,0,0,0,0,null,null,null,null,null,null,null,null,0]
["Consumption growth (water)",null,null,null,null,0,0,0,0,0,0,0,0,null,null,null,null,null,null,null,null,0]
[]
["Collection rates",7]
["Property tax/service charges",null,null,null,null,0,0,0,0,0,0,0,0,null,null,null,null,null,null,null,null,0]
["Rental of facilities & equipment",null,null,null,null,0,0,0,0,0,0,0,0,null,null,null,null,null,null,null,null,0]
["Interest - external investments",null,null,null,null,0,0,0,0,0,0,0,0,null,null,null,null,null,null,null,null,0]
["Interest - debtors",null,null,null,null,0,0,0,0,0,0,0,0,null,null,null,null,null,null,null,null,0]
["Revenue from agency services",null,null,null,null,0,0,0,0,0,0,0,0,null,null,null,null,null,null,null,null,0]
[]
["Detail on the provision of municipal services for B10"]
["Total municipal services",null,null,null,{"$f":"Head1B","v":"2022/23"},{"$f":"Head1A","v":"2023/24"},{"$f":"Head1","v":"2024/25"},{"$f":"Head2","v":"Budget Year 2025/26"},null,null,{"$f":"Head3","v":"2025/26 Medium Term Revenue & Expenditure Framework"}]
[null,"Ref.",null,null,{"$f":"Head5A","v":"Outcome"},{"$f":"Head5A","v":"Outcome"},{"$f":"Head5A","v":"Outcome"},{"$f":"Head6","v":"Original Budget"},{"$f":"Head7","v":"Adjusted Budget"},{"$f":"Head8","v":"Full Year Forecast"},{"$f":"Head9","v":"Budget Year 2025/26"},{"$f":"Head10","v":"Budget Year +1 2026/27"},{"$f":"Head11","v":"Budget Year +2 2027/28"},null,null,null,null,null,null,null,null,"Budget Year +2 2027/28"]
[null,null,"Household service targets (000)"]
[null,null,"Water:"]
[null,null,"Piped water inside dwelling",null,37492.525999999998,38617,40105,41308.01,41308.01,41308.01,41308.01,42547.950300000004,43824,null,null,null,null,null,null,null,null,43824]
[null,null,"Piped water inside yard (but not in dwelling)",null,13167.026,13562,13969,14388.07,14388.07,14388.07,14388.07,14819.712099999999,15264,null,null,null,null,null,null,null,null,15264]
[null,8,"Using public tap (at least min.service level)",null,7886.6859999999997,8124,8397,8680.77,8680.77,8680.77,8680.77,8941.1631000000016,9209,null,null,null,null,null,null,null,null,9209]
[null,10,"Other water supply (at least min.service level)",null,0,0,0,0,0,0,0,0,0,null,null,null,null,null,null,null,null,0]
[null,null,"Minimum Service Level and Above sub-total",null,{"$f":"SUM(E67:E70)","v":58546.237999999998},{"$f":"SUM(F67:F70)","v":60303},62471,64376.850000000006,64376.850000000006,64376.850000000006,64376.850000000006,66308.825500000006,68297,null,null,null,null,null,null,null,null,68297]
[null,9,"Using public tap (< min.service level)",null,206.02600000000001,206,212,220,220,220,220,220,220,null,null,null,null,null,null,null,null,220]
[null,10,"Other water supply (< min.service level)",null,0,0,0,0,0,0,0,0,0,null,null,null,null,null,null,null,null,0]
[null,null,"No water supply",null,2492.0259999999998,2567,2644,1900,1900,1900,1900,1750,1550,null,null,null,null,null,null,null,null,1550]
[null,null,"Below Minimum Service Level sub-total",null,{"$f":"SUM(E72:E74)","v":2698.0519999999997},{"$f":"SUM(F72:F74)","v":2773},2856,2120,2120,2120,2120,1970,1770,null,null,null,null,null,null,null,null,1770]
[null,null,"Total number of households",null,{"$f":"E71+E75","v":61244.289999999994},{"$f":"F71+F75","v":63076},65327,66496.850000000006,66496.850000000006,66496.850000000006,66496.850000000006,68278.825500000006,70067,null,null,null,null,null,null,null,null,70067]
[null,null,"Sanitation/sewerage:"]
[null,null,"Flush toilet (connected to sewerage)",null,18099.666000000001,18643,19202,19778,19778,19778,19778,20371,20982,null,null,null,null,null,null,null,null,20982]
[null,null,"Flush toilet (with septic tank)",null,14511.744000000001,14947,15423,15500,15500,15500,15500,15505,15515,null,null,null,null,null,null,null,null,15515]
[null,null,"Chemical toilet",null,84.132000000000005,84,87,70,70,70,70,70,70,null,null,null,null,null,null,null,null,70]
[null,null,"Pit toilet (ventilated)",null,143.63999999999999,144,148,130,130,130,130,130,130,null,null,null,null,null,null,null,null,130]
[null,null,"Other toilet provisions (> min.service level)",null,7559.5680000000002,7560,7787,7790,7790,7790,7790,7790,7790,null,null,null,null,null,null,null,null,7790]
[null,null,"Minimum Service Level and Above sub-total",null,{"$f":"SUM(E78:E82)","v":40398.750000000007},{"$f":"SUM(F78:F82)","v":41378},42647,43268,43268,43268,43268,43866,44487,null,null,null,null,null,null,null,null,44487]
[null,null,"Bucket toilet",null,65,65,60,30,30,30,30,30,30,null,null,null,null,null,null,null,null,30]
[null,null,"Other toilet provisions (< min.service level)",null,150,150,130,100,100,100,100,100,100,null,null,null,null,null,null,null,null,100]
[null,null,"No toilet provisions",null,1373,1373,950,500,500,500,500,500,500,null,null,null,null,null,null,null,null,500]
[null,null,"Below Minimum Service Level sub-total",null,{"$f":"SUM(E84:E86)","v":1588},{"$f":"SUM(F84:F86)","v":1588},1140,630,630,630,630,630,630,null,null,null,null,null,null,null,null,630]
[null,null,"Total number of households",null,{"$f":"E83+E87","v":41986.750000000007},{"$f":"F83+F87","v":42966},43787,43898,43898,43898,43898,44496,45117,null,null,null,null,null,null,null,null,45117]
[null,null,"Energy:"]
[null,null,"Electricity (at least min.service level)",null,40,50,50,39,39,39,39,35,31,null,null,null,null,null,null,null,null,31]
[null,null,"Electricity - prepaid (min.service level)",null,7800,7600,7600,8500,8500,8500,8500,8777,8905,null,null,null,null,null,null,null,null,8905]
[null,null,"Minimum Service Level and Above sub-total",null,{"$f":"SUM(E90:E91)","v":7840},{"$f":"SUM(F90:F91)","v":7650},7650,8539,8539,8539,8539,8812,8936,null,null,null,null,null,null,null,null,8936]
[null,null,"Electricity (< min.service level)",null,0,0,0,0,0,0,0,0,0,null,null,null,null,null,null,null,null,0]
[null,null,"Electricity - prepaid (< min. service level)",null,0,0,0,0,0,0,0,0,0,null,null,null,null,null,null,null,null,0]
[null,null,"Other energy sources",null,0,0,0,0,0,0,0,0,0,null,null,null,null,null,null,null,null,0]
[null,null,"Below Minimum Service Level sub-total",null,{"$f":"SUM(E93:E95)","v":0},{"$f":"SUM(F93:F95)","v":0},0,0,0,0,0,0,0,null,null,null,null,null,null,null,null,0]
[null,null,"Total number of households",null,{"$f":"E92+E96","v":7840},{"$f":"F92+F96","v":7650},7650,8539,8539,8539,8539,8812,8936,null,null,null,null,null,null,null,null,8936]
[null,null,"Refuse:"]
[null,null,"Removed at least once a week",null,42915,43926,43926,43926,43926,43926,43926,43926,43926,null,null,null,null,null,null,null,null,43926]
[null,null,"Minimum Service Level and Above sub-total",null,{"$f":"SUM(E99)","v":42915},{"$f":"SUM(F99)","v":43926},43926,43926,43926,43926,43926,43926,43926,null,null,null,null,null,null,null,null,43926]
[null,null,"Removed less frequently than once a week",null,0,0,0,0,0,0,0,0,0,null,null,null,null,null,null,null,null,0]
[null,null,"Using communal refuse dump",null,0,0,0,0,0,0,0,0,0,null,null,null,null,null,null,null,null,0]
[null,null,"Using own refuse dump",null,0,0,0,0,0,0,0,0,0,null,null,null,null,null,null,null,null,0]
[null,null,"Other rubbish disposal",null,0,0,0,0,0,0,0,0,0,null,null,null,null,null,null,null,null,0]
[null,null,"No rubbish disposal",null,0,0,0,0,0,0,0,0,0,null,null,null,null,null,null,null,null,0]
[null,null,"Below Minimum Service Level sub-total",null,{"$f":"SUM(E101:E105)","v":0},0,0,0,0,0,0,0,0,null,null,null,null,null,null,null,null,0]
[null,null,"Total number of households",null,{"$f":"E100+E106","v":42915},{"$f":"F100+F106","v":43926},43926,43926,43926,43926,43926,43926,43926,null,null,null,null,null,null,null,null,43926]
[]
["Municipal in-house services",null,null,null,{"$f":"Head1B","v":"2022/23"},{"$f":"Head1A","v":"2023/24"},{"$f":"Head1","v":"2024/25"},{"$f":"Head2","v":"Budget Year 2025/26"},null,null,{"$f":"Head3","v":"2025/26 Medium Term Revenue & Expenditure Framework"}]
[null,"Ref.",null,null,{"$f":"Head5A","v":"Outcome"},{"$f":"Head5A","v":"Outcome"},{"$f":"Head5A","v":"Outcome"},{"$f":"Head6","v":"Original Budget"},{"$f":"Head7","v":"Adjusted Budget"},{"$f":"Head8","v":"Full Year Forecast"},{"$f":"Head9","v":"Budget Year 2025/26"},{"$f":"Head10","v":"Budget Year +1 2026/27"},{"$f":"Head11","v":"Budget Year +2 2027/28"},null,null,null,null,null,null,null,null,"Budget Year +2 2027/28"]
[null,null,"Household service targets (000)"]
[null,null,"Water:"]
[null,null,"Piped water inside dwelling",null,32394.025999999998,33366,34367,35398.01,35398.01,35398.01,35398.01,36459.950300000004,37553,null,null,null,null,null,null,null,null,37553]
[null,null,"Piped water inside yard (but not in dwelling)",null,13167.026,13562,13969,14388.07,14388.07,14388.07,14388.07,14819.712099999999,15264,null,null,null,null,null,null,null,null,15264]
[null,8,"Using public tap (at least min.service level)",null,6937.0259999999998,7145,7359,7579.77,7579.77,7579.77,7579.77,7807.1631000000007,8041,null,null,null,null,null,null,null,null,8041]
[null,10,"Other water supply (at least min.service level)",null,0,0,0,0,0,0,0,0,0,null,null,null,null,null,null,null,null,0]
[null,null,"Minimum Service Level and Above sub-total",null,{"$f":"SUM(E113:E116)","v":52498.077999999994},{"$f":"SUM(F113:F116)","v":54073},55695,57365.850000000006,57365.850000000006,57365.850000000006,57365.850000000006,59086.825499999999,60858,null,null,null,null,null,null,null,null,60858]
[null,9,"Using public tap (< min.service level)",null,206.02600000000001,206,212,220,220,220,220,220,220,null,null,null,null,null,null,null,null,220]
[null,10,"Other water supply (< min.service level)",null,0,0,0,0,0,0,0,0,0,null,null,null,null,null,null,null,null,0]
[null,null,"No water supply",null,2492.0259999999998,2567,2644,1900,1900,1900,1900,1750,1550,null,null,null,null,null,null,null,null,1550]
[null,null,"Below Minimum Service Level sub-total",null,{"$f":"SUM(E118:E120)","v":2698.0519999999997},{"$f":"SUM(F118:F120)","v":2773},2856,2120,2120,2120,2120,1970,1770,null,null,null,null,null,null,null,null,1770]
[null,null,"Total number of households",null,{"$f":"E117+E121","v":55196.12999999999},{"$f":"F117+F121","v":56846},58551,59485.850000000006,59485.850000000006,59485.850000000006,59485.850000000006,61056.825499999999,62628,null,null,null,null,null,null,null,null,62628]
[null,null,"Sanitation/sewerage:"]
[null,null,"Flush toilet (connected to sewerage)",null,18099.666000000001,18643,19202,19778,19778,19778,19778,20371,20982,null,null,null,null,null,null,null,null,20982]
[null,null,"Flush toilet (with septic tank)",null,14511.744000000001,14947,15423,15500,15500,15500,15500,15505,15515,null,null,null,null,null,null,null,null,15515]
[null,null,"Chemical toilet",null,84.132000000000005,84,87,70,70,70,70,70,70,null,null,null,null,null,null,null,null,70]
[null,null,"Pit toilet (ventilated)",null,143.63999999999999,144,148,130,130,130,130,130,130,null,null,null,null,null,null,null,null,130]
[null,null,"Other toilet provisions (> min.service level)",null,7559.5680000000002,7560,7787,7790,7790,7790,7790,7790,7790,null,null,null,null,null,null,null,null,7790]
[null,null,"Minimum Service Level and Above sub-total",null,{"$f":"SUM(E124:E128)","v":40398.750000000007},{"$f":"SUM(F124:F128)","v":41378},42647,43268,43268,43268,43268,43866,44487,null,null,null,null,null,null,null,null,44487]
[null,null,"Bucket toilet",null,65,65,60,30,30,30,30,30,30,null,null,null,null,null,null,null,null,30]
[null,null,"Other toilet provisions (< min.service level)",null,150,150,130,100,100,100,100,100,100,null,null,null,null,null,null,null,null,100]
[null,null,"No toilet provisions",null,1373,1373,950,500,500,500,500,500,500,null,null,null,null,null,null,null,null,500]
[null,null,"Below Minimum Service Level sub-total",null,{"$f":"SUM(E130:E132)","v":1588},{"$f":"SUM(F130:F132)","v":1588},1140,630,630,630,630,630,630,null,null,null,null,null,null,null,null,630]
[null,null,"Total number of households",null,{"$f":"E129+E133","v":41986.750000000007},{"$f":"F129+F133","v":42966},43787,43898,43898,43898,43898,44496,45117,null,null,null,null,null,null,null,null,45117]
[null,null,"Energy:"]
[null,null,"Electricity (at least min.service level)",null,40,50,50,39,39,39,39,35,31,null,null,null,null,null,null,null,null,31]
[null,null,"Electricity - prepaid (min.service level)",null,7800,7600,7600,8500,8500,8500,8500,8777,8905,null,null,null,null,null,null,null,null,8905]
[null,null,"Minimum Service Level and Above sub-total",null,{"$f":"SUM(E136:E137)","v":7840},{"$f":"SUM(F136:F137)","v":7650},7650,8539,8539,8539,8539,8812,8936,null,null,null,null,null,null,null,null,8936]
[null,null,"Electricity (< min.service level)",null,0,0,0,0,0,0,0,0,0,null,null,null,null,null,null,null,null,0]
[null,null,"Electricity - prepaid (< min. service level)",null,0,0,0,0,0,0,0,0,0,null,null,null,null,null,null,null,null,0]
[null,null,"Other energy sources",null,0,0,0,0,0,0,0,0,0,null,null,null,null,null,null,null,null,0]
[null,null,"Below Minimum Service Level sub-total",null,{"$f":"SUM(E139:E141)","v":0},{"$f":"SUM(F139:F141)","v":0},0,0,0,0,0,0,0,null,null,null,null,null,null,null,null,0]
[null,null,"Total number of households",null,{"$f":"E138+E142","v":7840},{"$f":"F138+F142","v":7650},7650,8539,8539,8539,8539,8812,8936,null,null,null,null,null,null,null,null,8936]
[null,null,"Refuse:"]
[null,null,"Removed at least once a week",null,42915,43926,43926,43926,43926,43926,43926,43926,43926,null,null,null,null,null,null,null,null,43926]
[null,null,"Minimum Service Level and Above sub-total",null,{"$f":"SUM(E145)","v":42915},{"$f":"SUM(F145)","v":43926},43926,43926,43926,43926,43926,43926,43926,null,null,null,null,null,null,null,null,43926]
[null,null,"Removed less frequently than once a week",null,0,0,0,0,0,0,0,0,0,null,null,null,null,null,null,null,null,0]
[null,null,"Using communal refuse dump",null,0,0,0,0,0,0,0,0,0,null,null,null,null,null,null,null,null,0]
[null,null,"Using own refuse dump",null,0,0,0,0,0,0,0,0,0,null,null,null,null,null,null,null,null,0]
[null,null,"Other rubbish disposal",null,0,0,0,0,0,0,0,0,0,null,null,null,null,null,null,null,null,0]
[null,null,"No rubbish disposal",null,0,0,0,0,0,0,0,0,0,null,null,null,null,null,null,null,null,0]
[null,null,"Below Minimum Service Level sub-total",null,{"$f":"SUM(E147:E151)","v":0},0,0,0,0,0,0,0,0,null,null,null,null,null,null,null,null,0]
[null,null,"Total number of households",null,{"$f":"E146+E152","v":42915},{"$f":"F146+F152","v":43926},43926,43926,43926,43926,43926,43926,43926,null,null,null,null,null,null,null,null,43926]
[]
["Municipal entity services",null,null,null,{"$f":"Head1B","v":"2022/23"},{"$f":"Head1A","v":"2023/24"},{"$f":"Head1","v":"2024/25"},{"$f":"Head2","v":"Budget Year 2025/26"},null,null,{"$f":"Head3","v":"2025/26 Medium Term Revenue & Expenditure Framework"}]
[null,"Ref.",null,null,{"$f":"Head5A","v":"Outcome"},{"$f":"Head5A","v":"Outcome"},{"$f":"Head5A","v":"Outcome"},{"$f":"Head6","v":"Original Budget"},{"$f":"Head7","v":"Adjusted Budget"},{"$f":"Head8","v":"Full Year Forecast"},{"$f":"Head9","v":"Budget Year 2025/26"},{"$f":"Head10","v":"Budget Year +1 2026/27"},{"$f":"Head11","v":"Budget Year +2 2027/28"},null,null,null,null,null,null,null,null,"Budget Year +2 2027/28"]
[null,null,"Household service targets (000)"]
["Name of municipal entity",null,"Water:"]
[null,null,"Piped water inside dwelling",null,0,0,0,0,0,0,0,0,0,null,null,null,null,null,null,null,null,0]
[null,null,"Piped water inside yard (but not in dwelling)",null,0,0,0,0,0,0,0,0,0,null,null,null,null,null,null,null,null,0]
[null,8,"Using public tap (at least min.service level)",null,0,0,0,0,0,0,0,0,0,null,null,null,null,null,null,null,null,0]
[null,10,"Other water supply (at least min.service level)",null,0,0,0,0,0,0,0,0,0,null,null,null,null,null,null,null,null,0]
[null,null,"Minimum Service Level and Above sub-total",null,{"$f":"SUM(E159:E162)","v":0},{"$f":"SUM(F159:F162)","v":0},0,0,0,0,0,0,0,null,null,null,null,null,null,null,null,0]
[null,9,"Using public tap (< min.service level)",null,0,0,0,0,0,0,0,0,0,null,null,null,null,null,null,null,null,0]
[null,10,"Other water supply (< min.service level)",null,0,0,0,0,0,0,0,0,0,null,null,null,null,null,null,null,null,0]
[null,null,"No water supply",null,0,0,0,0,0,0,0,0,0,null,null,null,null,null,null,null,null,0]
[null,null,"Below Minimum Service Level sub-total",null,{"$f":"SUM(E164:E166)","v":0},{"$f":"SUM(F164:F166)","v":0},0,0,0,0,0,0,0,null,null,null,null,null,null,null,null,0]
[null,null,"Total number of households",null,{"$f":"E163+E167","v":0},{"$f":"F163+F167","v":0},0,0,0,0,0,0,0,null,null,null,null,null,null,null,null,0]
["Name of municipal entity",null,"Sanitation/sewerage:"]
[null,null,"Flush toilet (connected to sewerage)",null,0,0,0,0,0,0,0,0,0,null,null,null,null,null,null,null,null,0]
[null,null,"Flush toilet (with septic tank)",null,0,0,0,0,0,0,0,0,0,null,null,null,null,null,null,null,null,0]
[null,null,"Chemical toilet",null,0,0,0,0,0,0,0,0,0,null,null,null,null,null,null,null,null,0]
[null,null,"Pit toilet (ventilated)",null,0,0,0,0,0,0,0,0,0,null,null,null,null,null,null,null,null,0]
[null,null,"Other toilet provisions (> min.service level)",null,0,0,0,0,0,0,0,0,0,null,null,null,null,null,null,null,null,0]
[null,null,"Minimum Service Level and Above sub-total",null,{"$f":"SUM(E170:E174)","v":0},{"$f":"SUM(F170:F174)","v":0},0,0,0,0,0,0,0,null,null,null,null,null,null,null,null,0]
[null,null,"Bucket toilet",null,0,0,0,0,0,0,0,0,0,null,null,null,null,null,null,null,null,0]
[null,null,"Other toilet provisions (< min.service level)",null,0,0,0,0,0,0,0,0,0,null,null,null,null,null,null,null,null,0]
[null,null,"No toilet provisions",null,0,0,0,0,0,0,0,0,0,null,null,null,null,null,null,null,null,0]
[null,null,"Below Minimum Service Level sub-total",null,{"$f":"SUM(E176:E178)","v":0},{"$f":"SUM(F176:F178)","v":0},0,0,0,0,0,0,0,null,null,null,null,null,null,null,null,0]
[null,null,"Total number of households",null,{"$f":"E175+E179","v":0},{"$f":"F175+F179","v":0},0,0,0,0,0,0,0,null,null,null,null,null,null,null,null,0]
["Name of municipal entity",null,"Energy:"]
[null,null,"Electricity (at least min.service level)",null,0,0,0,0,0,0,0,0,0,null,null,null,null,null,null,null,null,0]
[null,null,"Electricity - prepaid (min.service level)",null,0,0,0,0,0,0,0,0,0,null,null,null,null,null,null,null,null,0]
[null,null,"Minimum Service Level and Above sub-total",null,{"$f":"SUM(E182:E183)","v":0},{"$f":"SUM(F182:F183)","v":0},0,0,0,0,0,0,0,null,null,null,null,null,null,null,null,0]
[null,null,"Electricity (< min.service level)",null,0,0,0,0,0,0,0,0,0,null,null,null,null,null,null,null,null,0]
[null,null,"Electricity - prepaid (< min. service level)",null,0,0,0,0,0,0,0,0,0,null,null,null,null,null,null,null,null,0]
[null,null,"Other energy sources",null,0,0,0,0,0,0,0,0,0,null,null,null,null,null,null,null,null,0]
[null,null,"Below Minimum Service Level sub-total",null,{"$f":"SUM(E185:E187)","v":0},{"$f":"SUM(F185:F187)","v":0},0,0,0,0,0,0,0,null,null,null,null,null,null,null,null,0]
[null,null,"Total number of households",null,{"$f":"E184+E188","v":0},{"$f":"F184+F188","v":0},0,0,0,0,0,0,0,null,null,null,null,null,null,null,null,0]
["Name of municipal entity",null,"Refuse:"]
[null,null,"Removed at least once a week",null,0,0,0,0,0,0,0,0,0,null,null,null,null,null,null,null,null,0]
[null,null,"Minimum Service Level and Above sub-total",null,{"$f":"SUM(E191)","v":0},{"$f":"SUM(F191)","v":0},0,0,0,0,0,0,0,null,null,null,null,null,null,null,null,0]
[null,null,"Removed less frequently than once a week",null,0,0,0,0,0,0,0,0,0,null,null,null,null,null,null,null,null,0]
[null,null,"Using communal refuse dump",null,0,0,0,0,0,0,0,0,0,null,null,null,null,null,null,null,null,0]
[null,null,"Using own refuse dump",null,0,0,0,0,0,0,0,0,0,null,null,null,null,null,null,null,null,0]
[null,null,"Other rubbish disposal",null,0,0,0,0,0,0,0,0,0,null,null,null,null,null,null,null,null,0]
[null,null,"No rubbish disposal",null,0,0,0,0,0,0,0,0,0,null,null,null,null,null,null,null,null,0]
[null,null,"Below Minimum Service Level sub-total",null,{"$f":"SUM(E193:E197)","v":0},0,0,0,0,0,0,0,0,null,null,null,null,null,null,null,null,0]
[null,null,"Total number of households",null,{"$f":"E192+E198","v":0},{"$f":"F192+F198","v":0},0,0,0,0,0,0,0,null,null,null,null,null,null,null,null,0]
[]
["Services provided by 'external mechanisms'",null,null,null,{"$f":"Head1B","v":"2022/23"},{"$f":"Head1A","v":"2023/24"},{"$f":"Head1","v":"2024/25"},{"$f":"Head2","v":"Budget Year 2025/26"},null,null,{"$f":"Head3","v":"2025/26 Medium Term Revenue & Expenditure Framework"}]
[null,"Ref.",null,null,{"$f":"Head5A","v":"Outcome"},{"$f":"Head5A","v":"Outcome"},{"$f":"Head5A","v":"Outcome"},{"$f":"Head6","v":"Original Budget"},{"$f":"Head7","v":"Adjusted Budget"},{"$f":"Head8","v":"Full Year Forecast"},{"$f":"Head9","v":"Budget Year 2025/26"},{"$f":"Head10","v":"Budget Year +1 2026/27"},{"$f":"Head11","v":"Budget Year +2 2027/28"},null,null,null,null,null,null,null,null,"Budget Year +2 2027/28"]
["Overberg Water Board (Caledon, Myddleton)",null,"Household service targets (000)"]
[null,null,"Water:"]
[null,null,"Piped water inside dwelling",null,5098.5,5251,5738,5910,5910,5910,5910,6088,6271,null,null,null,null,null,null,null,null,6271]
[null,null,"Piped water inside yard (but not in dwelling)",null,0,0,0,0,0,0,0,0,0,null,null,null,null,null,null,null,null,0]
[null,8,"Using public tap (at least min.service level)",null,949.66,979,1038,1101,1101,1101,1101,1134,1168,null,null,null,null,null,null,null,null,1168]
[null,10,"Other water supply (at least min.service level)",null,0,0,0,0,0,0,0,0,0,null,null,null,null,null,null,null,null,0]
[null,null,"Minimum Service Level and Above sub-total",null,{"$f":"SUM(E205:E208)","v":6048.16},{"$f":"SUM(F205:F208)","v":6230},6776,7011,7011,7011,7011,7222,7439,null,null,null,null,null,null,null,null,7439]
[null,9,"Using public tap (< min.service level)",null,0,0,0,0,0,0,0,0,0,null,null,null,null,null,null,null,null,0]
[null,10,"Other water supply (< min.service level)",null,0,0,0,0,0,0,0,0,0,null,null,null,null,null,null,null,null,0]
[null,null,"No water supply",null,0,0,0,0,0,0,0,0,0,null,null,null,null,null,null,null,null,0]
[null,null,"Below Minimum Service Level sub-total",null,{"$f":"SUM(E210:E212)","v":0},{"$f":"SUM(F210:F212)","v":0},0,0,0,0,0,0,0,null,null,null,null,null,null,null,null,0]
[null,null,"Total number of households",null,{"$f":"E209+E213","v":6048.16},{"$f":"F209+F213","v":6230},6776,7011,7011,7011,7011,7222,7439,null,null,null,null,null,null,null,null,7439]
["Names of service providers",null,"Sanitation/sewerage:"]
[null,null,"Flush toilet (connected to sewerage)",null,0,0,0,0,0,0,0,0,0,null,null,null,null,null,null,null,null,0]
[null,null,"Flush toilet (with septic tank)",null,0,0,0,0,0,0,0,0,0,null,null,null,null,null,null,null,null,0]
[null,null,"Chemical toilet",null,0,0,0,0,0,0,0,0,0,null,null,null,null,null,null,null,null,0]
[null,null,"Pit toilet (ventilated)",null,0,0,0,0,0,0,0,0,0,null,null,null,null,null,null,null,null,0]
[null,null,"Other toilet provisions (> min.service level)",null,0,0,0,0,0,0,0,0,0,null,null,null,null,null,null,null,null,0]
[null,null,"Minimum Service Level and Above sub-total",null,{"$f":"SUM(E216:E220)","v":0},{"$f":"SUM(F216:F220)","v":0},0,0,0,0,0,0,0,null,null,null,null,null,null,null,null,0]
[null,null,"Bucket toilet",null,0,0,0,0,0,0,0,0,0,null,null,null,null,null,null,null,null,0]
[null,null,"Other toilet provisions (< min.service level)",null,0,0,0,0,0,0,0,0,0,null,null,null,null,null,null,null,null,0]
[null,null,"No toilet provisions",null,0,0,0,0,0,0,0,0,0,null,null,null,null,null,null,null,null,0]
[null,null,"Below Minimum Service Level sub-total",null,{"$f":"SUM(E222:E224)","v":0},{"$f":"SUM(F222:F224)","v":0},0,0,0,0,0,0,0,null,null,null,null,null,null,null,null,0]
[null,null,"Total number of households",null,{"$f":"E221+E225","v":0},{"$f":"F221+F225","v":0},0,0,0,0,0,0,0,null,null,null,null,null,null,null,null,0]
["Names of service providers",null,"Energy:"]
[null,null,"Electricity (at least min.service level)",null,0,0,0,0,0,0,0,0,0,null,null,null,null,null,null,null,null,0]
[null,null,"Electricity - prepaid (min.service level)",null,0,0,0,0,0,0,0,0,0,null,null,null,null,null,null,null,null,0]
[null,null,"Minimum Service Level and Above sub-total",null,{"$f":"SUM(E228:E229)","v":0},{"$f":"SUM(F228:F229)","v":0},0,0,0,0,0,0,0,null,null,null,null,null,null,null,null,0]
[null,null,"Electricity (< min.service level)",null,0,0,0,0,0,0,0,0,0,null,null,null,null,null,null,null,null,0]
[null,null,"Electricity - prepaid (< min. service level)",null,0,0,0,0,0,0,0,0,0,null,null,null,null,null,null,null,null,0]
[null,null,"Other energy sources",null,0,0,0,0,0,0,0,0,0,null,null,null,null,null,null,null,null,0]
[null,null,"Below Minimum Service Level sub-total",null,{"$f":"SUM(E231:E233)","v":0},{"$f":"SUM(F231:F233)","v":0},0,0,0,0,0,0,0,null,null,null,null,null,null,null,null,0]
[null,null,"Total number of households",null,{"$f":"E230+E234","v":0},{"$f":"F230+F234","v":0},0,0,0,0,0,0,0,null,null,null,null,null,null,null,null,0]
["Names of service providers",null,"Refuse:"]
[null,null,"Removed at least once a week",null,0,0,0,0,0,0,0,0,0,null,null,null,null,null,null,null,null,0]
[null,null,"Minimum Service Level and Above sub-total",null,{"$f":"SUM(E237)","v":0},{"$f":"SUM(F237)","v":0},0,0,0,0,0,0,0,null,null,null,null,null,null,null,null,0]
[null,null,"Removed less frequently than once a week",null,0,0,0,0,0,0,0,0,0,null,null,null,null,null,null,null,null,0]
[null,null,"Using communal refuse dump",null,0,0,0,0,0,0,0,0,0,null,null,null,null,null,null,null,null,0]
[null,null,"Using own refuse dump",null,0,0,0,0,0,0,0,0,0,null,null,null,null,null,null,null,null,0]
[null,null,"Other rubbish disposal",null,0,0,0,0,0,0,0,0,0,null,null,null,null,null,null,null,null,0]
[null,null,"No rubbish disposal",null,0,0,0,0,0,0,0,0,0,null,null,null,null,null,null,null,null,0]
[null,null,"Below Minimum Service Level sub-total",null,{"$f":"SUM(E239:E243)","v":0},0,0,0,0,0,0,0,0,null,null,null,null,null,null,null,null,0]
[null,null,"Total number of households",null,{"$f":"E238+E244","v":0},{"$f":"F238+F244","v":0},0,0,0,0,0,0,0,null,null,null,null,null,null,null,null,0]
[]
["Detail of Free Basic Services (FBS) provided",null,null,null,{"$f":"Head2","v":"Budget Year 2025/26"},null,null,null,null,null,null,null,null,{"$f":"Head10","v":"Budget Year +1 2026/27"},{"$f":"Head11","v":"Budget Year +2 2027/28"}]
[null,null,null,null,{"$f":"Head6","v":"Original Budget"},{"$f":"Head54","v":"Prior Adjusted"},{"$f":"Head51","v":"Accum. Funds"},{"$f":"Head52","v":"Multi-year capital"},{"$f":"Head53","v":"Unfore. Unavoid."},{"$f":"Head55","v":"Nat. or Prov. Govt"},{"$f":"Head50","v":"Other Adjusts."},{"$f":"Head56","v":"Total Adjusts."},{"$f":"Head7","v":"Adjusted Budget"},{"$f":"Head7","v":"Adjusted Budget"},{"$f":"Head7","v":"Adjusted Budget"},null,null,null,null,null,null,"Adjusted Budget"]
["Electricity","Ref.","Location of households for each type of FBS"]
["List type of FBS service",null,"Formal settlements -  (50 kwh per indigent household per month R '000)",null,7672174,{"$f":"V250","v":6676000},0,0,0,0,{"$f":"SUMIFS(#REF!,#REF!,'SB5'!P250)-F250","v":{"$error":"#REF!"}},{"$f":"SUM(G250:K250)","v":{"$error":"#REF!"}},{"$f":"IF(F250=0,E250+L250,F250+L250)","v":{"$error":"#REF!"}},8017422,8217858,"Electricity Rebates",null,null,null,null,null,6676000]
[null,null,"Number of HH receiving this type of FBS",null,0,0,0,0,0,0,0,{"$f":"SUM(G251:K251)","v":0},0,0,0,null,null,null,null,null,null,0]
[null,null,"Informal settlements (R '000)",null,0,0,0,0,0,0,0,0,0,0,0,null,null,null,null,null,null,0]
[null,null,"Number of HH receiving this type of FBS",null,0,0,0,0,0,0,0,0,0,0,0,null,null,null,null,null,null,0]
[null,null,"Informal settlements targeted for upgrading (R '000)",null,0,0,0,0,0,0,0,0,0,0,0,null,null,null,null,null,null,0]
[null,null,"Number of HH receiving this type of FBS",null,0,0,0,0,0,0,0,0,0,0,0,null,null,null,null,null,null,0]
[null,null,"Living in informal backyard rental agreement (R '000)",null,0,0,0,0,0,0,0,0,0,0,0,null,null,null,null,null,null,0]
[null,null,"Number of HH receiving this type of FBS",null,0,0,0,0,0,0,0,0,0,0,0,null,null,null,null,null,null,0]
[null,null,"Other (R '000)",null,0,0,0,0,0,0,0,0,0,0,0,null,null,null,null,null,null,0]
[null,null,"Number of HH receiving this type of FBS",null,0,0,0,0,0,0,0,0,0,0,0,null,null,null,null,null,null,0]
[null,null,"Total cost of FBS - Electricity for informal settlements",null,{"$f":"E252+E254+E256+E258","v":0},{"$f":"F252+F254+F256+F258","v":0},0,0,0,0,0,{"$f":"L252+L254+L256+L258","v":0},0,{"$f":"N252+N254+N256+N258","v":0},0,null,null,null,null,null,null,0]
["Water","Ref.","Location of households for each type of FBS"]
["List type of FBS service",null,"Formal settlements -  (6 kilolitre per indigent household per month R '000)",null,16050960,{"$f":"V262","v":15483000},0,0,0,0,{"$f":"SUMIFS(#REF!,#REF!,'SB5'!P262)-F262","v":{"$error":"#REF!"}},{"$f":"SUM(G262:K262)","v":{"$error":"#REF!"}},{"$f":"IF(F262=0,E262+L262,F262+L262)","v":{"$error":"#REF!"}},16773253,17192584,"Water Rebates",null,null,null,null,null,15483000]
[null,null,"Number of HH receiving this type of FBS",null,0,0,0,0,0,0,0,0,0,0,0,null,null,null,null,null,null,0]
[null,null,"Informal settlements (R '000)",null,0,0,0,0,0,0,0,0,0,0,0,null,null,null,null,null,null,0]
[null,null,"Number of HH receiving this type of FBS",null,0,0,0,0,0,0,0,0,0,0,0,null,null,null,null,null,null,0]
[null,null,"Informal settlements targeted for upgrading (R '000)",null,0,0,0,0,0,0,0,{"$f":"SUM(G266:K266)","v":0},0,0,0,null,null,null,null,null,null,0]
[null,null,"Number of HH receiving this type of FBS",null,0,0,0,0,0,0,0,0,0,0,0,null,null,null,null,null,null,0]
[null,null,"Living in informal backyard rental agreement (R '000)",null,0,0,0,0,0,0,0,0,0,0,0,null,null,null,null,null,null,0]
[null,null,"Number of HH receiving this type of FBS",null,0,0,0,0,0,0,0,0,0,0,0,null,null,null,null,null,null,0]
[null,null,"Other (R '000)",null,0,0,0,0,0,0,0,0,0,0,0,null,null,null,null,null,null,0]
[null,null,"Number of HH receiving this type of FBS",null,0,0,0,0,0,0,0,0,0,0,0,null,null,null,null,null,null,0]
[null,null,"Total cost of FBS - Water  for informal settlements",null,{"$f":"E264+E266+E268+E270","v":0},{"$f":"F264+F266+F268+F270","v":0},0,0,0,0,0,0,0,{"$f":"N264+N266+N268+N270","v":0},{"$f":"O264+O266+O268+O270","v":0},null,null,null,null,null,null,0]
["Sanitation","Ref.","Location of households for each type of FBS"]
["List type of FBS service",null,"Formal settlements -  (free sanitation service to indigent households R '000)",null,15676500,{"$f":"V274","v":14805000},0,0,0,0,{"$f":"SUMIFS(#REF!,#REF!,'SB5'!P274)-F274","v":{"$error":"#REF!"}},{"$f":"SUM(G274:K274)","v":{"$error":"#REF!"}},{"$f":"IF(F274=0,E274+L274,F274+L274)","v":{"$error":"#REF!"}},16381943,16791492,"Sewerage Rebates",null,null,null,null,null,14805000]
[null,null,"Number of HH receiving this type of FBS",null,0,0,0,0,0,0,0,0,0,0,0,null,null,null,null,null,null,0]
[null,null,"Informal settlements (R '000)",null,0,0,0,0,0,0,0,0,0,0,0,null,null,null,null,null,null,0]
[null,null,"Number of HH receiving this type of FBS",null,0,0,0,0,0,0,0,0,0,0,0,null,null,null,null,null,null,0]
[null,null,"Informal settlements targeted for upgrading (R '000)",null,0,0,0,0,0,0,0,0,0,0,0,null,null,null,null,null,null,0]
[null,null,"Number of HH receiving this type of FBS",null,0,0,0,0,0,0,0,0,0,0,0,null,null,null,null,null,null,0]
[null,null,"Living in informal backyard rental agreement (R '000)",null,0,0,0,0,0,0,0,0,0,0,0,null,null,null,null,null,null,0]
[null,null,"Number of HH receiving this type of FBS",null,0,0,0,0,0,0,0,0,0,0,0,null,null,null,null,null,null,0]
[null,null,"Other (R '000)",null,0,0,0,0,0,0,0,0,0,0,0,null,null,null,null,null,null,0]
[null,null,"Number of HH receiving this type of FBS",null,0,0,0,0,0,0,0,0,0,0,0,null,null,null,null,null,null,0]
[null,null,"Total cost of FBS - Sanitation for informal settlements",null,{"$f":"E276+E278+E280+E282","v":0},{"$f":"F276+F278+F280+F282","v":0},0,0,0,0,0,0,0,{"$f":"N276+N278+N280+N282","v":0},{"$f":"O276+O278+O280+O282","v":0},null,null,null,null,null,null,0]
["Refuse Removal","Ref.","Location of households for each type of FBS"]
["List type of FBS service",null,"Formal settlements -  (removed once a week to indigent households R '000)",null,17591700,{"$f":"V286","v":16618000},0,0,0,0,{"$f":"SUMIFS(#REF!,#REF!,'SB5'!P286)-F286","v":{"$error":"#REF!"}},{"$f":"SUM(G286:K286)","v":{"$error":"#REF!"}},{"$f":"IF(F286=0,E286+L286,F286+L286)","v":{"$error":"#REF!"}},18383327,18842910,"Refuse Rebates",null,null,null,null,null,16618000]
[null,null,"Number of HH receiving this type of FBS",null,0,0,0,0,0,0,0,0,0,0,0,null,null,null,null,null,null,0]
[null,null,"Informal settlements (R '000)",null,0,0,0,0,0,0,0,0,0,0,0,null,null,null,null,null,null,0]
[null,null,"Number of HH receiving this type of FBS",null,0,0,0,0,0,0,0,0,0,0,0,null,null,null,null,null,null,0]
[null,null,"Informal settlements targeted for upgrading (R '000)",null,0,0,0,0,0,0,0,0,0,0,0,null,null,null,null,null,null,0]
[null,null,"Number of HH receiving this type of FBS",null,0,0,0,0,0,0,0,0,0,0,0,null,null,null,null,null,null,0]
[null,null,"Living in informal backyard rental agreement (R '000)",null,0,0,0,0,0,0,0,0,0,0,0,null,null,null,null,null,null,0]
[null,null,"Number of HH receiving this type of FBS",null,0,0,0,0,0,0,0,0,0,0,0,null,null,null,null,null,null,0]
[null,null,"Other (R '000)",null,0,0,0,0,0,0,0,0,0,0,0,null,null,null,null,null,null,0]
[null,null,"Number of HH receiving this type of FBS",null,0,0,0,0,0,0,0,0,0,0,0,null,null,null,null,null,null,0]
[null,null,"Total cost of FBS - Refuse Removal for informal settlements",null,{"$f":"E288+E290+E292+E294","v":0},{"$f":"F288+F290+F292+F294","v":0},0,0,0,0,0,0,0,{"$f":"N288+N290+N292+N294","v":0},{"$f":"O288+O290+O292+O294","v":0},null,null,null,null,null,null,0]
[]
[{"$f":"head27a","v":"References"}]
["1. Monthly household income threshold. Should include all sources of income."]
["2. Show the poverty analysis the municipality uses to determine its indigents policy and the provision of services"]
["3. Include total of all housing units within the municipality"]
["4. Number of subsidised dwellings to be constructed by the municipality under agency agreement with province"]
["5. Provide estimate based on building approval information. Include any non-subsidised dwellings constructed by the municipality"]
["6. Insert actual or estimated % increases assumed as a basis for budget calculations"]
["7. Insert actual or estimated % collection rate assumed as a basis for budget calculations for each revenue group"]
["8. Stand distance <= 200m from dwelling"]
["9. Stand distance > 200m from dwelling"]
["10. Borehole, spring, rain-water tank etc."]
["11. Must agree to total number of households in municipal area"]
["12. Household income categories assume an average 4 person household. Stats SA - Census 2011 Questionnaire"]
["13. Based on National poverty line of R515 per capita per month (2008 prices), assuming an average household size of 4 persons"]

{"sheet":"SB6","index":24,"n_rows":71,"n_cols":11,"rows_kept":71,"cut":false,"hidden":false,"merged":[[1,1,2,1],[1,2,2,2]]}
[{"$f":"muni &\" - \"&ADJB6&\" - \"&Date","v":"WC031 Theewaterskloof - Supporting Table SB6 Adjustments Budget - funding measurement - 16 April 2026"}]
[{"$f":"desc","v":"Description"},{"$f":"head27","v":"Ref"},"MFMA section",{"$f":"Head1B","v":"2022/23"},{"$f":"Head1A","v":"2023/24"},{"$f":"Head1","v":"2024/25"},{"$f":"Head3a","v":"Medium Term Revenue and Expenditure Framework"}]
["R thousands",null,null,{"$f":"Head5","v":"Audited Outcome"},{"$f":"Head5","v":"Audited Outcome"},{"$f":"Head5","v":"Audited Outcome"},{"$f":"Head6","v":"Original Budget"},{"$f":"Head54","v":"Prior Adjusted"},{"$f":"Head7","v":"Adjusted Budget"},{"$f":"Head10","v":"Budget Year +1 2026/27"},{"$f":"Head11","v":"Budget Year +2 2027/28"}]
["Funding measures"]
["Cash/cash equivalents at the year end - R'000",1,"18(1)b",85916379.578000814,16382867.831942201,11736430.962450255,{"$f":"'B7-CFlow'!C42","v":7963859.6570670456},{"$f":"'B7-CFlow'!D42","v":1568496.7797777578},{"$f":"'B7-CFlow'!K42","v":8059865.9962986968},{"$f":"'B7-CFlow'!L42","v":14104271.619796354},{"$f":"'B7-CFlow'!M42","v":21220770.942139551}]
["Cash + investments at the yr end less applications - R'000",2,"18(1)b",-95827536.590000063,-242049125.96000007,-294084777.41851193,{"$f":"'B8-ResRecon'!C21","v":-258194709.37674534},{"$f":"'B8-ResRecon'!D21","v":-230549322.35674351},{"$f":"'B8-ResRecon'!K21","v":-219636739.74260178},{"$f":"'B8-ResRecon'!L21","v":-238072942.9499895},{"$f":"'B8-ResRecon'!M21","v":-237097750.01095054}]
["Cash year end/monthly employee/supplier payments",3,"18(1)b",1.6130401953857449,0.28386536190838529,0.18700016460872279,{"$f":"'SB4'!F43","v":0.12915396120159012},{"$f":"'SB4'!G43","v":2.5410530980842231E-2},{"$f":"'SB4'!H43","v":0.13275103674559391},{"$f":"'SB4'!I43","v":0.22190631531959817},{"$f":"'SB4'!J43","v":0.32381133056774286}]
["Surplus/(Deficit) excluding depreciation offsets: R'000",4,"18(1)",-85803869.420000061,-108564158.73000003,110666826,{"$f":"'B4-FinPerf RE'!C56+'SB2'!C179","v":38733284},{"$f":"'B4-FinPerf RE'!D56+'SB2'!D179","v":72812390},{"$f":"'B4-FinPerf RE'!K56+'SB2'!K179","v":69270199},{"$f":"'B4-FinPerf RE'!L56+'SB2'!L179","v":106827729.99999994},{"$f":"'B4-FinPerf RE'!M56+'SB2'!M179","v":113623578.99999997}]
["Service charge rev % change - macro CPIX target exclusive",5,"18(1)a,(2)",-2.2684010091328977E-2,5.9022577570395474E-2,-0.06,{"$f":"IF(ISERROR(((G36/G37)-1)-G35),0,(((G36/G37)-1)-G35))","v":0},{"$f":"IF(ISERROR(((H36/H37)-1)-H35),0,(((H36/H37)-1)-H35))","v":0},{"$f":"IF(ISERROR(((I36/I37)-1)-I35),0,(((I36/I37)-1)-I35))","v":0},{"$f":"IF(ISERROR(((J36/J37)-1)-J35),0,(((J36/J37)-1)-J35))","v":9.8154340465264611E-3},{"$f":"IF(ISERROR(((K36/K37)-1)-K35),0,(((K36/K37)-1)-K35))","v":-3.5000003792277468E-2}]
["Cash receipts % of Ratepayer & Other revenue",6,"18(1)a,(2)",{"$f":"IF(ISERROR(D40/D41),0,(D40/D41))","v":0},{"$f":"IF(ISERROR(E40/E41),0,(E40/E41))","v":0},0,{"$f":"IF(ISERROR(G40/G41),0,(G40/G41))","v":0.84955122067679989},0.83882499873631056,0.83641507735420761,0.85982432606911641,0.86050915692400098]
["Debt impairment expense as a % of total billable revenue",7,"18(1)a,(2)",0.24285028895171926,0.19345597850919721,0.22507886328982032,{"$f":"IF(ISERROR('B4-FinPerf RE'!C40/(SUM('B4-FinPerf RE'!C8:C26))),0,('B4-FinPerf RE'!C40/(SUM('B4-FinPerf RE'!C8:C26))))","v":0.21547633032042765},{"$f":"IF(ISERROR('B4-FinPerf RE'!D40/(SUM('B4-FinPerf RE'!D8:D26))),0,('B4-FinPerf RE'!D40/(SUM('B4-FinPerf RE'!D8:D26))))","v":0.21176547326236736},{"$f":"IF(ISERROR('B4-FinPerf RE'!K40/(SUM('B4-FinPerf RE'!K8:K26))),0,('B4-FinPerf RE'!K40/(SUM('B4-FinPerf RE'!K8:K26))))","v":0.21488144700902898},{"$f":"IF(ISERROR('B4-FinPerf RE'!L40/(SUM('B4-FinPerf RE'!L8:L26))),0,('B4-FinPerf RE'!L40/(SUM('B4-FinPerf RE'!L8:L26))))","v":0.21585765727276221},{"$f":"IF(ISERROR('B4-FinPerf RE'!M40/(SUM('B4-FinPerf RE'!M8:M26))),0,('B4-FinPerf RE'!M40/(SUM('B4-FinPerf RE'!M8:M26))))","v":0.21606490387304839}]
["Capital payments % of capital expenditure",8,"18(1)c;19",0.98415374243567977,0.98569852020248194,0.43503290043777798,{"$f":"IF(ISERROR(-'B7-CFlow'!C28/'B5-Capex'!C65),0,(-'B7-CFlow'!C28/'B5-Capex'!C65))","v":0.99943712924933326},{"$f":"IF(ISERROR(-'B7-CFlow'!D28/'B5-Capex'!D65),0,(-'B7-CFlow'!D28/'B5-Capex'!D65))","v":0.29465246267087958},{"$f":"IF(ISERROR(-'B7-CFlow'!E28/'B5-Capex'!E65),0,(-'B7-CFlow'!E28/'B5-Capex'!E65))","v":0},{"$f":"IF(ISERROR(-'B7-CFlow'!F28/'B5-Capex'!F65),0,(-'B7-CFlow'!F28/'B5-Capex'!F65))","v":0},{"$f":"IF(ISERROR(-'B7-CFlow'!G28/'B5-Capex'!G65),0,(-'B7-CFlow'!G28/'B5-Capex'!G65))","v":0}]
["Borrowing receipts % of capital expenditure (excl. transfers)",9,"18(1)c",1.1606787562522134,0,0,{"$f":"IF(ISERROR('SB4'!F9),0,('SB4'!F9))","v":0.60266563459109823},{"$f":"IF(ISERROR('SB4'!G9),0,('SB4'!G9))","v":1.1560400493918295E-16},{"$f":"IF(ISERROR('SB4'!H9),0,('SB4'!H9))","v":0},{"$f":"IF(ISERROR('SB4'!I9),0,('SB4'!I9))","v":0},{"$f":"IF(ISERROR('SB4'!J9),0,('SB4'!J9))","v":0}]
["Grants % of Govt. legislated/gazetted allocations",10,"18(1)a",null,null,null,{"$f":"IF(ISERROR(('B4-FinPerf RE'!C28+'B4-FinPerf RE'!C54)/('SB6'!G38+'SB6'!G39)),0,(('B4-FinPerf RE'!C28+'B4-FinPerf RE'!C54)/('SB6'!G38+'SB6'!G39)))","v":1.000015715672061},{"$f":"IF(ISERROR(('B4-FinPerf RE'!D33+'B4-FinPerf RE'!D54)/('SB6'!H38+'SB6'!H39)),0,(('B4-FinPerf RE'!D33+'B4-FinPerf RE'!D54)/('SB6'!H38+'SB6'!H39)))","v":0.18127360199553808},{"$f":"IF(ISERROR(('B4-FinPerf RE'!K33+'B4-FinPerf RE'!K54)/('SB6'!I38+'SB6'!I39)),0,(('B4-FinPerf RE'!K33+'B4-FinPerf RE'!K54)/('SB6'!I38+'SB6'!I39)))","v":0.16521022599572061},{"$f":"IF(ISERROR(('B4-FinPerf RE'!L33+'B4-FinPerf RE'!L54)/('SB6'!J38+'SB6'!J39)),0,(('B4-FinPerf RE'!L33+'B4-FinPerf RE'!L54)/('SB6'!J38+'SB6'!J39)))","v":0.46568207200767869},{"$f":"IF(ISERROR(('B4-FinPerf RE'!M33+'B4-FinPerf RE'!M54)/('SB6'!K38+'SB6'!K39)),0,(('B4-FinPerf RE'!M33+'B4-FinPerf RE'!M54)/('SB6'!K38+'SB6'!K39)))","v":0.46050445956630554}]
["Current consumer debtors % change - incr(decr)",11,"18(1)a",0.56999999999999995,-0.50900000000000001,0,0.107,0,0,{"$f":"IF(ISERROR((SUM('B6-FinPos'!L9:L11)-SUM('B6-FinPos'!K9:K11))/SUM('B6-FinPos'!K9:K11)), 0, (SUM('B6-FinPos'!L9:L11)-SUM('B6-FinPos'!K9:K11))/SUM('B6-FinPos'!K9:K11))","v":2.1174712931039633E-2},{"$f":"IF(ISERROR((SUM('B6-FinPos'!M9:M13)-SUM('B6-FinPos'!L9:L13))/SUM('B6-FinPos'!L9:L13)), 0, (SUM('B6-FinPos'!M9:M13)-SUM('B6-FinPos'!L9:L13))/SUM('B6-FinPos'!L9:L13))","v":1.2238593473873943E-2}]
["Long term receivables % change - incr(decr)",12,"18(1)a",0,0,0,0,0,0,{"$f":"IF(ISERROR(('B6-FinPos'!L35-'B6-FinPos'!K35)/'B6-FinPos'!K35),0,(('B6-FinPos'!L35-'B6-FinPos'!K35)/'B6-FinPos'!K35))","v":5.8796026547959811E-2},{"$f":"IF(ISERROR(('B6-FinPos'!M35-'B6-FinPos'!L35)/'B6-FinPos'!L35),0,(('B6-FinPos'!M35-'B6-FinPos'!L35)/'B6-FinPos'!L35))","v":1.5963254174997187E-2}]
["R&M % of Property Plant & Equipment",13,"20(1)(vi)",0.1009343563743671,0.12172644476034633,9.5907062572255272E-2,{"$f":"IF(ISERROR('B9-Asset'!C184/'B9-Asset'!C180),0,('B9-Asset'!C184/'B9-Asset'!C180))","v":0.10274565822759754},{"$f":"IF(ISERROR('B9-Asset'!D184/'B9-Asset'!D180),0,('B9-Asset'!D184/'B9-Asset'!D180))","v":0.10559559995365575},{"$f":"IF(ISERROR('B9-Asset'!K184/'B9-Asset'!K180),0,('B9-Asset'!K184/'B9-Asset'!K180))","v":0.10334565392588735},{"$f":"IF(ISERROR('B9-Asset'!L184/'B9-Asset'!L180),0,('B9-Asset'!L184/'B9-Asset'!L180))","v":0.10272544072958055},{"$f":"IF(ISERROR('B9-Asset'!M184/'B9-Asset'!M180),0,('B9-Asset'!M184/'B9-Asset'!M180))","v":9.7761822112173269E-2}]
["Asset renewal % of capital budget",14,{"$f":"C17","v":"20(1)(vi)"},7.3014285786399666E-2,5.412785545086083E-2,0,{"$f":"IF(ISERROR('B9-Asset'!C42/'B9-Asset'!C146),0,('B9-Asset'!C42/'B9-Asset'!C146))","v":0},{"$f":"IF(ISERROR('B9-Asset'!D42/'B9-Asset'!D146),0,('B9-Asset'!D42/'B9-Asset'!D146))","v":0},{"$f":"IF(ISERROR('B9-Asset'!K42/'B9-Asset'!K146),0,('B9-Asset'!K42/'B9-Asset'!K146))","v":0},{"$f":"IF(ISERROR('B9-Asset'!L42/'B9-Asset'!L146),0,('B9-Asset'!L42/'B9-Asset'!L146))","v":0},{"$f":"IF(ISERROR('B9-Asset'!M42/'B9-Asset'!M146),0,('B9-Asset'!M42/'B9-Asset'!M146))","v":0}]
[{"$f":"head27a","v":"References"}]
["1. Positive cash balances indicative of minimum compliance - subject to 2"]
["2. Deduct applications (defined) from cash balances"]
["3. Indicative of sufficient liquidity to meet average monthly operating payments"]
["4. Indicative of funded operational requirements"]
["5. Indicative of adherence to macro-economic targets (prior to 2003/04 revenue not available for high capacity municipalities and later for other capacity classifications)"]
["6. Realistic average cash collection forecasts as % of annual billed revenue"]
["7. Realistic average increase in doubtful debt provision"]
["8. Indicative of planned capital expenditure level & cash payment timing"]
["9. Indicative of compliance with borrowing 'only' for the capital budget - should not exceed 100% unless refinancing"]
["10. Substantiation of National/Province allocations included in budget"]
["11. Indicative of realistic current arrear debtor collection targets (prior to 2003/04 revenue not available for high cap municipalities and later for other capacity classifications)"]
["12. Indicative of realistic long term arrear debtor collection targets (prior to 2003/04 revenue not available for high cap municipalities and later for other capacity classifications)"]
["13. Indicative of a credible allowance for repairs & maintenance of assets"]
["14. Indicative of a credible allowance for asset renewal (requires analysis of asset renewal projects as % of total capital projects - detailed capital plan)"]
[]
["Macro CPIX target",null,null,null,null,null,0.06,0.06,0.06,0.06,0.06]
["Total service charge revenue",null,null,null,null,null,{"$f":"IF(ISERROR(SUM('B4-FinPerf RE'!C8:C25)),0,(SUM('B4-FinPerf RE'!C8:C25)))","v":618229453},{"$f":"IF(ISERROR(SUM('B4-FinPerf RE'!D8:D25)),0,(SUM('B4-FinPerf RE'!D8:D25)))","v":613421355},{"$f":"IF(ISERROR(SUM('B4-FinPerf RE'!K8:K25)),0,(SUM('B4-FinPerf RE'!K8:K25)))","v":603889005},{"$f":"IF(ISERROR(SUM('B4-FinPerf RE'!L8:L25)),0,(SUM('B4-FinPerf RE'!L8:L25)))","v":646049778},{"$f":"IF(ISERROR(SUM('B4-FinPerf RE'!M8:M25)),0,(SUM('B4-FinPerf RE'!M8:M25)))","v":662201020}]
["Total service charge revenue - previous year",null,null,null,null,null,null,null,{"$f":"G37","v":0},{"$f":"I36","v":603889005},{"$f":"J36","v":646049778}]
["Provincial government gazetted allocations",null,null,null,null,null,{"$f":"'SB7'!C17+'SB7'!C45","v":68995000},{"$f":"'SB7'!D17+'SB7'!D45","v":34104382.000000097},{"$f":"'SB7'!I17+'SB7'!I45","v":31612439.000000101},{"$f":"'SB7'!J17+'SB7'!J45","v":118994000},{"$f":"'SB7'!K17+'SB7'!K45","v":121887000}]
["National government DoRA allocations",null,null,null,null,null,{"$f":"'SB7'!C9+'SB7'!C38","v":185528000},{"$f":"'SB7'!D9+'SB7'!D38","v":185528000},{"$f":"'SB7'!I9+'SB7'!I38","v":185528000},{"$f":"'SB7'!J9+'SB7'!J38","v":200356000},{"$f":"'SB7'!K9+'SB7'!K38","v":209315999.99999997}]
["Cash receipts from ratepayers",null,null,null,null,null,{"$f":"'B7-CFlow'!C8+'B7-CFlow'!C9+'B7-CFlow'!C10","v":528539160.11800003},{"$f":"'B7-CFlow'!D8+'B7-CFlow'!D9+'B7-CFlow'!D10","v":542764885.352},{"$f":"'B7-CFlow'!K8+'B7-CFlow'!K9+'B7-CFlow'!K10","v":533232535.352},{"$f":"'B7-CFlow'!L8+'B7-CFlow'!L9+'B7-CFlow'!L10","v":557976876.1730001},{"$f":"'B7-CFlow'!M8+'B7-CFlow'!M9+'B7-CFlow'!M10","v":571811670.97000003}]
["Ratepayer & Other revenue",null,null,null,null,null,{"$f":"SUM('B4-FinPerf RE'!C8:C13,'B4-FinPerf RE'!C21,'B4-FinPerf RE'!C22,'B4-FinPerf RE'!C24:C27,'B4-FinPerf RE'!C31)","v":622139251},{"$f":"SUM('B4-FinPerf RE'!D8:D13,'B4-FinPerf RE'!D21,'B4-FinPerf RE'!D22,'B4-FinPerf RE'!D24:D27,'B4-FinPerf RE'!D31)","v":647053779},{"$f":"SUM('B4-FinPerf RE'!K8:K13,'B4-FinPerf RE'!K21,'B4-FinPerf RE'!K22,'B4-FinPerf RE'!K24:K27,'B4-FinPerf RE'!K31)","v":637521429},{"$f":"SUM('B4-FinPerf RE'!L8:L13,'B4-FinPerf RE'!L21,'B4-FinPerf RE'!L22,'B4-FinPerf RE'!L24:L27,'B4-FinPerf RE'!L31)","v":648942882},{"$f":"SUM('B4-FinPerf RE'!M8:M13,'B4-FinPerf RE'!M21,'B4-FinPerf RE'!M22,'B4-FinPerf RE'!M24:M27,'B4-FinPerf RE'!M31)","v":664503877}]
["Change in debtors",null,null,null,null,null,null,null,null,{"$f":"(SUM('B6-FinPos'!L9:L13)+'B6-FinPos'!L18)-(SUM('B6-FinPos'!K9:K13)+'B6-FinPos'!K18)","v":1663205.677000016},{"$f":"(SUM('B6-FinPos'!M9:M13)+'B6-FinPos'!M18)-(SUM('B6-FinPos'!L9:L13)+'B6-FinPos'!L18)","v":1156835.4140000045}]
[]
[]
[]
[]
[]
[]
[]
[]
[]
[]
[]
[]
[]
[]
[]
[]
[]
[]
[]
[]
[]
[]
[]
[]
[]
[]
[]
[]
["Average annual collection rate (arrears inclusive)"]

{"sheet":"SB7","index":25,"n_rows":71,"n_cols":22,"rows_kept":71,"cut":false,"hidden":false,"merged":[[68,0,68,10],[65,0,65,10],[1,0,3,0],[1,1,3,1],[1,2,1,8]]}
[{"$f":"muni&\" - \"&ADJB7&\" - \"&Date","v":"WC031 Theewaterskloof - Supporting Table SB7 Adjustments Budget - transfers and grant receipts - 16 April 2026"}]
[{"$f":"desc","v":"Description"},{"$f":"head27","v":"Ref"},{"$f":"Head2","v":"Budget Year 2025/26"},null,null,null,null,null,null,{"$f":"Head10","v":"Budget Year +1 2026/27"},{"$f":"Head11","v":"Budget Year +2 2027/28"}]
[null,null,{"$f":"Head6","v":"Original Budget"},{"$f":"Head54","v":"Prior Adjusted"},{"$f":"Head52","v":"Multi-year capital"},{"$f":"Head55","v":"Nat. or Prov. Govt"},{"$f":"Head50","v":"Other Adjusts."},{"$f":"Head56","v":"Total Adjusts."},{"$f":"Head7","v":"Adjusted Budget"},{"$f":"Head7","v":"Adjusted Budget"},{"$f":"Head7","v":"Adjusted Budget"},null,null,null,null,null,null,null,null,null,null,"Adjusted Budget"]
[null,null,null,7,8,9,10,11,12,null,null,null,null,null,null,null,null,null,null,null,null,12]
["R thousands",null,"A","A1","B","C","D","E","F",null,null,null,null,null,null,null,null,null,null,null,null,"F"]
["RECEIPTS:","1, 2"]
[]
["Operating Transfers and Grants"]
["National Government:",null,157990609,157990609,0,0,0,0,157990609,165456000.30434781,172936000.47826087,null,null,null,null,null,null,null,null,null,null,157990609]
["Local Government Equitable Share",null,150030000,150030000,0,0,0,0,150030000,158221000,165379000,null,null,null,null,null,null,null,null,null,null,150030000]
["Expanded Public Works Programme [Schedule 5B]",3,1930000,1930000,0,0,0,0,1930000,0,0,null,null,null,null,null,null,null,null,null,null,1930000]
["Local Government Financial Management Grant  [Schedule 5B]",null,1900000,1900000,0,0,0,0,1900000,2000000,2100000,null,null,null,null,null,null,null,null,null,null,1900000]
["Municipal Infrastructure Grant  [Schedule 5B]",null,4130609,4130609,0,0,0,0,4130609,4452391.3043478196,4639043.4782608701,null,null,null,null,null,null,null,null,null,null,4130609]
["Integrated National Electrification Programme [Schedule 5B]",null,0,0,0,0,0,0,0,782609,817957,null,null,null,null,null,null,null,null,null,null,0]
[null,null,0,0,0,0,0,0,0,0,0,null,null,null,null,null,null,null,null,null,null,0]
[null,null,0,0,0,0,0,0,0,0,0,null,null,null,null,null,null,null,null,null,null,0]
["Provincial Government:",null,24295000,31154382,0,0,-2491943,-2491943,28662439,10974000,11687000,null,null,null,null,null,null,null,null,null,null,31154382]
["Community Development Workers",null,113000,113000,0,0,0,0,113000,113000,113000,null,null,null,null,null,null,null,null,null,null,113000]
["Human Settlement Development",null,12080000,138382,0,0,0,0,138382,0,0,null,null,null,null,null,null,null,null,null,null,138382]
["Human Settlement Development (in Kind)",null,0,11201000,0,0,0,0,11201000,0,0,null,null,null,null,null,null,null,null,null,null,11201000]
["Library Service",4,10307000,10307000,0,0,0,0,10307000,10566000,11261000,null,null,null,null,null,null,null,null,null,null,10307000]
["Maintenance of Main Roads",null,145000,6445000,0,0,-2491943,-2491943,3953057,145000,163000,null,null,null,null,null,null,null,null,null,null,6445000]
["Thusong Centre",null,0,0,0,0,0,0,0,150000,150000,null,null,null,null,null,null,null,null,null,null,0]
["Municipal Water  Resilience Grant",null,1650000,1650000,0,0,0,0,1650000,0,0,null,null,null,null,null,null,null,null,null,null,1650000]
["Financial Management Capability Grant",null,0,150000,0,0,0,0,150000,0,0,null,null,null,null,null,null,null,null,null,null,150000]
["Municipal Service Delivery and Capacity Building Grant",null,0,250000,0,0,0,0,250000,0,0,null,null,null,null,null,null,null,null,null,null,250000]
["WC Mun Interventions Grant",null,0,900000,0,0,0,0,900000,0,0,null,null,null,null,null,null,null,null,null,null,900000]
[null,5,0,0,0,0,0,0,0,0,0,null,null,null,null,null,null,null,null,null,null,0]
["District Municipality:",null,0,0,0,0,0,0,0,0,0,null,null,null,null,null,null,null,null,null,null,0]
["[insert description]",null,0,0,0,0,0,0,0,0,0,null,null,null,null,null,null,null,null,null,null,0]
[null,null,0,0,0,0,0,0,0,0,0,null,null,null,null,null,null,null,null,null,null,0]
["Other grant providers:",null,4000,321834,0,0,60000,60000,381834,4180,4285,null,null,null,null,null,null,null,null,null,null,321834]
["Public Contributions",null,4000,4000,0,0,60000,60000,64000,4180,4285,null,null,null,null,null,null,null,null,null,null,4000]
["SETA",null,0,317834,0,0,0,0,317834,0,0,null,null,null,null,null,null,null,null,null,null,317834]
["Total Operating Transfers and Grants",6,182289609,189466825,0,0,-2431943,-2431943,187034882,176434180.30434781,184627285.47826087,null,null,null,null,null,null,null,null,null,null,189466825]
[]
["Capital Transfers and Grants"]
[{"$f":"A9","v":"National Government:"},null,27537391,27537391,0,0,0,0,27537391,34899999.695652202,36379999.521739095,null,null,null,null,null,null,null,null,null,null,27537391]
["Municipal Infrastructure Grant [Schedule 5B]",null,27537391,27537391,0,0,0,0,27537391,29682608.695652202,30926956.521739099,null,null,null,null,null,null,null,null,null,null,27537391]
["Integrated National Electrification Programme (Municipal Grant)  [Schedule 5B]",null,0,0,0,0,0,0,0,5217391,5453043,null,null,null,null,null,null,null,null,null,null,0]
[null,null,0,0,0,0,0,0,0,0,0,null,null,null,null,null,null,null,null,null,null,0]
[null,null,0,0,0,0,0,0,0,0,0,null,"`",null,null,null,null,null,null,null,null,0]
[null,null,0,0,0,0,0,0,0,0,0,null,null,null,null,null,null,null,null,null,null,0]
["Other capital transfers [insert description]",null,0,0,0,0,0,0,0,0,0,null,null,null,null,null,null,null,null,null,null,0]
[{"$f":"A17","v":"Provincial Government:"},null,44700000,2950000.0000001001,0,0,0,0,2950000.0000001001,108020000,110200000,null,null,null,null,null,null,null,null,null,null,2950000]
["Human Settlements",null,44700000,9.9999999999999995E-8,0,0,0,0,9.9999999999999995E-8,108020000,110200000,null,null,null,null,null,null,null,null,null,null,0]
["Informal Settlements",null,0,0,0,0,0,0,0,0,0,null,null,null,null,null,null,null,null,null,null,0]
["Western Cape Municipal Financial Recovery Services Grant",null,0,2500000,0,0,0,0,2500000,0,0,null,null,null,null,null,null,null,null,null,null,2500000]
["Municipal Service Delivery and Capacity Building Grant",null,0,50000,0,0,0,0,50000,0,0,null,null,null,null,null,null,null,null,null,null,50000]
["WC Mun Interventions Grant",null,0,400000,0,0,0,0,400000,0,0,null,null,null,null,null,null,null,null,null,null,400000]
[{"$f":"A29","v":"District Municipality:"},null,0,0,0,0,0,0,0,0,0,null,null,null,null,null,null,null,null,null,null,0]
["[insert description]",null,0,0,0,0,0,0,0,0,0,null,null,null,null,null,null,null,null,null,null,0]
[null,null,0,0,0,0,0,0,0,0,0,null,null,null,null,null,null,null,null,null,null,0]
[{"$f":"A32","v":"Other grant providers:"},null,0,0,0,0,0,0,0,0,0,null,null,null,null,null,null,null,null,null,null,0]
["[insert description]",null,0,0,0,0,0,0,0,0,0,null,null,null,null,null,null,null,null,null,null,0]
[null,null,0,0,0,0,0,0,0,0,0,null,null,null,null,null,null,null,null,null,null,0]
["Total Capital Transfers and Grants",6,72237391,30487391.000000101,0,0,0,0,30487391.000000101,142919999.69565219,146579999.5217391,null,null,null,null,null,null,null,null,null,null,30487391]
["TOTAL RECEIPTS OF TRANSFERS & GRANTS",null,254527000,219954216.00000009,0,0,-2431943,-2431943,217522273.00000009,319354180,331207285,null,null,null,null,null,null,null,null,null,null,219954216]
[{"$f":"head27a","v":"References"}]
["1. Each grant is listed by name as gazetted together with the name of the transferring department or municipality, donor or other organisation"]
["2. Amounts actually RECEIVED; not revenue earned (the objective is to confirm grants allocated)"]
["3. Replacement of RSC levies"]
["4. Housing subsidies for housing where ownership transferred to organisations or persons outside the control of the municipality"]
["5. Motor vehicle licensing refunds to be included under 'agency' services (Not shown here as Receipts)"]
["6. Total Grant Receipts original budget must reconcile to budget supporting table A18"]
["7. Only complete if a previous adjusted budget has been approved in the same financial year. Reflect most recent adjusted budget."]
["8. Increases of funds approved under section 31 MFMA"]
["9. Adjustments to funding allocations from National or Provincial Government"]
["10. Adjusts. = 'Other' Adjustments proposed to be approved; including revenue under-collection (MFMA section 28(2)(a)); error correction (section 28(2)(f)); functional shifts and any adjustments made under delegation by the AO since the budget was approve"]
["11. E = B + C + D"]
["12. Adjusted Budget F = (A or A1) + E"]

{"sheet":"SB8","index":26,"n_rows":68,"n_cols":22,"rows_kept":68,"cut":false,"hidden":false,"merged":[[1,0,3,0],[1,1,3,1],[1,2,1,8]]}
[{"$f":"muni&\" - \"&ADJB8&\" - \"&Date","v":"WC031 Theewaterskloof - Supporting Table SB8 Adjustments Budget - expenditure on transfers and grant programme - 16 April 2026"}]
[{"$f":"desc","v":"Description"},{"$f":"head27","v":"Ref"},{"$f":"Head2","v":"Budget Year 2025/26"},null,null,null,null,null,null,{"$f":"Head10","v":"Budget Year +1 2026/27"},{"$f":"Head11","v":"Budget Year +2 2027/28"}]
[null,null,{"$f":"Head6","v":"Original Budget"},{"$f":"Head54","v":"Prior Adjusted"},{"$f":"Head52","v":"Multi-year capital"},{"$f":"Head55","v":"Nat. or Prov. Govt"},{"$f":"Head50","v":"Other Adjusts."},{"$f":"Head56","v":"Total Adjusts."},{"$f":"Head7","v":"Adjusted Budget"},{"$f":"Head7","v":"Adjusted Budget"},{"$f":"Head7","v":"Adjusted Budget"},null,null,null,null,null,null,null,null,null,null,"Adjusted Budget"]
[null,null,null,2,3,4,5,6,7,null,null,null,null,null,null,null,null,null,null,null,null,7]
["R thousands",null,"A","A1","B","C","D","E","F",null,null,null,null,null,null,null,null,null,null,null,null,"F"]
["EXPENDITURE ON TRANSFERS AND GRANT PROGRAM:",1]
[]
["Operating expenditure of Transfers and Grants"]
["National Government:",null,157990609,158680871,0,0,-191615,-191615,158489256,165456000.30434781,172936000.47826087,null,null,null,null,null,null,null,null,null,null,158680871]
["Local Government Equitable Share",null,150030000,150030000,0,0,0,0,150030000,158221000,165379000,null,null,null,null,null,null,null,null,null,null,150030000]
["Expanded Public Works Programme [Schedule 5B]",null,1930000,1930000,0,0,0,0,1930000,0,0,null,null,null,null,null,null,null,null,null,null,1930000]
["Local Government Financial Management Grant  [Schedule 5B]",null,1900000,1900000,0,0,0,0,1900000,2000000,2100000,null,null,null,null,null,null,null,null,null,null,1900000]
["Municipal Infrastructure Grant  [Schedule 5B]",null,4130609,4629256,0,0,0,0,4629256,4452391.3043478196,4639043.4782608701,null,null,null,null,null,null,null,null,null,null,4629256]
["Integrated National Electrification Programme [Schedule 5B]",null,0,191615,0,0,-191615,-191615,0,782609,817957,null,null,null,null,null,null,null,null,null,null,191615]
[{"$f":"'SB7'!A15","v":0},null,0,0,0,0,0,0,0,0,0,null,null,null,null,null,null,null,null,null,null,0]
[null,null,0,0,0,0,0,0,0,0,0,null,null,null,null,null,null,null,null,null,null,0]
["Provincial Government:",null,24295000,31422446.41,0,0,-4141943,-4141943,27280503.41,10974000,11687000,null,null,null,null,null,null,null,null,null,null,31422446.41]
["Community Development Workers",null,113000,184545,0,0,0,0,184545,113000,113000,null,null,null,null,null,null,null,null,null,null,184545]
["Human Settlement Development",null,12080000,138382.41000000015,0,0,0,0,138382.41000000015,0,0,null,{"$f":"I19-'SB7'!I19","v":0.41000000014901161},null,null,null,null,null,null,null,null,138382.41000000015]
["Human Settlement Development (in Kind)",null,0,11201000,0,0,0,0,11201000,0,0,null,null,null,null,null,null,null,null,null,null,11201000]
["Library Service",null,10307000,10307000,0,0,0,0,10307000,10566000,11261000,null,null,null,null,null,null,null,null,null,null,10307000]
["Maintenance of Main Roads",null,145000,6445000,0,0,-2491943,-2491943,3953057,145000,163000,null,null,null,null,null,null,null,null,null,null,6445000]
["Thusong Centre",null,0,0,0,0,0,0,0,150000,150000,null,null,null,null,null,null,null,null,null,null,0]
["Municipal Water  Resilience Grant",null,1650000,1655745,0,0,-1650000,-1650000,5745,0,0,null,null,null,null,null,null,null,null,null,null,1655745]
["Financial Management Capability Grant",null,0,340774,0,0,0,0,340774,0,0,null,null,null,null,null,null,null,null,null,null,340774]
["Municipal Service Delivery and Capacity Building Grant",null,0,250000,0,0,0,0,250000,0,0,null,null,null,null,null,null,null,null,null,null,250000]
["WC Mun Interventions Grant",null,0,900000,0,0,0,0,900000,0,0,null,null,null,null,null,null,null,null,null,null,900000]
["District Municipality:",null,0,0,0,0,0,0,0,0,0,null,null,null,null,null,null,null,null,null,null,0]
[{"$f":"'SB7'!A30","v":"[insert description]"},null,0,0,0,0,0,0,0,0,0,null,null,null,null,null,null,null,null,null,null,0]
[{"$f":"'SB7'!A31","v":0},null,0,0,0,0,0,0,0,0,0,null,null,null,null,null,null,null,null,null,null,0]
["Other grant providers:",null,4000,321834,0,0,60000,60000,381834,4180,4285,null,null,null,null,null,null,null,null,null,null,321834]
["Public Contributions",null,4000,4000,0,0,60000,60000,64000,4180,4285,null,null,null,null,null,null,null,null,null,null,4000]
["SETA",null,0,317834,0,0,0,0,317834,0,0,null,null,null,null,null,null,null,null,null,null,317834]
["Total operating expenditure of Transfers and Grants:",null,182289609,190425151.41,0,0,-4273558,-4273558,186151593.41,176434180.30434781,184627285.47826087,null,null,null,null,null,null,null,null,null,null,190425151.41]
[]
["Capital expenditure of Transfers and Grants"]
["National Government:",null,27537391,32139141,0,0,-3939732,-3939732,28199409,34899999.695652202,36379999.521739095,null,null,null,null,null,null,null,null,null,null,32139141]
["Municipal Infrastructure Grant [Schedule 5B]",null,27537391,30861704,0,0,-2662295,-2662295,28199409,29682608.695652202,30926956.521739099,null,null,-3939732,null,null,null,null,null,null,null,30861704]
["Integrated National Electrification Programme (Municipal Grant)  [Schedule 5B]",null,0,1277437,0,0,-1277437,-1277437,0,5217391,5453043,null,null,null,null,null,null,null,null,null,null,1277437]
[{"$f":"'SB7'!A41","v":0},null,0,0,0,0,0,0,0,0,0,null,null,null,null,null,null,null,null,null,null,0]
[{"$f":"'SB7'!A42","v":0},null,0,0,0,0,0,0,0,0,0,null,null,null,null,null,null,null,null,null,null,0]
[{"$f":"'SB7'!A43","v":0},null,0,0,0,0,0,0,0,0,0,null,null,null,null,null,null,null,null,null,null,0]
[null,null,0,0,0,0,0,0,0,0,0,null,null,null,null,null,null,null,null,null,null,0]
["Provincial Government:",null,44700000,3834412.0800000103,0,0,0,0,3834412.0800000103,108020000,110200000,null,null,null,null,null,null,null,null,null,null,3834412.08]
["Human Settlements",null,44700000,1E-8,0,0,0,0,1E-8,108020000,110200000,null,null,null,null,null,null,null,null,null,null,0]
["Informal Settlements",null,0,0,0,0,0,0,0,0,0,null,null,null,null,null,null,null,null,null,null,0]
["Regional socio economic projects (RSEP)",null,0,884412.08000000007,0,0,0,0,884412.08000000007,0,0,null,null,null,null,null,null,null,null,null,null,884412.08000000007]
["Western Cape Municipal Financial Recovery Services Grant",null,0,2500000,0,0,0,0,2500000,0,0,null,null,null,null,null,null,null,null,null,null,2500000]
["Municipal Service Delivery and Capacity Building Grant",null,0,50000,0,0,0,0,50000,0,0,null,null,null,null,null,null,null,null,null,null,50000]
[{"$f":"'SB7'!A50","v":"WC Mun Interventions Grant"},null,0,400000,0,0,0,0,400000,0,0,null,null,null,null,null,null,null,null,null,null,400000]
[null,null,0,0,0,0,0,0,0,0,0,null,null,null,null,null,null,null,null,null,null,0]
["District Municipality:",null,0,0,0,0,0,0,0,0,0,null,null,null,null,null,null,null,null,null,null,0]
[{"$f":"'SB7'!A52","v":"[insert description]"},null,0,0,0,0,0,0,0,0,0,null,null,null,null,null,null,null,null,null,null,0]
[{"$f":"'SB7'!A53","v":0},null,0,0,0,0,0,0,0,0,0,null,null,null,null,null,null,null,null,null,null,0]
["Other grant providers:",null,0,0,0,0,0,0,0,0,0,null,null,null,null,null,null,null,null,null,null,0]
[{"$f":"'SB7'!A55","v":"[insert description]"},null,0,0,0,0,0,0,0,0,0,null,null,null,null,null,null,null,null,null,null,0]
[{"$f":"'SB7'!A56","v":0},null,0,0,0,0,0,0,0,0,0,null,null,null,null,null,null,null,null,null,null,0]
["Total capital expenditure of Transfers and Grants",null,72237391,35973553.080000013,0,0,-3939732,-3939732,32033821.080000009,142919999.69565219,146579999.5217391,null,null,null,null,null,null,null,null,null,null,35973553.079999998]
[]
["Total capital expenditure of Transfers and Grants",null,254527000,226398704.49000001,0,0,-8213290,-8213290,218185414.49000001,319354180,331207285,null,null,null,null,null,null,null,null,null,null,226398704.49000001]
[{"$f":"head27a","v":"References"}]
["1. Transfers/Grant expenditure must be separately listed for each allocation received",null,null,null,null,null,null,null,{"$f":"I34-'B4-FinPerf RE'!K28","v":0.40999999642372131},{"$f":"J34-'B4-FinPerf RE'!L28","v":0},{"$f":"K34-'B4-FinPerf RE'!M28","v":-1},null,null,null,null,null,null,null,null,null,null,0.40999999642372131]
["2. Only complete if a previous adjusted budget has been approved in the same financial year. Reflect most recent adjusted budget.",null,null,null,null,null,null,null,{"$f":"I58-'B4-FinPerf RE'!K54","v":8.0000009387731552E-2},{"$f":"J58-'B4-FinPerf RE'!L54","v":0},{"$f":"K58-'B4-FinPerf RE'!M54","v":0},null,null,null,null,null,null,null,null,null,null,7.9999998211860657E-2]
["3. Increases of funds approved under section 31 MFMA",null,null,null,null,null,null,null,{"$f":"I58-'B5-Capex'!K72","v":8.0000009387731552E-2},{"$f":"J58-'B5-Capex'!L72","v":0},{"$f":"K58-'B5-Capex'!M72","v":0},null,null,null,null,null,null,null,null,null,null,0.32347825914621353]
["4. Adjustments to funding allocations from National or Provincial Government",null,null,null,null,null,null,null,{"$f":"I37-'B5-Capex'!K68","v":0},{"$f":"J37-'B5-Capex'!L68","v":0},{"$f":"K37-'B5-Capex'!M68","v":0},null,null,null,null,null,null,null,null,null,null,0.24347826093435287]
["5. Adjusts. = 'Other' Adjustments proposed to be approved; error correction (section 28(2)(f)); functional shifts and any adjustments made under delegation by the AO since the budget was approved or since a previously 'approved' Adjustments Budget in the ",null,null,null,null,null,null,null,{"$f":"I44-'B5-Capex'!K69","v":8.0000010319054127E-2},{"$f":"J44-'B5-Capex'!L69","v":0},{"$f":"K44-'B5-Capex'!M69","v":0},null,null,null,null,null,null,null,null,null,null,8.0000000074505806E-2]
["6. E = B + C + D"]
["7. Adjusted Budget F = (A or A1) + E"]

{"sheet":"SB9","index":27,"n_rows":66,"n_cols":22,"rows_kept":66,"cut":false,"hidden":false,"merged":[[60,0,60,10],[63,0,63,10],[1,2,1,8],[1,0,3,0],[1,1,3,1]]}
[{"$f":"muni&\" - \"&ADJB9&\" - \"&Date","v":"WC031 Theewaterskloof - Supporting Table SB9 Adjustments Budget - reconciliation of transfers, grant receipts, and unspent funds - 16 April 2026"}]
[{"$f":"desc","v":"Description"},{"$f":"head27","v":"Ref"},{"$f":"Head2","v":"Budget Year 2025/26"},null,null,null,null,null,null,{"$f":"Head10","v":"Budget Year +1 2026/27"},{"$f":"Head11","v":"Budget Year +2 2027/28"}]
[null,null,{"$f":"Head6","v":"Original Budget"},{"$f":"Head54","v":"Prior Adjusted"},{"$f":"Head52","v":"Multi-year capital"},{"$f":"Head55","v":"Nat. or Prov. Govt"},{"$f":"Head50","v":"Other Adjusts."},{"$f":"Head56","v":"Total Adjusts."},{"$f":"Head7","v":"Adjusted Budget"},{"$f":"Head7","v":"Adjusted Budget"},{"$f":"Head7","v":"Adjusted Budget"},null,null,null,null,null,null,null,null,null,null,"Adjusted Budget"]
[null,null,null,2,3,4,5,6,7,null,null,null,null,null,null,null,null,null,null,null,null,7]
["R thousands",null,"A","A1","B","C","D","E","F",null,null,null,null,null,null,null,null,null,null,null,null,"F"]
["Operating transfers and grants:"]
["National Government:"]
["Balance unspent at beginning of the year",null,15793026,18747695,0,0,0,0,18747695,2756048,2756048,null,{"$f":"'SB7'!I9-'SB8'!I9","v":-498647},{"$f":"'SB7'!J9-'SB8'!J9","v":0},{"$f":"'SB7'!K9-'SB8'!K9","v":0},null,null,{"$f":"I8+I14+I19+I24+I33+I38","v":25698857},null,null,null,18747695]
["Current year receipts",null,157990609,157990609,0,0,0,0,157990609,165456000.30434781,172936000.47826087,null,null,null,null,null,null,null,null,null,null,157990609]
["Repayment of grants",null,-15793026,-15493000,0,0,0,0,-15493000,0,0,null,null,null,null,null,null,null,null,null,null,-15493000]
["Conditions met - transferred to revenue",null,157990609,158680871,0,0,-191615,-191615,158489256,165456000.30434781,172936000.47826087,null,{"$f":"I11-'SB8'!I9","v":0},{"$f":"J11-'SB8'!J9","v":0},{"$f":"K11-'SB8'!K9","v":0},null,null,null,null,null,null,158680871]
["Conditions still to be met - transferred to liabilities",null,0,2564433,0,0,191615,191615,2756048,2756048,2756048,null,null,null,null,null,null,null,null,null,null,2564433]
["Provincial Government:"]
["Balance unspent at beginning of the year",null,183914,938334.92,0,0,0,0,938334.92,2320270.5099999998,2320270.5099999998,null,{"$f":"'SB7'!I17-'SB8'!I17","v":1381935.5899999999},{"$f":"'SB7'!J17-'SB8'!J17","v":0},{"$f":"'SB7'!K17-'SB8'!K17","v":0},null,null,null,null,null,null,938334.92]
[{"$f":"A9","v":"Current year receipts"},null,24295000,31154382,0,0,-2491943,-2491943,28662439,10974000,11687000,null,null,null,null,null,null,null,null,null,null,31154382]
[{"$f":"A11","v":"Conditions met - transferred to revenue"},null,24295000,31422446.41,0,0,-4141943,-4141943,27280503.410000004,10974000,11687000,null,{"$f":"I16-'SB8'!I17","v":0},{"$f":"J16-'SB8'!J17","v":0},{"$f":"K16-'SB8'!K17","v":0},null,null,null,{"$f":"I14-I17","v":-1381935.5899999999},null,null,31422446.41]
[{"$f":"A12","v":"Conditions still to be met - transferred to liabilities"},null,183914,670270.50999999989,0,0,1650000,1650000,2320270.5099999998,2320270.5099999998,2320270.5099999998,null,null,null,null,null,null,null,null,null,null,670270.50999999989]
["District Municipality:"]
[{"$f":"A14","v":"Balance unspent at beginning of the year"},null,117203,300188,0,0,0,0,300188,300188,300188,null,{"$f":"'SB7'!I29-'SB8'!I28","v":0},{"$f":"'SB7'!J29-'SB8'!J28","v":0},{"$f":"'SB7'!K29-'SB8'!K28","v":0},null,null,null,null,null,null,300188]
[{"$f":"A15","v":"Current year receipts"},null,0,0,0,0,0,0,0,0,0,null,null,null,null,null,null,null,null,null,null,0]
[{"$f":"A16","v":"Conditions met - transferred to revenue"},null,0,0,0,0,0,0,0,0,0,null,{"$f":"I21-'SB8'!I28","v":0},{"$f":"J21-'SB8'!J28","v":0},{"$f":"K21-'SB8'!K28","v":0},null,null,null,null,null,null,0]
[{"$f":"A17","v":"Conditions still to be met - transferred to liabilities"},null,117203,300188,0,0,0,0,300188,300188,300188,null,null,null,null,null,null,null,null,null,null,300188]
["Other grant providers:"]
[{"$f":"A14","v":"Balance unspent at beginning of the year"},null,226477,226477,0,0,0,0,226477,226477,226477,null,{"$f":"'SB7'!I32-'SB8'!I31","v":0},{"$f":"'SB7'!J32-'SB8'!J31","v":0},{"$f":"'SB7'!K32-'SB8'!K31","v":0},null,null,null,null,null,null,226477]
[{"$f":"A15","v":"Current year receipts"},null,4000,321834,0,0,60000,60000,381834,4180,4285,null,null,null,null,null,null,null,null,null,null,321834]
[{"$f":"A16","v":"Conditions met - transferred to revenue"},null,4000,321834,0,0,60000,60000,381834,4180,4285,null,{"$f":"I26-'SB8'!I31","v":0},{"$f":"J26-'SB8'!J31","v":0},{"$f":"K26-'SB8'!K31","v":0},null,null,null,null,null,null,321834]
[{"$f":"A17","v":"Conditions still to be met - transferred to liabilities"},null,226477,226477,0,0,0,0,226477,226477,226477,null,null,null,null,null,null,null,null,null,null,226477]
["Total operating transfers and grants revenue",null,182289609,190425151.41,0,0,-4273558,-4273558,186151593.41,176434180.30434781,184627285.47826087,null,null,null,null,null,null,null,null,null,null,190425151.41]
["Total operating transfers and grants - CTBM",2,527594,3761368.51,0,0,1841615,1841615,5602983.5099999998,5602983.5099999998,5602983.5099999998,null,null,null,null,null,null,null,null,null,null,3761368.51]
[]
["Capital transfers and grants:"]
[{"$f":"A7","v":"National Government:"}]
["Balance unspent at beginning of the year",null,0,4601750,0,0,0,0,4601750,3939732,3939732,null,{"$f":"'SB7'!I38-'SB8'!I37","v":-662018},{"$f":"'SB7'!J38-'SB8'!J37","v":0},{"$f":"'SB7'!K38-'SB8'!K37","v":0},null,null,null,null,null,null,4601750]
["Current year receipts",null,27537391,27537391,0,0,0,0,27537391,34899999.695652202,36379999.521739095,null,null,null,null,null,null,null,null,null,null,27537391]
["Conditions met - transferred to revenue",null,27537391,32139141,0,0,-3939732,-3939732,28199409,34899999.695652202,36379999.521739095,null,{"$f":"I35-'SB8'!I37","v":0},{"$f":"J35-'SB8'!J37","v":0},{"$f":"K35-'SB8'!K37","v":0},null,null,null,null,null,null,32139141]
["Conditions still to be met - transferred to liabilities",null,0,0,0,0,3939732,3939732,3939732,3939732,3939732,null,null,null,null,null,null,null,null,null,null,0]
["Provincial Government:"]
["Balance unspent at beginning of the year",null,0,884412.08,0,0,0,0,884412.08,0,0,null,{"$f":"'SB7'!I45-'SB8'!I44","v":-884412.0799999102},{"$f":"'SB7'!J45-'SB8'!J44","v":0},{"$f":"'SB7'!K45-'SB8'!K44","v":0},null,null,null,null,null,null,884412.08]
[{"$f":"A34","v":"Current year receipts"},null,44700000,2950000,0,0,1.0011717677116394E-7,1.0011717677116394E-7,2950000.0000001001,108020000,110200000,null,null,null,null,null,null,null,null,null,null,2950000]
[{"$f":"A35","v":"Conditions met - transferred to revenue"},null,44700000,3834412.08,0,0,1.0011717677116394E-7,1.0011717677116394E-7,3834412.0800001002,108020000,110200000,null,{"$f":"I40-'SB8'!I44","v":8.9872628450393677E-8},{"$f":"J40-'SB8'!J44","v":0},{"$f":"K40-'SB8'!K44","v":0},null,null,null,null,null,null,3834412.08]
[{"$f":"A36","v":"Conditions still to be met - transferred to liabilities"},null,0,0,0,0,0,0,0,0,0,null,null,null,null,null,null,null,null,null,null,0]
["District Municipality:"]
[{"$f":"A38","v":"Balance unspent at beginning of the year"},null,0,0,0,0,0,0,0,0,0,null,null,null,null,null,null,null,null,null,null,0]
[{"$f":"A39","v":"Current year receipts"},null,0,0,0,0,0,0,0,0,0,null,null,null,null,null,null,null,null,null,null,0]
[{"$f":"A40","v":"Conditions met - transferred to revenue"},null,0,0,0,0,0,0,0,0,0,null,null,null,null,null,null,null,null,null,null,0]
[{"$f":"A41","v":"Conditions still to be met - transferred to liabilities"},null,0,0,0,0,0,0,0,0,0,null,null,null,null,null,null,null,null,null,null,0]
["Other grant providers:"]
[{"$f":"A38","v":"Balance unspent at beginning of the year"},null,0,0,0,0,0,0,0,0,0,null,null,null,null,null,null,null,null,null,null,0]
[{"$f":"A39","v":"Current year receipts"},null,0,0,0,0,0,0,0,0,0,null,null,null,null,null,null,null,null,null,null,0]
[{"$f":"A40","v":"Conditions met - transferred to revenue"},null,0,0,0,0,0,0,0,0,0,null,null,null,null,null,null,null,null,null,null,0]
[{"$f":"A41","v":"Conditions still to be met - transferred to liabilities"},null,0,0,0,0,0,0,0,0,0,null,null,null,null,null,null,null,null,null,null,0]
["Total capital transfers and grants revenue",null,72237391,35973553.079999998,0,0,-3939731.9999998999,-3939731.9999998999,32033821.080000099,142919999.69565219,146579999.5217391,null,null,null,null,null,null,null,null,null,null,35973553.079999998]
["Total capital transfers and grants - CTBM",null,0,0,0,0,3939732,3939732,3939732,3939732,3939732,null,null,{"$f":"H10","v":0},null,null,null,null,null,null,null,0]
[]
["TOTAL TRANSFERS AND GRANTS REVENUE",null,254527000,226398704.49000001,0,0,-8213289.9999998994,-8213289.9999998994,218185414.4900001,319354180,331207285,null,null,null,null,null,null,null,null,null,null,226398704.49000001]
["TOTAL TRANSFERS AND GRANTS -  CTBM",null,527594,3761368.51,0,0,5781347,5781347,9542715.5099999998,9542715.5099999998,9542715.5099999998,null,null,null,null,null,null,null,null,null,null,3761368.51]
[]
[{"$f":"head27a","v":"References"},null,null,null,null,null,null,null,{"$f":"I52-'B4-FinPerf RE'!K54","v":8.0000098794698715E-2},{"$f":"J52-'B4-FinPerf RE'!L54","v":0},{"$f":"K52-'B4-FinPerf RE'!M54","v":0},null,null,null,null,null,null,null,null,null,null,7.9999998211860657E-2]
["1. Total capital grants revenue budget must reconcile to budget tables A4 and A5; total operating grants revenue must reconcile to budget table A4",null,null,null,null,null,null,null,{"$f":"I55-'B4-FinPerf RE'!K28-'B4-FinPerf RE'!K54","v":0.49000009894371033},{"$f":"J55-'B4-FinPerf RE'!L28-'B4-FinPerf RE'!L54","v":0},{"$f":"K55-'B4-FinPerf RE'!M28-'B4-FinPerf RE'!M54","v":-0.99999997019767761},null,null,null,null,null,null,null,null,null,null,0.49000000953674316]
["2. CTBM = conditions to be met"]
["3. Only complete if a previous adjusted budget has been approved in the same financial year. Reflect most recent adjusted budget."]
["4. Increases of funds approved under section 31 MFMA"]
["5. Adjustments to funding allocations from National or Provincial Government"]
["5. Adjusts. = 'Other' Adjustments proposed to be approved; including revenue under-collection (MFMA section 28(2)(a)); additional revenue appropriation on existing programmes (section 28(2))(b); projected savings (section 28(2)(d)); error correction (sect"]
["6. E = B + C + D"]
["7. Adjusted Budget F = (A or A1) + E"]

{"sheet":"SB10","index":28,"n_rows":84,"n_cols":22,"rows_kept":84,"cut":false,"hidden":false,"merged":[[1,0,3,0],[1,1,3,1],[1,2,1,10]]}
[{"$f":"muni&\" - \"&ADJB10&\" - \"&Date","v":"WC031 Theewaterskloof - Supporting Table SB10 Adjustments Budget - transfers and grants made by the municipality - 16 April 2026"}]
[{"$f":"desc","v":"Description"},{"$f":"head27","v":"Ref"},{"$f":"Head2","v":"Budget Year 2025/26"},null,null,null,null,null,null,null,null,{"$f":"Head10","v":"Budget Year +1 2026/27"},{"$f":"Head11","v":"Budget Year +2 2027/28"}]
[null,null,{"$f":"Head6","v":"Original Budget"},{"$f":"Head54","v":"Prior Adjusted"},{"$f":"Head51","v":"Accum. Funds"},{"$f":"Head52","v":"Multi-year capital"},{"$f":"Head53","v":"Unfore. Unavoid."},{"$f":"Head55","v":"Nat. or Prov. Govt"},{"$f":"Head50","v":"Other Adjusts."},{"$f":"Head56","v":"Total Adjusts."},{"$f":"Head7","v":"Adjusted Budget"},{"$f":"Head7","v":"Adjusted Budget"},{"$f":"Head7","v":"Adjusted Budget"},null,null,null,null,null,null,null,null,"Adjusted Budget"]
[null,null,null,6,7,8,9,10,11,12,13,null,null,null,null,null,null,null,null,null,null,13]
["R thousands",null,"A","A1","B","C","D","E","F","G","H",null,null,null,null,null,null,null,null,null,null,"H"]
["Cash transfers to other municipalities"]
["[insert description]",1,0,0,0,0,0,0,0,0,0,0,0,null,null,null,null,null,null,null,null,0]
["[insert description]",null,0,0,0,0,0,0,0,0,0,0,0,null,null,null,null,null,null,null,null,0]
["[insert description]",null,0,0,0,0,0,0,0,0,0,0,0,null,null,null,null,null,null,null,null,0]
["TOTAL ALLOCATIONS TO MUNICIPALITIES:",null,0,0,0,0,0,0,0,0,0,0,0,null,null,null,null,null,null,null,null,0]
[]
["Cash transfers to Entities/Other External Mechanisms"]
["[insert description]",2,0,0,0,0,0,0,0,0,0,0,0,null,null,null,null,null,null,null,null,0]
["[insert description]",null,0,0,0,0,0,0,0,0,0,0,0,null,null,null,null,null,null,null,null,0]
["[insert description]",null,0,0,0,0,0,0,0,0,0,0,0,null,null,null,null,null,null,null,null,0]
["TOTAL ALLOCATIONS TO ENTITIES/EMs'",null,0,0,0,0,0,0,0,0,0,0,0,null,null,null,null,null,null,null,null,0]
[]
["Cash transfers to other Organs of State"]
["[insert description]",3,0,0,0,0,0,0,0,0,0,0,0,null,null,null,null,null,null,null,null,0]
["[insert description]",null,0,0,0,0,0,0,0,0,0,0,0,null,null,null,null,null,null,null,null,0]
["[insert description]",null,0,0,0,0,0,0,0,0,0,0,0,null,null,null,null,null,null,null,null,0]
["TOTAL ALLOCATIONS TO OTHER ORGANS OF STATE:",null,0,0,0,0,0,0,0,0,0,0,0,null,null,null,null,null,null,null,null,0]
[]
["Cash transfers to other Organisations"]
["[insert description]",4,0,0,0,0,0,0,0,0,0,0,0,null,null,null,null,null,null,null,null,0]
["[insert description]",null,0,0,0,0,0,0,0,0,0,0,0,null,null,null,null,null,null,null,null,0]
["[insert description]",null,0,0,0,0,0,0,0,0,0,0,0,null,null,null,null,null,null,null,null,0]
["TOTAL CASH TRANSFERS TO OTHER ORGANISATIONS:",null,0,0,0,0,0,0,0,0,0,0,0,null,null,null,null,null,null,null,null,0]
[]
["Groups of Individuals"]
["Housing Top Structures",null,12080000,11339382,0,0,0,0,0,0,11339382,0,0,null,null,null,null,null,null,null,null,11339382]
["SMME Support Grant",null,1,1,0,0,0,0,0,0,1,1,1,null,null,null,null,null,null,null,null,1]
["Bursaries (External)",null,0,209704,0,0,0,0,0,0,209704,0,0,null,null,null,null,null,null,null,null,209704]
["Total Non-Cash Grants To Groups Of Individuals:",null,12080001,11549087,0,0,0,0,0,0,11549087,1,1,null,null,null,null,null,null,null,null,11549087]
[]
["TOTAL CASH TRANSFERS",5,12080001,11549087,0,0,0,0,0,0,11549087,1,1,null,null,null,null,null,null,null,null,11549087]
[]
["Non-cash transfers to other municipalities"]
["[insert description]",1,0,0,0,0,0,0,0,0,0,0,0,null,null,null,null,null,null,null,null,0]
["[insert description]",null,0,0,0,0,0,0,0,0,0,0,0,null,null,null,null,null,null,null,null,0]
["[insert description]",null,0,0,0,0,0,0,0,0,0,0,0,null,null,null,null,null,null,null,null,0]
["TOTAL ALLOCATIONS TO MUNICIPALITIES:",null,0,0,0,0,0,0,0,0,0,0,0,null,null,null,null,null,null,null,null,0]
[]
["Non-cash transfers to Entities/Other External Mechanisms"]
["[insert description]",2,0,0,0,0,0,0,0,0,0,0,0,null,null,null,null,null,null,null,null,0]
["[insert description]",null,0,0,0,0,0,0,0,0,0,0,0,null,null,null,null,null,null,null,null,0]
["[insert description]",null,0,0,0,0,0,0,0,0,0,0,0,null,null,null,null,null,null,null,null,0]
["TOTAL ALLOCATIONS TO ENTITIES/EMs'",null,0,0,0,0,0,0,0,0,0,0,0,null,null,null,null,null,null,null,null,0]
[]
["Non-cash transfers to other Organs of State"]
["[insert description]",3,0,0,0,0,0,0,0,0,0,0,0,null,null,null,null,null,null,null,null,0]
["[insert description]",null,0,0,0,0,0,0,0,0,0,0,0,null,null,null,null,null,null,null,null,0]
["[insert description]",null,0,0,0,0,0,0,0,0,0,0,0,null,null,null,null,null,null,null,null,0]
["TOTAL ALLOCATIONS TO OTHER ORGANS OF STATE:",null,0,0,0,0,0,0,0,0,0,0,0,null,null,null,null,null,null,null,null,0]
[]
["Non-cash transfers to other Organisations"]
["[insert description]",4,0,0,0,0,0,0,0,0,0,0,0,null,null,null,null,null,null,null,null,0]
["[insert description]",null,0,0,0,0,0,0,0,0,0,0,0,null,null,null,null,null,null,null,null,0]
["[insert description]",null,0,0,0,0,0,0,0,0,0,0,0,null,null,null,null,null,null,null,null,0]
["Total Non-Cash Grants To Organisations",null,0,0,0,0,0,0,0,0,0,0,0,null,null,null,null,null,null,null,null,0]
[]
["Groups of Individuals"]
["[insert description]",null,0,0,0,0,0,0,0,null,null,0,0]
["[insert description]",null,0,0,0,0,0,0,0,null,null,0,0]
["[insert description]",null,0,0,0,0,0,0,0,null,null,0,0]
["Total Non-Cash Grants To Groups Of Individuals:",null,0,0,0,0,0,0,0,0,0,0,0,null,null,null,null,null,null,null,null,0]
["TOTAL NON-CASH TRANSFERS TO OTHER ORGANISATIONS:",null,0,0,0,0,0,0,0,0,0,0,0,null,null,null,null,null,null,null,null,0]
[]
["TOTAL NON-CASH TRANSFERS",5,0,0,0,0,0,0,0,0,0,0,0,null,null,null,null,null,null,null,null,0]
["TOTAL TRANSFERS",null,12080001,11549087,0,0,0,0,0,0,11549087,1,1,null,null,null,null,null,null,null,null,11549087]
[{"$f":"head27a","v":"References"}]
["1. Insert description listed by municipal name and demarcation code of recipient"]
["2. Insert description of each entity or external mechanism (an external mechanism may be provided with resources to ensure a minimum level of service)"]
["3. Insert description of each Organ of State; e.g. Eskom"]
["4. Insert description of each 'other' organisation"]
["5. All descriptions should separate allocations for 'capital purposes' and 'operating purposes'"]
["6. Only complete if a previous adjusted budget has been approved in the same financial year. Reflect most recent adjusted budget."]
["7. Additional cash-backed accumulated funds/unspent funds (section 18(1)(b) and section 28(2)(e) MFMA) identified after Original Budget approved and after annual financial statements audited (note: only where underspending could not reasonably be have for"]
["8. Increases of funds approved under section 31 MFMA"]
["9. Adjustments approved in accordance with section 29 MFMA"]
["10. Adjustments to funding allocations from National or Provincial Government"]
["11. Adjusts. = 'Other' Adjustments proposed to be approved; including revenue under-collection (MFMA section 28(2)(a)); additional revenue appropriation on existing programmes (section 28(2))(b); projected savings (section 28(2)(d)); error correction (sec"]
["12. G = B + C + D + E +  F"]
["13. Adjusted Budget H = (A or A1) + G"]

{"sheet":"SB11","index":29,"n_rows":140,"n_cols":22,"rows_kept":140,"cut":false,"hidden":false,"merged":[[1,0,2,0],[1,1,2,1],[137,0,137,11],[139,0,139,11],[132,0,132,11],[134,0,134,9],[135,0,135,11],[133,0,133,11],[1,2,1,10]]}
[{"$f":"muni&\" - \"&ADJB11&\" - \"&Date","v":"WC031 Theewaterskloof - Supporting Table SB11 Adjustments Budget - councillor and staff benefits - 16 April 2026"}]
["Summary of remuneration",{"$f":"head27","v":"Ref"},{"$f":"Head2","v":"Budget Year 2025/26"}]
[null,null,{"$f":"Head6","v":"Original Budget"},{"$f":"Head54","v":"Prior Adjusted"},{"$f":"Head51","v":"Accum. Funds"},{"$f":"Head52","v":"Multi-year capital"},{"$f":"Head53","v":"Unfore. Unavoid."},{"$f":"Head55","v":"Nat. or Prov. Govt"},{"$f":"Head50","v":"Other Adjusts."},{"$f":"Head56","v":"Total Adjusts."},{"$f":"Head7","v":"Adjusted Budget"},"% change",null,null,null,null,null,null,null,null,null,"Adjusted Budget"]
[null,null,null,5,6,7,8,9,10,11,12,null,null,null,null,null,null,null,null,null,null,12]
["R thousands",null,"A","A1","B","C","D","E","F","G","H",null,null,null,null,null,null,null,null,null,null,"H"]
["Councillors (Political Office Bearers plus Other)"]
["Basic Salaries and Wages",null,13348543,13348543,null,null,0,null,0,0,13348543,0,null,null,null,null,null,null,null,null,null,13348543]
["Pension and UIF Contributions",null,0,0,null,null,0,null,0,0,0,"",null,null,null,null,null,null,null,null,null,0]
["Medical Aid Contributions",null,102478,102478,null,null,0,null,0,0,102478,0,null,null,null,null,null,null,null,null,null,102478]
["Motor Vehicle Allowance",null,240145,240145,null,null,0,null,0,0,240145,0,null,null,null,null,null,null,null,null,null,240145]
["Cellphone Allowance",null,1326213,1326213,null,null,0,null,0,0,1326213,null,null,null,null,null,null,null,null,null,null,1326213]
["Housing Allowances",null,0,0,null,null,0,null,0,0,0,null,null,null,null,null,null,null,null,null,null,0]
["Other benefits and allowances",null,0,0,null,null,0,null,0,0,0,null,null,null,null,null,null,null,null,null,null,0]
["Sub Total - Councillors",null,15017379,15017379,null,null,0,null,0,0,15017379,0,null,null,null,null,null,null,null,null,null,15017379]
["% increase",null,null,0,null,null,null,null,null,null,0,null,null,null,null,null,null,null,null,null,null,0]
[]
["Senior Managers of the Municipality"]
["Basic Salaries and Wages",null,7439132,7864756,0,null,0,null,0,0,7864756,5.7214201871938819E-2,null,null,null,null,null,null,null,null,null,7864756]
["Pension and UIF Contributions",null,13392,321721,0,null,0,null,0,0,321721,23.023372162485067,null,null,null,null,null,null,null,null,null,321721]
["Medical Aid Contributions",null,0,324787,0,null,0,null,0,0,324787,{"$error":"#DIV/0!"},null,null,null,null,null,null,null,null,null,324787]
["Overtime",null,0,0,0,null,0,null,0,0,0,"",null,null,null,null,null,null,null,null,null,0]
["Performance Bonus",null,655692,680564,0,null,0,null,145766,145766,826330,null,null,null,null,null,null,null,null,null,null,680564]
["Motor Vehicle Allowance",null,752400,687600,0,null,0,null,0,0,687600,-8.6124401913875603E-2,null,null,null,null,null,null,null,null,null,687600]
["Cellphone Allowance",null,129672,180000,0,null,0,null,0,0,180000,0.38811771238201009,null,null,null,null,null,null,null,null,null,180000]
["Housing Allowances",null,0,60000,0,null,0,null,0,0,60000,null,null,null,null,null,null,null,null,null,null,60000]
["Other benefits and allowances",null,152388,108263,0,null,0,null,0,0,108263,null,null,null,null,null,null,null,null,null,null,108263]
["Payments in lieu of leave",null,0,0,0,null,0,null,0,0,0,null,null,null,null,null,null,null,null,null,null,0]
["Long service awards",null,0,0,0,null,0,null,0,0,0,"",null,null,null,null,null,null,null,null,null,0]
["Post-retirement benefit obligations",5,0,0,0,null,0,null,0,0,0,"",null,null,null,null,null,null,null,null,null,0]
["Entertainment",null,0,0,0,null,0,null,0,0,0,null,null,null,null,null,null,null,null,null,null,0]
["Scarcity",null,0,0,0,null,0,null,0,0,0,null,null,null,null,null,null,null,null,null,null,0]
["Acting and post related allowance",null,0,0,0,null,0,null,0,0,0,null,null,null,null,null,null,null,null,null,null,0]
["In kind benefits",null,0,0,0,null,0,null,0,0,0,null,null,null,null,null,null,null,null,null,null,0]
["Sub Total - Senior Managers of Municipality",null,9142676,10227691,0,null,0,null,145766,145766,10373457,0.13461933902065426,null,null,null,null,null,null,null,null,null,10227691]
[{"$f":"$A$15","v":"% increase"},null,null,0.11867586689061271,null,null,null,null,null,null,70.165134530686174,null,null,null,null,null,null,null,null,null,null,8.4263130002811018]
[]
["Other Municipal Staff"]
["Basic Salaries and Wages",null,222004341,211756558,0,0,0,0,-4952498,-4952498,206804060,-6.8468395399529647E-2,null,null,null,null,null,null,null,null,null,211756558]
["Pension and UIF Contributions",null,38083237,36105256,0,0,0,0,-769384,-769384,35335872,-7.2141057757248994E-2,null,null,null,null,null,null,null,null,null,36105256]
["Medical Aid Contributions",null,11630118,11288424,0,0,0,0,222340,222340,11510764,-1.0262492607555629E-2,null,null,null,null,null,null,null,null,null,11288424]
["Overtime",null,6532764,9487451,0,0,0,0,1796656,1796656,11284107,0.72730975740130832,null,null,null,null,null,null,null,null,null,9487451]
["Performance Bonus",null,0,0,0,0,0,0,0,0,0,null,null,null,null,null,null,null,null,null,null,0]
["Motor Vehicle Allowance",null,13278367,12515739,0,0,0,0,-307789,-307789,12207950,-8.0613602561218523E-2,null,null,null,null,null,null,null,null,null,12515739]
["Cellphone Allowance",null,1060724,1061443,0,0,0,0,-72737,-72737,988706,-6.7895135775187465E-2,null,null,null,null,null,null,null,null,null,1061443]
["Housing Allowances",null,1075098,1070246,0,0,0,0,52493,52493,1122739,null,null,null,null,null,null,null,null,null,null,1070246]
["Other benefits and allowances",null,7879570,10382039,0,0,0,0,1174967,1174967,11557006,null,null,null,null,null,null,null,null,null,null,10382039]
["Payments in lieu of leave",null,500000,5300000,0,0,0,0,0,0,5300000,9.6,null,null,null,null,null,null,null,null,null,5300000]
["Long service awards",null,1780216,1963762,0,0,0,0,0,0,1963762,0.10310321893523033,null,null,null,null,null,null,null,null,null,1963762]
["Post-retirement benefit obligations",5,2669000,2377000,0,0,0,0,0,0,2377000,-0.10940427126264518,null,null,null,null,null,null,null,null,null,2377000]
["Entertainment",null,0,0,0,0,0,0,0,0,0,null,null,null,null,null,null,null,null,null,null,0]
["Scarcity",null,0,0,0,0,0,0,0,0,0,null,null,null,null,null,null,null,null,null,null,0]
["Acting and post related allowance",null,185000,1880856,0,0,0,0,989533,989533,2870389,null,null,null,null,null,null,null,null,null,null,1880856]
["In kind benefits",null,0,0,0,0,0,0,0,0,0,null,null,null,null,null,null,null,null,null,null,0]
["Sub Total - Other Municipal Staff",null,306678435,305188774,0,0,0,0,-1866419,-1866419,303322355,-1.094331918056124E-2,null,null,{"$f":"K54+K34-'B4-FinPerf RE'!K38","v":0},null,null,null,null,null,null,305188774]
[{"$f":"$A$15","v":"% increase"}]
["Total Parent Municipality",null,330838490,330433844,0,0,0,0,-1720653,-1720653,328713191,-6.4239774519585513E-3,null,null,null,null,null,null,null,null,null,330433844]
[]
[]
["Board Members of Entities"]
["Basic Salaries and Wages",null,0,0,0,0,0,0,0,0,0,"",null,null,null,null,null,null,null,null,null,0]
["Pension and UIF Contributions",null,0,0,0,0,0,0,0,0,0,"",null,null,null,null,null,null,null,null,null,0]
["Medical Aid Contributions",null,0,0,0,0,0,0,0,0,0,"",null,null,null,null,null,null,null,null,null,0]
["Overtime",null,0,0,0,0,0,0,0,0,0,null,null,null,null,null,null,null,null,null,null,0]
["Performance Bonus",null,0,0,0,0,0,0,0,0,0,null,null,null,null,null,null,null,null,null,null,0]
["Motor Vehicle Allowance",null,0,0,0,0,0,0,0,0,0,null,null,null,null,null,null,null,null,null,null,0]
["Cellphone Allowance",null,0,0,0,0,0,0,0,0,0,null,null,null,null,null,null,null,null,null,null,0]
["Housing Allowances",null,0,0,null,null,0,null,0,0,0,"",null,null,null,null,null,null,null,null,null,0]
["Other benefits and allowances",null,0,0,null,null,0,null,0,0,0,null,null,null,null,null,null,null,null,null,null,0]
["Board Fees",null,0,0,0,0,0,0,0,0,0,"",null,null,null,null,null,null,null,null,null,0]
["Payments in lieu of leave",null,0,0,0,0,0,0,0,0,0,"",null,null,null,null,null,null,null,null,null,0]
["Long service awards",null,0,0,0,0,0,0,0,0,0,null,null,null,null,null,null,null,null,null,null,0]
["Post-retirement benefit obligations",5,0,0,0,0,0,0,0,0,0,"",null,null,null,null,null,null,null,null,null,0]
["Entertainment",null,0,0,0,0,0,0,0,0,0,null,null,null,null,null,null,null,null,null,null,0]
["Scarcity",null,0,0,0,0,0,0,0,0,0,null,null,null,null,null,null,null,null,null,null,0]
["Acting and post related allowance",null,0,0,0,0,0,0,0,0,0,null,null,null,null,null,null,null,null,null,null,0]
["In kind benefits",null,0,0,0,0,0,0,0,0,0,null,null,null,null,null,null,null,null,null,null,0]
["Sub Total - Board Members of Entities",null,0,0,0,0,0,0,0,0,0,"",null,null,null,null,null,null,null,null,null,0]
[{"$f":"$A$15","v":"% increase"}]
[]
["Senior Managers of Entities"]
["Basic Salaries and Wages",null,0,0,0,0,0,0,0,0,0,"",null,null,null,null,null,null,null,null,null,0]
["Pension and UIF Contributions",null,0,0,0,0,0,0,0,0,0,"",null,null,null,null,null,null,null,null,null,0]
["Medical Aid Contributions",null,0,0,0,0,0,0,0,0,0,"",null,null,null,null,null,null,null,null,null,0]
["Overtime",null,0,0,0,0,0,0,0,0,0,null,null,null,null,null,null,null,null,null,null,0]
["Performance Bonus",null,0,0,0,0,0,0,0,0,0,null,null,null,null,null,null,null,null,null,null,0]
["Motor Vehicle Allowance",null,0,0,0,0,0,0,0,0,0,null,null,null,null,null,null,null,null,null,null,0]
["Cellphone Allowance",null,0,0,0,0,0,0,0,0,0,null,null,null,null,null,null,null,null,null,null,0]
["Housing Allowances",null,0,0,0,0,0,0,0,0,0,"",null,null,null,null,null,null,null,null,null,0]
["Other benefits and allowances",null,0,0,0,0,0,0,0,0,0,null,null,null,null,null,null,null,null,null,null,0]
["Payments in lieu of leave",null,0,0,0,0,0,0,0,0,0,"",null,null,null,null,null,null,null,null,null,0]
["Long service awards",null,0,0,0,0,0,0,0,0,0,"",null,null,null,null,null,null,null,null,null,0]
["Post-retirement benefit obligations",5,0,0,0,0,0,0,0,0,0,"",null,null,null,null,null,null,null,null,null,0]
["Entertainment",null,0,0,0,0,0,0,0,0,0,null,null,null,null,null,null,null,null,null,null,0]
["Scarcity",null,0,0,0,0,0,0,0,0,0,null,null,null,null,null,null,null,null,null,null,0]
["Acting and post related allowance",null,0,0,0,0,0,0,0,0,0,null,null,null,null,null,null,null,null,null,null,0]
["In kind benefits",null,0,0,0,0,0,0,0,0,0,null,null,null,null,null,null,null,null,null,null,0]
["Sub Total - Senior Managers of Entities",null,0,0,0,0,0,0,0,0,0,"",null,null,null,null,null,null,null,null,null,0]
[{"$f":"$A$15","v":"% increase"}]
[]
["Other Staff of Entities"]
["Basic Salaries and Wages",null,0,0,0,0,0,0,0,0,0,"",null,null,null,null,null,null,null,null,null,0]
["Pension and UIF Contributions",null,0,0,0,0,0,0,0,0,0,"",null,null,null,null,null,null,null,null,null,0]
["Medical Aid Contributions",null,0,0,0,0,0,0,0,0,0,"",null,null,null,null,null,null,null,null,null,0]
["Overtime",null,0,0,0,0,0,0,0,0,0,"",null,null,null,null,null,null,null,null,null,0]
["Performance Bonus",null,0,0,0,0,0,0,0,0,0,null,null,null,null,null,null,null,null,null,null,0]
["Motor Vehicle Allowance",null,0,0,0,0,0,0,0,0,0,"",null,null,null,null,null,null,null,null,null,0]
["Cellphone Allowance",null,0,0,0,0,0,0,0,0,0,"",null,null,null,null,null,null,null,null,null,0]
["Housing Allowances",null,0,0,0,0,0,0,0,0,0,null,null,null,null,null,null,null,null,null,null,0]
["Other benefits and allowances",null,0,0,0,0,0,0,0,0,0,null,null,null,null,null,null,null,null,null,null,0]
["Payments in lieu of leave",null,0,0,0,0,0,0,0,0,0,"",null,null,null,null,null,null,null,null,null,0]
["Long service awards",null,0,0,0,0,0,0,0,0,0,"",null,null,null,null,null,null,null,null,null,0]
["Post-retirement benefit obligations",5,0,0,0,0,0,0,0,0,0,"",null,null,null,null,null,null,null,null,null,0]
["Entertainment",null,0,0,0,0,0,0,0,0,0,null,null,null,null,null,null,null,null,null,null,0]
["Scarcity",null,0,0,0,0,0,0,0,0,0,null,null,null,null,null,null,null,null,null,null,0]
["Acting and post related allowance",null,0,0,0,0,0,0,0,0,0,null,null,null,null,null,null,null,null,null,null,0]
["In kind benefits",null,0,0,0,0,0,0,0,0,0,null,null,null,null,null,null,null,null,null,null,0]
["Sub Total - Other Staff of Entities",null,0,0,0,0,0,0,0,0,0,"",null,null,null,null,null,null,null,null,null,0]
[{"$f":"$A$15","v":"% increase"}]
["Total Municipal Entities",null,0,0,0,0,0,0,0,0,0,"",null,null,null,null,null,null,null,null,null,0]
[]
["TOTAL SALARY, ALLOWANCES & BENEFITS",null,330838490,330433844,0,0,0,0,-1720653,-1720653,328713191,-6.4239774519585513E-3,null,null,null,null,null,null,null,null,null,330433844]
[{"$f":"$A$15","v":"% increase"}]
["TOTAL MANAGERS AND STAFF",null,315821111,315416465,0,0,0,0,-1720653,-1720653,313695812,-6.7294393122441232E-3,null,null,null,null,null,null,null,null,null,315416465]
[{"$f":"head27a","v":"References"}]
["1. Include 'Loans and advances' where applicable if any reportable amounts only until phased compliance with s164 of MFMA achieved"]
["2. If benefits in kind are provided (e.g. provision of living quarters) the full market value must be shown as the cost to the municipality"]
["3. s57 of the Systems Act"]
["4. Must agree to the sub-total appearing on Table C1 (Employee costs)"]
["5. Includes pension payments and employer contributions to medical aid"]
[]
["Column Definitions:"]
["A. The original budget approved by council for the current year"]
["5. Only complete if a previous adjusted budget has been approved in the same financial year. Reflect most recent adjusted budget."]
["6. Additional cash-backed accumulated funds/unspent funds (section 18(1)(b) and section 28(2)(e) MFMA) identified after Original Budget approved and after annual financial statements audited (note: only where underspending could not reasonably be have for"]
["7. Increases of funds approved under section 31 MFMA"]
["8. Adjustments approved in accordance with section 29 MFMA"]
["9. Adjustments caused by changes in funding allocations from National or Provincial Government"]
["10. Adjusts. = 'Other' Adjustments proposed to be approved; including revenue under-collection (MFMA section 28(2)(a)); additional revenue appropriation on existing programmes (section 28(2))(b); projected savings (section 28(2)(d)); error correction (sec"]
["11. G = B + C + D + E +  F"]
["12. Adjusted Budget H = (A or A1) + G"]

{"sheet":"SB12","index":30,"n_rows":48,"n_cols":18,"rows_kept":48,"cut":false,"hidden":false,"merged":[[1,0,2,0],[1,2,1,13],[1,1,2,1]]}
[{"$f":"muni&\" - \"&ADJB12&\" - \"&Date","v":"WC031 Theewaterskloof - Supporting Table SB12 Adjustments Budget - monthly revenue and expenditure (municipal vote) - 16 April 2026"}]
[{"$f":"desc","v":"Description"},{"$f":"head27","v":"Ref"},{"$f":"Head2","v":"Budget Year 2025/26"},null,null,null,null,null,null,null,null,null,null,null,null,"Medium Term Revenue and Expenditure Framework"]
[null,null,"July","August","Sept.","October","November","December","January","February","March","April","May","June","Full year budget",{"$f":"Head9","v":"Budget Year 2025/26"},{"$f":"Head10","v":"Budget Year +1 2026/27"},{"$f":"Head11","v":"Budget Year +2 2027/28"}]
["R thousands",null,{"$f":"Head5A","v":"Outcome"},"Outcome","Outcome","Outcome","Outcome","Outcome","Outcome","Outcome","Outcome",{"$f":"Head7","v":"Adjusted Budget"},"Adjusted Budget","Adjusted Budget",null,{"$f":"Head7","v":"Adjusted Budget"},"Adjusted Budget","Adjusted Budget"]
[{"$f":"'B3-FinPerf V'!A6","v":"Revenue by Vote"}]
[{"$f":"'B3-FinPerf V'!A7","v":"Vote 1 - Directorate Finance"},null,99611876.609999999,13811176.189999999,15237242.360000001,14326925.299999999,14276265.130000001,54457437.119999982,15403721.170000002,15276464.73,15318468.400000002,18197444.329999994,18197444.329999994,23172859.330000043,317287325,317287325,346421500.30434781,357051626.47826087]
[{"$f":"'B3-FinPerf V'!A8","v":"Vote 2 - Community Services"},null,547865.86999999988,1353959.38,3789345.4000000004,2521412.08,2167041.1799999997,1990833.85,1804147.3600000003,2418538.2600000002,2946244.1200000006,2385464.1666666665,2385464.1666666665,38518944.166666664,62829260,62829260,49390653,50389945]
[{"$f":"'B3-FinPerf V'!A9","v":"Vote 3 - Corporate services"},null,221111.81,483440.44,450605.66,270480.21000000002,773573.01,384120.67000000004,547374.36,356290.77999999997,-41520.94,1177409.333333333,1177409.333333333,1177409.3333333349,6977704,6977704,7044825,7218121]
[{"$f":"'B3-FinPerf V'!A10","v":"Vote 4 - Electricity"},null,16708544.26,15953039.27,14837161.569999998,14932733.179999998,13898772.9,14964089.540000001,14310678.239999996,14128209.57,21372497.510000002,13537740.653333332,13537740.653333332,28537740.653333336,196718948,196718948,207466421,213079584]
[{"$f":"'B3-FinPerf V'!A11","v":"Vote 5 - Economic Development and Planning"},null,145526.78,253317.57,124050.42000000001,6782987.4600000009,851104,1046248.79,92427.189999999988,559157.45000000007,5851319.1400000006,26025718.400000002,26025718.400000002,26025718.399999991,93783294,93783294,111132533,113390347]
[{"$f":"'B3-FinPerf V'!A12","v":"Vote 6 - Office of the Municipal Manager"},null,0,0,0,0,0,0,0,0,0,0,0,0,0,0,0,0]
[{"$f":"'B3-FinPerf V'!A13","v":"Vote 7 - Housing"},null,0,0,0,0,0,0,0,0,0,0,0,0,0,0,0,0]
[{"$f":"'B3-FinPerf V'!A14","v":"Vote 8 - Technical and Infrastructure Implementation Services"},null,68.17,4950,5612321.8300000001,340.85,1518753.3199999998,6346070.3999999994,2582.48,2836289.81,2886465.32,4958541.2733333334,4958541.2733333334,4958541.2733333334,34083466,34083466,29828653.695652202,31091027.521739099]
[{"$f":"'B3-FinPerf V'!A15","v":"Vote 9 - Public safety"},null,0,0,0,0,0,0,0,0,0,0,0,0,0,0,0,0]
[{"$f":"'B3-FinPerf V'!A16","v":"Vote 10 - Road transport"},null,0,0,0,0,0,0,0,0,0,0,0,0,null,0,0,0]
[{"$f":"'B3-FinPerf V'!A17","v":"Vote 11 - Sport and recreation"},null,0,0,0,0,0,0,0,0,0,0,0,0,null,0,0,0]
[{"$f":"'B3-FinPerf V'!A18","v":"Vote 12 - Waste management"},null,4210804.0599999996,4237909.33,4149142.3699999996,4006457.63,3976717.2100000004,14660661.6,3957592.94,3951676.2800000003,3443681.7299999995,5816452.2833333332,5816452.2833333332,5816452.2833333388,null,64044000,68022693,70098765]
[{"$f":"'B3-FinPerf V'!A19","v":"Vote 13 - Waste water management"},null,6655190.3199999994,3802647.8400000003,3534514.54,5669194.29,3464003.35,3541538.75,5557055.080000001,3491139.94,11147447.439999999,6297756.1499999976,6297756.1499999976,6297756.150000006,null,65756000,69509742,71582109]
[{"$f":"'B3-FinPerf V'!A20","v":"Vote 14 - Water"},null,9609781.4100000001,10236184.25,11293411.32,11675046.780000001,12443938.279999999,11172188.360000001,13807386.680000002,13734102.439999999,15809556.26,7990134.7399999974,7990134.7399999974,7990134.7399999946,null,133752000,127675664,131210172]
[{"$f":"'B3-FinPerf V'!A21","v":"Vote 15 - Directorate Development and Community Services"},null,0,0,78092.2,116483.03,0,123259.06,0,0,492297.55,-270043.94666666666,-270043.94666666666,-270043.94666666666,0,0,0,0]
[{"$f":"'B3-FinPerf V'!A22","v":"Total Revenue by Vote"},null,137710769.29000002,50136624.270000003,59105887.670000002,60302060.810000002,53370168.380000003,108686448.14,55482965.499999993,56751869.259999998,79226456.530000001,86116617.38333331,86116617.38333331,142225512.38333338,711679997,975231997,1016492685,1045111697]
[]
[{"$f":"'B3-FinPerf V'!A24","v":"Expenditure by Vote"}]
[{"$f":"'B3-FinPerf V'!A25","v":"Vote 1 - Directorate Finance"},null,4275556.0500000007,11029589.730000002,8126817.740000003,8407455.8200000022,7602071.4300000025,9841135.2500000019,7306974.3500000006,7815054.120000001,5408930.1100000013,9934635.133333331,9934635.133333331,9934635.1333333403,99617490,99617490,110131905,112781509]
[{"$f":"'B3-FinPerf V'!A26","v":"Vote 2 - Community Services"},null,10262980.710000006,14659797.230000015,14200527.58,14027814.179999998,14407974.580000021,15574170.440000014,13394429.590000005,12706752.70000001,22034872.240000002,20561666.583333321,20561666.583333321,20561666.583333313,192954319,192954319,196132864,200869406]
[{"$f":"'B3-FinPerf V'!A27","v":"Vote 3 - Corporate services"},null,4024426.7800000007,4448715.9400000013,11517188.789999997,4930673.2000000011,4413932.160000002,4411197.1800000016,6606623.3899999987,4850104.49,5298743.25,10919343.939999996,10919343.939999996,20434973.939999998,92775267,92775267,94167745,96471377]
[{"$f":"'B3-FinPerf V'!A28","v":"Vote 4 - Electricity"},null,2181107.94,12806148.929999998,19692522.799999993,19437917.099999998,14912123.23,14689631.470000003,14373531.559999997,14550224.389999999,8265444.3299999945,21912668.416666675,21912668.416666675,21912668.416666657,186646657,186646657,190734453,195413326]
[{"$f":"'B3-FinPerf V'!A29","v":"Vote 5 - Economic Development and Planning"},null,2504482.3700000006,2980132.62,2843086.2699999996,2828331.3099999996,2835867.96,3174582.81,2885078.2199999983,3036435.5299999989,3718823.98,7917744.9766666675,7917744.9766666675,7917744.9766666666,50560056,50560056,42023263,43071693]
[{"$f":"'B3-FinPerf V'!A30","v":"Vote 6 - Office of the Municipal Manager"},null,763528.19000000018,765061.36,695745.54,667607.07000000018,679079.90000000014,681852.4,768422.5299999998,691972.99,706502.36999999988,1088068.8833333335,1088068.8833333335,1088068.8833333328,9683979,9683979,10149712,10403459]
[{"$f":"'B3-FinPerf V'!A31","v":"Vote 7 - Housing"},null,0,0,0,0,0,0,0,0,0,0,0,0,0,0,0,0]
[{"$f":"'B3-FinPerf V'!A32","v":"Vote 8 - Technical and Infrastructure Implementation Services"},null,1104839.52,1128341.22,1254849.9900000002,1460597.0000000002,1306373.05,1019698.4900000001,1045998.1999999998,1102401.9600000002,941027.68,3036684.2966666655,3036684.2966666655,3036684.2966666687,19474180,19474180,16107176,16509861]
[{"$f":"'B3-FinPerf V'!A33","v":"Vote 9 - Public safety"},null,0,0,0,0,0,0,0,0,0,0,0,0,0,0,0,0]
[{"$f":"'B3-FinPerf V'!A34","v":"Vote 10 - Road transport"},null,0,0,0,0,0,0,0,0,0,0,0,0,0,0,0,0]
[{"$f":"'B3-FinPerf V'!A35","v":"Vote 11 - Sport and recreation"},null,0,0,0,0,0,0,0,0,0,0,0,0,0,0,0,0]
[{"$f":"'B3-FinPerf V'!A36","v":"Vote 12 - Waste management"},null,2067446.5100000002,5446160.9399999995,3836766.2899999991,4801426.6499999985,4631379.8599999994,5249682.5500000007,4616965.7699999986,4367839.6999999993,3633382.4800000032,9661794.4166666679,9661794.4166666679,22421794.416666657,80396434,80396434,83607614,85608217]
[{"$f":"'B3-FinPerf V'!A37","v":"Vote 13 - Waste water management"},null,3071640.64,6271327.6000000015,5065114.7899999991,4924099.0200000005,4883240.3800000018,8536142.6700000018,4974882.959999999,4663595.3899999997,3904640.1800000016,8193706.4566666642,8193706.4566666642,8193706.4566666707,70875803,70875803,70113379,71631293]
[{"$f":"'B3-FinPerf V'!A38","v":"Vote 14 - Water"},null,2160531.6800000002,10654620.550000004,9188668.1800000034,8545210.5200000033,9511401.3300000019,10746965.300000004,8809713.8300000001,9059427.3800000045,1055826.5800000066,11081749.216666661,11081749.216666661,11081749.216666639,102977613,102977613,96496844,98727977]
[{"$f":"'B3-FinPerf V'!A39","v":"Vote 15 - Directorate Development and Community Services"},null,0,0,0,0,0,0,0,0,0,0,0,0,0,0,0,0]
["Total Expenditure by Vote",null,32416540.390000012,70189896.120000005,76421287.969999999,70031131.870000005,65183443.880000025,73925058.560000032,64782620.399999999,62843808.650000013,54968193.199999996,104308062.31999999,104308062.31999999,126583692.31999993,905961798,905961798,909664955,931488118]
[]
["Surplus/ (Deficit)",null,105294228.90000001,-20053271.850000001,-17315400.299999997,-9729071.0600000024,-11813275.500000022,34761389.579999968,-9299654.900000006,-6091939.3900000155,24258263.330000006,-18191444.936666682,-18191444.936666682,15641820.063333452,-194281801,69270199,106827730,113623579]
[{"$f":"head27a","v":"References"}]
["1. Surplus (Deficit) must reconcile with budget table A2 and monthly budget statement table C2"]
[null,null,{"$f":"C41-'SB13'!C51","v":0},{"$f":"D41-'SB13'!D51","v":0},{"$f":"E41-'SB13'!E51","v":0},{"$f":"F41-'SB13'!F51","v":0},{"$f":"G41-'SB13'!G51","v":-1.4901161193847656E-8},{"$f":"H41-'SB13'!H51","v":0},{"$f":"I41-'SB13'!I51","v":0},{"$f":"J41-'SB13'!J51","v":7.4505805969238281E-9},{"$f":"K41-'SB13'!K51","v":0},{"$f":"L41-'SB13'!L51","v":0},{"$f":"M41-'SB13'!M51","v":0},{"$f":"N41-'SB13'!N51","v":-1.4901161193847656E-8},{"$f":"O41-'SB13'!O51","v":-352793863},{"$f":"P41-'SB13'!P51","v":0},{"$f":"Q41-'SB13'!Q51","v":0},{"$f":"R41-'SB13'!R51","v":0}]
[]
[]
[]
[null,null,null,null,null,null,null,null,null,null,null,null,null,null,{"$f":"O47+O41","v":-194281801}]

{"sheet":"SB13","index":31,"n_rows":53,"n_cols":18,"rows_kept":53,"cut":false,"hidden":false,"merged":[[1,0,2,0],[1,1,2,1],[1,2,1,13]]}
[{"$f":"muni&\" - \"&ADJB13&\" - \"&Date","v":"WC031 Theewaterskloof - Supporting Table SB13 Adjustments Budget - monthly revenue and expenditure (functional classification) - 16 April 2026"}]
[{"$f":"desc&\" - Standard classification\"","v":"Description - Standard classification"},{"$f":"head27","v":"Ref"},{"$f":"Head2","v":"Budget Year 2025/26"},null,null,null,null,null,null,null,null,null,null,null,null,"Medium Term Revenue and Expenditure Framework"]
[null,null,"July","August","Sept.","October","November","December","January","February","March","April","May","June","Full year budget",{"$f":"Head9","v":"Budget Year 2025/26"},{"$f":"Head10","v":"Budget Year +1 2026/27"},{"$f":"Head11","v":"Budget Year +2 2027/28"}]
["R thousands",null,"Outcome","Outcome","Outcome","Outcome","Outcome","Outcome","Outcome","Outcome","Outcome",{"$f":"Head7","v":"Adjusted Budget"},"Adjusted Budget","Adjusted Budget",null,{"$f":"Head7","v":"Adjusted Budget"},{"$f":"Head7","v":"Adjusted Budget"},{"$f":"Head7","v":"Adjusted Budget"}]
["Revenue - Functional"]
[{"$f":"'B2-FinPerf SC'!A7","v":"Governance and administration"},null,100000481.62000002,14450460.620000003,15931283.539999999,14892352.319999998,15212813.880000003,55125027.209999986,16112180.150000004,15827047.570000002,15964718.970000003,19289749.373333327,19289749.373333327,24265164.373333335,326361029,326361029,355656645.30434781,366514826.47826087]
[{"$f":"'B2-FinPerf SC'!A8","v":"Executive and council"},null,0,0,25863.08,0,12544.81,11886.7,0,7702.61,24835.38,33904.14,33904.14,33904.140000000014,184545,184545,113000,113000]
[{"$f":"'B2-FinPerf SC'!A9","v":"Finance and administration"},null,100000481.62000002,14450460.620000003,15905420.459999999,14892352.319999998,15200269.070000002,55113140.509999983,16112180.150000004,15819344.960000003,15939883.590000002,19255845.233333327,19255845.233333327,24231260.23333329,326176484,326176484,355543645.30434781,366401826.47826087]
[{"$f":"'B2-FinPerf SC'!A10","v":"Internal audit"},null,0,0,0,0,0,0,0,0,0,0,0,0,0,0,0,0]
[{"$f":"'B2-FinPerf SC'!A11","v":"Community and public safety"},null,371086.37,1191779.9300000002,2091134.6600000001,7100091.2600000007,1811619.1099999999,1860215.0699999998,522236.11,1213802.8700000001,7900923.25,27098288.790000003,27098288.790000003,63231768.789999992,141491235,141491235,146424143,149328772]
[{"$f":"'B2-FinPerf SC'!A12","v":"Community and social services"},null,103173.91,853231.42,1722126.27,77534.259999999995,877215.65,1574329.9,88094.36,826326.33000000007,1688294.1500000001,1115472.9166666667,1115472.9166666667,1115472.916666666,11156745,11156745,11597980,12315030]
[{"$f":"'B2-FinPerf SC'!A13","v":"Sport and recreation"},null,4655.22,3688.37,8601.0299999999988,5996.69,2306.25,265.22000000000003,4334.54,14869.98,9368.5300000000007,-1028.6100000000006,-1028.6100000000006,-1028.6100000000006,51000,51000,53295,54627]
[{"$f":"'B2-FinPerf SC'!A14","v":"Public safety"},null,263257.24,334860.14,360407.36,396166.99,354656.81,245318.01,429807.21,372606.56,613100.67000000004,434815.67,434815.67,36568295.670000002,40808108,40808108,26752868,26759115]
[{"$f":"'B2-FinPerf SC'!A15","v":"Housing"},null,0,0,0,6620393.3200000003,577440.4,40301.94,0,0,5590159.9000000004,25549028.813333336,25549028.813333336,25549028.813333333,89475382,89475382,108020000,110200000]
[{"$f":"'B2-FinPerf SC'!A16","v":"Health"},null,0,0,0,0,0,0,0,0,0,0,0,0,0,0,0,0]
[{"$f":"'B2-FinPerf SC'!A17","v":"Economic and environmental services"},null,154881.25,264603.03000000003,7269239.6699999999,2026185.3499999999,2562303.65,7362727.6100000003,1215836.2999999998,4405890.59,3587631.3699999996,6086495.3933333345,6086495.3933333345,6086495.3933333308,47108785,47108785,41737376.695652202,43297468.521739095]
[{"$f":"'B2-FinPerf SC'!A18","v":"Planning and development"},null,145594.95000000001,258267.57,5619888.0199999996,162934.99000000002,1792416.92,7352017.25,95009.669999999984,3395447.2600000002,3147624.5599999996,4256373.2700000005,4256373.2700000005,4256373.2700000033,34738321,34738321,32796186.695652202,34118374.521739095]
[{"$f":"'B2-FinPerf SC'!A19","v":"Road transport"},null,9286.2999999999993,6335.46,1649351.65,1863250.3599999999,769886.7300000001,10710.36,1120826.6299999999,1010443.3299999998,440006.81,1830122.1233333335,1830122.1233333335,1830122.1233333331,12370464,12370464,8941190,9179094]
[{"$f":"'B2-FinPerf SC'!A20","v":"Environmental protection"},null,0,0,0,0,0,0,0,0,0,0,0,0,0,0,0,0]
[{"$f":"'B2-FinPerf SC'!A21","v":"Trading services"},null,37184320.050000004,34229780.689999998,33814229.799999997,36283431.880000003,33783431.740000002,44338478.25,37632712.939999998,35305128.229999997,51773182.939999998,33642083.826666661,33642083.826666661,48642083.826666653,460270948,460270948,472674520,485970630]
[{"$f":"'B2-FinPerf SC'!A22","v":"Energy sources"},null,16708544.26,15953039.27,14837161.569999998,14932733.179999998,13898772.9,14964089.540000001,14310678.239999996,14128209.57,21372497.510000002,13537740.653333332,13537740.653333332,28537740.653333336,196718948,196718948,207466421,213079584]
[{"$f":"'B2-FinPerf SC'!A23","v":"Water management"},null,9609781.4100000001,10236184.25,11293411.32,11675046.780000001,12443938.279999999,11172188.360000001,13807386.680000002,13734102.439999999,15809556.26,7990134.7399999974,7990134.7399999974,7990134.7399999946,133752000,133752000,127675664,131210172]
[{"$f":"'B2-FinPerf SC'!A24","v":"Waste water management"},null,6655190.3199999994,3802647.8400000003,3534514.54,5669194.29,3464003.35,3541538.75,5557055.080000001,3491139.94,11147447.439999999,6297756.1499999976,6297756.1499999976,6297756.150000006,65756000,65756000,69509742,71582109]
[{"$f":"'B2-FinPerf SC'!A25","v":"Waste management"},null,4210804.0599999996,4237909.33,4149142.3699999996,4006457.63,3976717.2100000004,14660661.6,3957592.94,3951676.2800000003,3443681.7299999995,5816452.2833333332,5816452.2833333332,5816452.2833333388,64044000,64044000,68022693,70098765]
[{"$f":"'B2-FinPerf SC'!A26","v":"Other"},null,0,0,0,0,0,0,0,0,0,0,0,0,0,0,0,0]
["Total Revenue - Functional",null,137710769.29000002,50136624.269999996,59105887.669999994,60302060.810000002,53370168.380000003,108686448.13999999,55482965.5,56751869.259999998,79226456.530000001,86116617.383333325,86116617.383333325,142225512.38333333,975231997,975231997,1016492685,1045111697]
[]
["Expenditure - Functional"]
[{"$f":"A6","v":"Governance and administration"},null,12064324.129999999,19152333.270000014,24093198.870000012,17746188.410000004,16230608.120000005,18887991.159999993,18093555.040000014,16629086.680000016,14704980.420000017,27330849.300000019,27330849.300000019,36846479.299999893,249110444,249110444,266791294,273281763]
["Executive and council",null,1852675.88,1786535.5999999999,1787193.8799999997,2022224.2699999998,1782495.44,1717197.29,1878335.9399999997,2024108.2799999998,2151664.2699999996,4295166.7166666677,4295166.7166666677,4295166.7166666649,29887931,29887931,27556665,28245581]
["Finance and administration",null,9909751.2100000009,17024373.850000013,22033744.860000014,15481245.500000004,14193921.210000005,16913390.549999993,15953210.750000013,14342443.080000017,12309995.910000017,22740781.026666682,22740781.026666682,32256411.026666582,215900050,215900050,235762681,241477434]
["Internal audit",null,301897.04000000004,341423.82,272260.13,242718.63999999998,254191.47,257403.32,262008.35,262535.32,243320.24000000002,294901.55666666664,294901.55666666664,294901.55666666618,3322463,3322463,3471948,3558748]
["Community and public safety",null,4949938.9399999995,9374672.3099999987,7956812.4500000002,8303396.4700000025,7935704.6199999973,9274693.1100000069,7639394.709999999,7596135.9300000006,17217519.339999996,15488238.706666671,15488238.706666671,15488238.706666648,126712984,126712984,111375964,114134314]
["Community and social services",null,1271695.29,1238039.6299999999,1597707.7100000004,1666474.7799999996,1600920.7100000002,1119528.3599999996,1465590.3399999999,1356649.47,1430421.4400000004,2232152.7566666678,2232152.7566666678,2232152.756666664,19443486,19443486,20111252,20587969]
["Sport and recreation",null,666768.90000000014,720951.67999999993,753149.28999999992,689719.41999999993,855963.04000000015,739403.86,692890.24,715324.75,835962.97000000009,1258611.283333333,1258611.283333333,1258611.2833333332,10445968,10445968,12128011,12431212]
["Public safety",null,2074195.2599999995,6440477.3099999996,4553489.1400000006,4455869.9000000032,4410433.6899999976,6169670.560000008,4467301.2699999996,4387108.1800000006,13030717.919999998,6808982.9233333357,6808982.9233333357,6808982.9233333319,70416212,70416212,62427775,63988481]
["Housing",null,937279.49,975203.68999999959,1052466.3099999998,1491332.3699999999,1068387.18,1246090.3299999996,1013612.8599999999,1137053.53,1920417.0099999998,5188491.7433333332,5188491.7433333332,5188491.743333336,26407318,26407318,16708926,17126652]
["Health",null,0,0,0,0,0,0,0,0,0,0,0,0,null,0,0,0]
["Economic and environmental services",null,5920510.1699999999,6484632.5199999996,6588204.5899999999,6272378.9199999999,7078986.3399999999,6442842.290000001,6274576.5300000031,5977499.1800000016,6186399.8700000029,10538459.863333328,10538459.863333328,10538459.86333333,null,88841410,90294606,92434157]
["Planning and development",null,2702619.1899999995,3133680.1,2870158.0399999996,2761039.209999999,3044477.93,2823472.2200000007,2889429.1800000006,2948400.7700000005,2661692.7100000004,4073485.2166666645,4073485.2166666645,4073485.2166666761,null,38055425,39997044,40996983]
["Road transport",null,3217890.98,3350952.419999999,3718046.55,3511339.7100000014,4034508.4099999997,3619370.07,3385147.3500000024,3029098.4100000006,3524707.1600000029,6464974.6466666637,6464974.6466666637,6464974.6466666684,null,50785985,50234862,51372907]
["Environmental protection",null,0,0,0,0,0,0,0,0,0,0,0,0,null,0,62700,64267]
["Trading services",null,9480726.7699999996,35178258.020000003,37783072.059999995,37708653.289999999,33938144.800000004,39222421.99000001,32775094.119999994,32641086.860000003,16859293.570000004,50849918.506666675,50849918.506666675,63609918.50666666,440896507,440896507,440952290,451380813]
["Energy sources",null,2181107.94,12806148.929999998,19692522.799999993,19437917.099999998,14912123.23,14689631.470000003,14373531.559999997,14550224.389999999,8265444.3299999945,21912668.416666675,21912668.416666675,21912668.416666657,186646657,186646657,190734453,195413326]
["Water management",null,2160531.6800000002,10654620.550000004,9188668.1800000034,8545210.5200000033,9511401.3300000019,10746965.300000004,8809713.8300000001,9059427.3800000045,1055826.5800000066,11081749.216666661,11081749.216666661,11081749.216666639,null,102977613,96496844,98727977]
["Waste water management",null,3071640.64,6271327.6000000015,5065114.7899999991,4924099.0200000005,4883240.3800000018,8536142.6700000018,4974882.959999999,4663595.3899999997,3904640.1800000016,8193706.4566666642,8193706.4566666642,8193706.4566666707,null,70875803,70113379,71631293]
["Waste management",null,2067446.5100000002,5446160.9399999995,3836766.2899999991,4801426.6499999985,4631379.8599999994,5249682.5500000007,4616965.7699999986,4367839.6999999993,3633382.4800000032,9661794.4166666679,9661794.4166666679,22421794.416666657,null,80396434,83607614,85608217]
["Other",null,1040.3800000000001,0,0,514.78,0,97110.01,0,0,0,100595.94333333334,100595.94333333334,100595.9433333333,null,400453,250801,257071]
["Total Expenditure - Functional",null,32416540.390000001,70189896.120000005,76421287.969999999,70031131.870000005,65183443.88000001,73925058.560000017,64782620.400000006,62843808.650000021,54968193.200000018,104308062.32000002,104308062.32000002,126583692.31999986,816719935,905961798,909664955,931488118]
[]
["Surplus/ (Deficit) 1.",null,105294228.90000002,-20053271.850000009,-17315400.300000004,-9729071.0600000024,-11813275.500000007,34761389.579999968,-9299654.900000006,-6091939.3900000229,24258263.329999983,-18191444.936666697,-18191444.936666697,15641820.063333467,158512062,69270199,106827730,113623579]
[{"$f":"head27a","v":"References"}]
["1. Surplus (Deficit) must reconcile with budget table A3 and monthly budget statement table C3"]

{"sheet":"SB14","index":32,"n_rows":58,"n_cols":18,"rows_kept":58,"cut":false,"hidden":false,"merged":[[1,0,2,0],[1,1,2,1],[1,2,1,13]]}
[{"$f":"muni&\" - \"&ADJB14&\" - \"&Date","v":"WC031 Theewaterskloof - Supporting Table SB14 Adjustments Budget - monthly revenue and expenditure - 16 April 2026"}]
[{"$f":"desc","v":"Description"},{"$f":"head27","v":"Ref"},{"$f":"Head2","v":"Budget Year 2025/26"},null,null,null,null,null,null,null,null,null,null,null,null,"Medium Term Revenue and Expenditure Framework"]
[null,null,"July","August","Sept.","October","November","December","January","February","March","April","May","June","Full year budget",{"$f":"Head9","v":"Budget Year 2025/26"},{"$f":"Head10","v":"Budget Year +1 2026/27"},{"$f":"Head11","v":"Budget Year +2 2027/28"}]
["R thousands",null,"Outcome","Outcome","Outcome","Outcome","Outcome","Outcome","Outcome","Outcome","Outcome",{"$f":"Head7","v":"Adjusted Budget"},"Adjusted Budget","Adjusted Budget",null,{"$f":"Head7","v":"Adjusted Budget"},{"$f":"Head7","v":"Adjusted Budget"},{"$f":"Head7","v":"Adjusted Budget"}]
["Revenue By Source"]
["Exchange Revenue"]
["Service charges - Electricity",null,16374258.789999999,15812541.699999999,14678729.479999999,14778496.809999999,13744262.130000001,14813962.690000001,14170071.369999997,13974423.85,7675683.5300000003,13319523.216666667,13319523.216666667,13319523.216666669,165981000,165981000,177731545,182174832]
["Service charges - Water",null,9340214.6400000006,10049645.950000001,11106670.920000002,11489518.98,12256789.33,10986054.260000002,13626617.340000002,13551127.119999999,170130.85999999987,7807410.1999999974,7807410.1999999974,7807410.1999999732,115999000,115999000,108387359,111097042]
["Service charges - Waste Water Management",null,6548065.0599999996,3723174.93,3454843.6900000004,5590117.2600000007,3384530.44,3462560.6900000004,5484002.8999999994,3413523.94,2599413.35,4109255.9133333312,4109255.9133333312,4109255.9133333266,49988000,49988000,51980024,53279524]
["Service charges - Waste Management",null,4146849.41,4141772.76,4081810.82,3939622.7300000004,3908463.3299999996,3952223.52,3896234.31,3887378.6500000004,3386212.25,3754144.0733333332,3754144.0733333332,3754144.0733333379,46603000,46603000,48643287,49859369]
["Sale of Goods and Rendering of Services",null,322967.87,370949.69000000006,249596.36000000002,291830.99,332320.21000000002,401336.76,1038979.4400000001,530357.15,-501548.42000000022,292024.31666666659,292024.31666666659,5267439.3166666673,null,8888278,27813792,28509139]
["Agency services",null,9286.2999999999993,6335.46,1532867.42,1863250.3599999999,769886.7300000001,10710.36,1120826.6299999999,1010443.3299999998,440006.81,551264.53333333356,551264.53333333356,551264.53333333414,8417407,8417407,8796190,9016094]
["Interest",null,0,0,0,0,0,0,0,0,0,0,0,0,0,0,0,0]
["Interest earned from Receivables",null,1839202.35,2054737.9499999997,2190226.5299999998,2153407.48,2034307.9500000002,2121050.06,2164830.36,2123308.35,1820964.9300000002,2625988.0133333337,2625988.0133333337,2625988.0133333281,26380000,26380000,28905745,29628389]
["Interest earned from Current and Non Current Assets",null,0,253855.53,236946.80000000002,331815.89,138117.93,118176.6,207780.94,526976.72,141593.98000000001,448245.20333333331,448245.20333333331,448245.2033333336,3300000,3300000,6446677,6607844]
["Dividends",null,0,0,0,0,0,0,0,0,0,0,0,0,0,0,0,0]
["Rent on Land",null,0,0,0,0,0,0,0,0,0,0,0,0,0,0,0,0]
["Rental from Fixed Assets",null,169476.77000000002,152516.4,172161.48,177979.5,153136.5,144990.39000000001,156822.47,197235.62000000002,198956.12,184241.58333333331,184241.58333333331,184241.58333333349,2076000,2076000,2169420,2223656]
["Licence and permits",null,2293.04,4515.6400000000003,2981.72,8111.29,9410.51,7086.04,6841.72,10959.99,14673.1,3042.316666666668,3042.316666666668,3042.3166666666657,76000,76000,79420,81405]
["Special rating levies",null,0,0,0,0,0,0,0,0,0,0,0,0,0,0,0,0]
["Operational Revenue",null,60961.359999999993,457910.58,201391.25999999998,341870.01,836372.67,303244.55,534014,596759.01,351862.78,580977.92666666687,580977.92666666687,580977.92666666675,5427320,5427320,4237727,4343670]
["Non-Exchange Revenue"]
["Property rates",null,50337698.11999999,10784969.51,10825022.369999999,10998803.73,10943733.439999999,11018920.140000001,11114014.010000002,11098994.040000003,11003362.800000001,10875827.279999996,10875827.279999996,10875827.280000001,170753000,170753000,180858592,185380056]
["Surcharges and Taxes",null,0,0,0,0,0,0,0,0,0,0,0,0,0,0,0,0]
["Fines, penalties and forfeits",null,479247.82,695219.39,780250.26,795050.2,781201.3,543220.1,682180.7,710464.2,858559.89,494183.37999999995,494183.37999999995,36627663.380000003,43941424,43941424,27871383,27905593]
["Licences or permits",null,0,0,0,0,0,0,0,0,0,0,0,0,0,0,0,0]
["Transfer and subsidies - Operational",null,47020000,817395.70000000007,3475182.28,495416.36,1295867.79,53295225.470000006,0,1423493.31,40923399.18,12468537.636666667,12468537.636666667,12468537.636666685,186151593,186151593,176434180.30434781,184627286.47826087]
["Interest",null,285315.61,286968.15999999997,284365.78000000003,279839.59000000003,309512.75,295945.3,297868.17,291123.21999999997,251040.27,365673.71666666662,365673.71666666662,365673.71666666633,3679000,3679000,4758930,4877903]
["Fuel Levy",null,0,0,0,0,0,0,0,0,0,0,0,0,0,0,0,0]
["Operational Revenue",null,774932.15,502645.35000000003,494319.24,525469.64,489386.51,483209.08999999997,776560.81,653644.78,434742.94999999995,437363.15999999986,437363.15999999986,15437363.16,21447000,21447000,12543563,12857153]
["Gains on disposal of Assets",null,0,0,0,0,0,0,0,57683.040000000001,0,18823.653333333332,18823.653333333332,18823.653333333335,114154,114154,119281,122283]
["Other Gains",null,0,0,0,0,0,0,205320.33,0,0,1211559.8899999999,1211559.8899999999,1211559.8900000001,3840000,3840000,5795570,5940459]
["Discontinued Operations",null,0,0,0,0,0,0,0,0,0,0,0,0,0,0,0,0]
["Total Revenue",null,137710769.28999999,50115154.699999996,53767366.409999996,54060600.819999993,51387299.519999996,101957916.02000001,55482965.5,54057896.32,69769054.38000001,59548086.013333328,59548086.013333328,115656981.01333335,424247727,863062176,873572685.30434775,898531697.47826087]
[]
["Expenditure By Type"]
["Employee related costs",null,23475270.100000009,24082394.850000005,24160712.049999997,24601713.750000019,25011769.060000002,24533238.119999986,24208037.700000007,24271502.040000003,24040571.230000015,31406657.699999992,31406657.699999992,32497287.699999988,313695812,313695812,330033053,338283901]
["Remuneration of councillors",null,1106378.08,1112901.06,1112881.67,1084019.3799999999,1084019.3799999999,1104520.19,1112869.31,1112869.31,1112293.23,1691542.4633333331,1691542.4633333331,1691542.4633333329,15017379,15017379,15693161,16085489]
["Bulk purchases - electricity",null,299235.40000000002,9875364.75,15256382.289999999,15473638.85,10757868.02,10090843.869999999,10491356.609999999,10381278.42,10145594.68,15478392.370000005,15478392.370000005,15478392.370000005,139206740,139206740,145471043,149107819]
["Inventory consumed",null,477752.5799999999,3162393.2500000009,3197473.91,3143795.5999999992,3868888.5199999996,3395558.0199999991,3074981.9000000013,3097821.5300000003,4451203.5000000009,5990031.7299999995,5990031.7299999995,5990031.7300000042,45839964,45839964,43670378,44762156]
["Debt impairment",null,0,19431860,9715929,222007.74999999936,9715929,9715929,9715929,9715929,5023043.5800000029,12552481.223333333,12552481.223333333,12552481.223333344,110914000,110914000,121837752,124883697]
["Depreciation and amortisation",null,2820114.9800000004,3256772.39,2828385.0100000002,2913048.8600000008,2820095.2299999995,2907122.9300000006,2885603.43,2617227.81,2984467.7399999998,5938234.206666667,5938234.206666667,5938234.2066666633,43847541,43847541,35541317,35511317]
["Interest ",null,1644.81,0,2345192.5399999996,1104516.26,1001851.19,8080279.4100000001,1155724.5599999998,1295018.8399999999,2347933.73,5313812.2200000016,5313812.2200000016,26498812.219999995,54458598,54458598,49690374,50932634]
["Contracted services",null,313955.05000000005,2091838.1899999995,3476988.6999999993,4647989.7200000007,4204098.8899999987,5286608.7300000004,3388703.1200000006,3078170.9399999981,2146903.1100000003,11818340.18333335,11818340.18333335,11818340.1833333,64090277,64090277,63148318,64727051]
["Transfers and subsidies",null,0,0,0,378933.33,0,0,0,9800,694698.33,3488551.78,3488551.78,3488551.7800000012,11549087,11549087,1,1]
["Irrecoverable debts written off",null,0,0,0,8324725.9300000006,0,0,0,0,11236741.279999999,-970487.40333333355,-970487.40333333355,-970487.40333333611,16650005,16650005,5,5]
["Operational costs",null,3922189.3900000006,7176371.629999999,14327342.800000001,8136742.4399999995,6718924.5900000017,8810958.290000001,8749414.7700000014,7264190.7599999998,-9255286.5499999989,10365678.959999999,10365678.959999999,10365678.959999993,null,86947885,98716675,101184598]
["Losses on disposal of Assets",null,0,0,0,0,0,0,0,0,0,21470,21470,21470,null,64410,67308,68991]
["Other Losses",null,0,0,0,0,0,0,0,0,40029.339999999997,1213356.8866666665,1213356.8866666665,1213356.8866666667,3680100,3680100,5795570,5940459]
["Total Expenditure",null,32416540.390000004,70189896.120000005,76421287.969999999,70031131.87000002,65183443.880000003,73925058.559999987,64782620.400000006,62843808.649999999,54968193.200000025,104308062.32000001,104308062.32000001,126583692.31999996,818949503,905961798,909664955,931488118]
[]
["Surplus/(Deficit)",null,105294228.89999999,-20074741.420000009,-22653921.560000002,-15970531.050000027,-13796144.360000007,28032857.460000023,-9299654.900000006,-8785912.3299999982,14800861.179999985,-44759976.30666668,-44759976.30666668,-10926711.306666613,-394701776,-42899622,-36092269.695652246,-32956420.521739125]
[{"$f":"'B4-FinPerf RE'!A54","v":"Transfers and subsidies - capital (monetary allocations)"},null,0,0,5338521.26,6241459.9900000002,1982868.8599999999,6728532.1200000001,0,2670781.64,2666587.23,2135023.3000000003,2135023.3000000003,2135023.299999997,null,32033821,142919999.69565219,146579999.5217391]
[{"$f":"'B4-FinPerf RE'!A55","v":"Transfers and subsidies - capital (in-kind - all) "},null,0,21469.57,0,0,0,0,0,23191.3,6790814.9199999999,24433508.070000004,24433508.070000004,24433508.069999993,null,80136000,0,0]
["Surplus/(Deficit) after capital transfers & contributions",null,105294228.89999999,-20053271.850000009,-17315400.300000004,-9729071.0600000266,-11813275.500000007,34761389.580000021,-9299654.900000006,-6091939.3899999987,24258263.329999983,-18191444.936666675,-18191444.936666675,15641820.063333377,-394701776,69270199,106827729.99999994,113623578.99999997]
[{"$f":"head27a","v":"References"}]
["1. Surplus (Deficit) must reconcile with budget table A4 and monthly budget statement table C4"]
["check",null,{"$f":"C55-'SB13'!C51","v":0},{"$f":"D55-'SB13'!D51","v":0},{"$f":"E55-'SB13'!E51","v":0},{"$f":"F55-'SB13'!F51","v":-2.4214386940002441E-8},{"$f":"G55-'SB13'!G51","v":0},{"$f":"H55-'SB13'!H51","v":0},{"$f":"I55-'SB13'!I51","v":0},{"$f":"J55-'SB13'!J51","v":2.4214386940002441E-8},{"$f":"K55-'SB13'!K51","v":0},{"$f":"L55-'SB13'!L51","v":0},{"$f":"M55-'SB13'!M51","v":0},{"$f":"N55-'SB13'!N51","v":-8.9406967163085938E-8},{"$f":"O55-'SB13'!O51","v":-553213838},{"$f":"P55-'B4-FinPerf RE'!K56","v":0},{"$f":"Q55-'B4-FinPerf RE'!L56","v":0},{"$f":"R55-'B4-FinPerf RE'!M56","v":0}]

{"sheet":"SB15","index":33,"n_rows":60,"n_cols":28,"rows_kept":60,"cut":false,"hidden":false,"merged":[[1,0,2,0],[1,15,1,17],[1,1,2,1],[1,2,1,13]]}
[{"$f":"muni&\" - \"&ADJB15&\" - \"&Date","v":"WC031 Theewaterskloof - Supporting Table SB15 Adjustments Budget - monthly cash flow - 16 April 2026"}]
["Monthly cash flows",{"$f":"head27","v":"Ref"},{"$f":"Head2","v":"Budget Year 2025/26"},null,null,null,null,null,null,null,null,null,null,null,null,{"$f":"Head3a","v":"Medium Term Revenue and Expenditure Framework"}]
[null,null,"July","August","Sept.","October","November","December","January","February","March","April","May","June","Full year budget",{"$f":"Head9","v":"Budget Year 2025/26"},{"$f":"Head10","v":"Budget Year +1 2026/27"},{"$f":"Head11","v":"Budget Year +2 2027/28"}]
["R thousands",null,"Outcome","Outcome","Outcome","Outcome","Outcome","Outcome","Outcome","Outcome","Outcome",{"$f":"Head7","v":"Adjusted Budget"},"Adjusted Budget","Adjusted Budget",null,{"$f":"Head7","v":"Adjusted Budget"},{"$f":"Head7","v":"Adjusted Budget"},{"$f":"Head7","v":"Adjusted Budget"}]
["Cash Receipts By Source",1]
["Property rates",null,9793221.1399999931,11928311.939999999,10721008.059999999,41943381.5,14096260.559999989,11779164.92,11030610.740000002,12221351.189999999,13150542.940000003,9541683.6700000074,9541683.6700000074,9541683.6699999869,165288904,165288904,175071117.05599999,179447894.208,"Property rates",null,164589972.273,{"$f":"P6-U6","v":698931.72699999809}]
["Service charges - electricity revenue",null,15315459.919999998,16224733.779999997,17018355.23,14149728.599999998,13788387.320000008,15236626.930000015,13639724.669999998,13128381.079999996,9123477.0499999896,12441864.473333338,12441864.473333338,12441864.473333359,164950468,164950468,176584757.19,180999374.52399999,"Service charges",null,165826084.125,{"$f":"P7-U7","v":-875616.125}]
["Service charges - water revenue",null,4895322.3900000006,7437758.7300000004,8632300.5300000012,7929504.9600000009,8727846.9800000004,9043081.4400000013,9355616.0400000028,12429124.529999999,3081824.76,5447162.2133333283,5447162.2133333283,5447162.2133333385,87873867,87873867,82286053.770000011,84343204.556999996,"Service charges",null,76856490.359999999,11017376.640000001]
["Service charges - sanitation revenue",null,1476752.63,5605926.4900000002,2931903.0600000005,1551027.7700000005,4986805.2300000004,2156546.6500000004,2184253.6899999995,7314819.9799999893,3879334.74,1022709.9200000042,1022709.9200000042,1022709.9200000018,35155500,35155500,36553665.629999995,37467507.149999999,"Service charges",null,35117604.899999999,37895.10000000149]
["Service charges - refuse",null,2289062.8600000003,2706976.2199999997,3111671.71,2042778.7200000004,2632927.2499999898,2527968.7199999997,2945279.2800000003,4590443.6700000074,6661815.2299999902,802700.44666667155,802700.44666667155,802700.4466666691,31917025.000000004,31917025.000000004,33292984.267999999,34125308.942000002,"Service charges",null,29930749.800000001,1986275.200000003]
[null,null,null,0,null,0,null,0,null,null,null,0,0,null,null,0,0,0,null,null,0,0]
["Rental of facilities and equipment",null,186888.82,132393.22999999998,145716.82,152462.09,148853.91000000015,196574.14,169495.16,183022.42000000013,208469.19,184041.40666666659,184041.40666666659,184041.40666666673,2076000,2076000,2169420,2223656,"Other revenue",null,2076000,0]
["Interest earned - external investments",null,0,253855.53,236946.80000000002,331815.89,138117.93,118176.6,207780.94,526976.72,141593.98000000001,448245.20333333337,448245.20333333337,448245.20333333313,3300000,3300000,6446677,6607844,"Interest",null,6169069,-2869069]
["Interest earned - outstanding debtors",null,324130.01,338268.55999999982,491822.30999999959,87631.970000009984,525974.95000006026,2416995.36,236983.63000000967,315036.27000000048,799797.09999999008,-863619.38666669,-863619.38666669,-863619.38666669,2945782,2945782,3299138.1500000004,3381616.6159999999,"Interest",null,3221500,-275718]
["Dividends received",null,0,0,0,0,0,0,0,0,0,0,0,0,0,0,0,0,"Other revenue",null,0,0]
["Fines, penalties and forfeits",null,479247.82,695219.39,780250.26,795050.2,781201.3,543220.1,682180.7,710464.2,858559.89,425490.83066666656,425490.83066666656,425490.83066666592,7601866.351999999,7601866.351999999,4821749.2589999996,4827667.5889999997,"Other revenue",null,4171868.55,3429997.8019999992]
["Licences and permits",null,2293.04,4515.6400000000003,2981.72,8111.29,9410.51,7086.04,6841.72,10959.99,14673.1,3042.3166666666657,3042.3166666666657,3042.3166666666657,76000,76000,79420,81405,"Other revenue",null,76000,0]
["Agency services",null,9286.2999999999993,6335.46,1532867.42,1863250.3599999999,769886.7300000001,10710.36,1120826.6299999999,1010443.3299999998,440006.81,551264.53333333356,551264.53333333356,551264.53333333414,8417407,8417407,8796190,9016094,"Other revenue",null,8417407,0]
["Transfers and Subsidies - Operational",null,47868348,5819000,0,9800,4292730,50020470,113000,3762634.29,49313313.25,0,0,-858413.54000002146,160340882,160340882,176434180.30434781,184627285.47826087,"Transfers and Subsidies - Operational",null,166496583,-6155701]
["Other revenue",null,1241182.49,1083607.4500000002,1741171.76,2206820.0100000002,3446.2200000102166,1187790.3999999999,4379881.99,-4345218.6500000097,-1160695.75999997,7845837.3633333221,7845837.3633333221,7845837.3633333221,29875498,29875498,38321519,39279559,"Other revenue",null,41476983.109999999,-11601485.109999999]
["Cash Receipts by Source",null,83881195.419999987,52236902.420000002,47346995.68,73071363.360000014,50901848.890000068,95244411.660000026,46072475.190000013,51858439.019999988,86512712.280000001,37850422.99066665,37850422.99066665,36992009.450666636,699819199.352,699819199.352,744156871.62734783,766428417.06426072,null,null,704426312.11800003,-4607112.7660000324]
[null,null,null,null,null,null,null,null,null,null,null,null,null,null,null,null,null,null,null,null,null,0]
["Other Cash Flows by Source"]
["Transfers and subsidies - capital (monetary allocations) (National / Provincial and District)",null,5655652,0,0,8650000,0,8490000,0,0,7691739,3.3527612686157227E-8,null,6.7055225372314453E-8,30487391.000000101,30487391.000000101,142919999.69565219,146579999.5217391,"Transfers and Subsidies - Capital",null,72237391,{"$f":"P24-U24","v":-41749999.999999896}]
["Transfers and subsidies - capital (monetary allocations) (Nat / Prov Departm Agencies, Households, Non-profit Institutions, Private Enterprises, Public Corporatons, Higher Educ Institutions)",null,0,0,0,0,0,0,null,null,null,null,null,0,0,0,0,0,null,null,0,0]
["Proceeds on Disposal of Fixed and Intangible Assets",null,0,0,0,0,0,0,null,57683.040000000001,null,null,null,-7939.0400000000009,49744,49744,51973,53292,"Proceeds on disposal of PPE",null,49754,-10]
["Short term loans",null,0,0,0,0,0,0,null,null,null,null,null,0,0,0,0,0,null,null,0,0]
["Borrowing long term/refinancing",null,0,0,0,0,0,0,null,null,null,null,null,0,null,0,0,0,"Borrowing long term/refinancing",null,10000000,-10000000]
["Increase (decrease) in consumer deposits",null,55011.92,49351.71,66415,43640.469999999899,47228.910000000098,65172.52,35636.5,26514.01,120944.32000000001,-55590.237833333107,-55590.237833333107,-55590.237833333143,null,343144.64650000073,360301.87882500049,378316.97276625037,"Increase (decrease) in consumer deposits",null,390796.18221600074,-47651.535716000013]
["VAT Control (receipts)",null,0,0,0,0,0,0,null,null,null,null,null,0,null,0,0,0,null,null,0,0]
["Decrease (increase) in non-current receivables",null,0,0,0,0,0,0,null,null,null,null,null,0,null,0,0,0,null,null,0,0]
["Decrease (increase) in non-current investments",null,0,0,0,0,0,0,null,null,null,null,null,0,null,0,0,0,"Decrease (increase) in non-current investments",null,-691905.36959999986,691905.36959999986]
["Total Cash Receipts by Source",null,89591859.339999989,52286254.130000003,47413410.68,81765003.830000013,50949077.800000064,103799584.18000002,46108111.690000013,51942636.069999985,94325395.599999994,37794832.752833351,37794832.752833314,36928480.172833368,730356334.35200012,730699478.99850011,887489146.2018249,913440025.55876613,null,null,786412347.93061602]
[]
["Cash Payments by Type"]
["Employee related costs",null,23749136.81000001,24351303.000000004,24424217.599999998,24866269.300000019,24929008.610000003,24794079.369999986,24486475.800000008,24545551.690000005,24317864.880000021,31140185.074999969,31140185.074999969,31140185.074999988,313884462.28499997,313884462.28499997,331084565.79925001,340597223.9392125,"Suppliers and employees",null,314936604.01437998,{"$f":"P36-U36","v":-1052141.7293800116}]
["Remuneration of councillors",null,1106378.08,1112901.06,1112881.67,1084019.3799999999,1084019.3799999999,1104520.19,1112869.31,1112869.31,1112293.23,1691542.4633333329,1691542.4633333329,1691542.4633333329,15017379,15017379,15693161,16085489,"Suppliers and employees",null,15017379,0]
["Finance charges",null,3203202.73,0,2345192.5399999996,1104516.26,1001851.19,8080279.4100000001,1155724.5599999998,1295018.8399999999,2347933.73,4246626.2466666671,4246626.2466666671,4246626.2466666698,33273598,33273598,25365909,26000057,"Finance charges",null,24273598,9000000,null,"Interest ","Annuity Loans",{"$f":"SUMIFS(#REF!,#REF!,'SB15'!$X38,#REF!,'SB15'!$Y38)","v":{"$error":"#REF!"}},{"$f":"SUMIFS(#REF!,#REF!,'SB15'!$X38,#REF!,'SB15'!$Y38)","v":{"$error":"#REF!"}},{"$f":"SUMIFS(#REF!,#REF!,'SB15'!$X38,#REF!,'SB15'!$Y38)","v":{"$error":"#REF!"}}]
["Bulk purchases - Electricity",2,7037491.4700000007,9875364.75,15256382.289999999,15473638.85,10757868.02,10090843.869999999,10491356.609999999,10381278.42,10145594.68,10315531.848398617,10315531.848398617,10315531.848398626,130456414.50519586,130456414.50519586,142601618.42674229,147441958.58075881,"Suppliers and employees",null,139206740,-8750325.4948041439,null,"Interest ","Bank Ovedraft",{"$f":"SUMIFS(#REF!,#REF!,'SB15'!$X39,#REF!,'SB15'!$Y39)","v":{"$error":"#REF!"}},{"$f":"SUMIFS(#REF!,#REF!,'SB15'!$X39,#REF!,'SB15'!$Y39)","v":{"$error":"#REF!"}},{"$f":"SUMIFS(#REF!,#REF!,'SB15'!$X39,#REF!,'SB15'!$Y39)","v":{"$error":"#REF!"}}]
["Acquisitions - water & other inventory",3,465129.58999999985,2968128.1900000009,3136130.12,3144817.0599999991,4072866.4699999993,3349141.4299999997,3004253.2400000012,3132010.1999999993,4108605.3000000007,5217111.6363516999,5217111.6363516999,5217111.6363516971,43032416.5090551,43032416.5090551,44664177.850070454,44262056.528160572,"Suppliers and employees",null,41789812,1242604.5090551004,null,"Interest ","Landfill Sites",{"$f":"SUMIFS(#REF!,#REF!,'SB15'!$X40,#REF!,'SB15'!$Y40)","v":{"$error":"#REF!"}},{"$f":"SUMIFS(#REF!,#REF!,'SB15'!$X40,#REF!,'SB15'!$Y40)","v":{"$error":"#REF!"}},{"$f":"SUMIFS(#REF!,#REF!,'SB15'!$X40,#REF!,'SB15'!$Y40)","v":{"$error":"#REF!"}}]
[null,null,null,0,null,0,null,0,null,null,null,0,0,null,null,null,null,null,null,null,null,0,null,null,null,null,{"$f":"SUMIFS(#REF!,#REF!,'SB15'!$X41,#REF!,'SB15'!$Y41)","v":{"$error":"#REF!"}},{"$f":"SUMIFS(#REF!,#REF!,'SB15'!$X41,#REF!,'SB15'!$Y41)","v":{"$error":"#REF!"}}]
["Contracted services",null,8928003.1600000001,2091838.1899999995,3476988.6999999988,4647989.7200000007,4204098.8899999987,5286608.7300000014,3388703.12,3078170.9399999981,2146903.1100000008,4369455.3209351422,4369455.3209351422,4369455.3209351376,null,50357670.522805423,63579791.429941252,64003897.080910698,"Suppliers and employees",null,60448978,-10091307.477194577,null,"Interest ","Overdue Accounts",{"$f":"SUMIFS(#REF!,#REF!,'SB15'!$X42,#REF!,'SB15'!$Y42)","v":{"$error":"#REF!"}},{"$f":"SUMIFS(#REF!,#REF!,'SB15'!$X42,#REF!,'SB15'!$Y42)","v":{"$error":"#REF!"}},{"$f":"SUMIFS(#REF!,#REF!,'SB15'!$X42,#REF!,'SB15'!$Y42)","v":{"$error":"#REF!"}}]
["Transfers and grants - other municipalities",null,0,0,0,0,0,0,0,0,0,0,0,0,0,0,0,0,"Transfers and Subsidies",null,0,0,null,"Interest ","PEMA",{"$f":"SUMIFS(#REF!,#REF!,'SB15'!$X43,#REF!,'SB15'!$Y43)","v":{"$error":"#REF!"}},{"$f":"SUMIFS(#REF!,#REF!,'SB15'!$X43,#REF!,'SB15'!$Y43)","v":{"$error":"#REF!"}},{"$f":"SUMIFS(#REF!,#REF!,'SB15'!$X43,#REF!,'SB15'!$Y43)","v":{"$error":"#REF!"}}]
["Transfers and grants - other",null,0,0,0,378933.33,0,0,0,9800,694698.33,3488551.78,3488551.78,3488551.7800000012,null,11549087,1,1,"Transfers and Subsidies",null,12208383.41,-659296.41000000015,null,"Interest ","LSA",{"$f":"SUMIFS(#REF!,#REF!,'SB15'!$X44,#REF!,'SB15'!$Y44)","v":{"$error":"#REF!"}},{"$f":"SUMIFS(#REF!,#REF!,'SB15'!$X44,#REF!,'SB15'!$Y44)","v":{"$error":"#REF!"}},{"$f":"SUMIFS(#REF!,#REF!,'SB15'!$X44,#REF!,'SB15'!$Y44)","v":{"$error":"#REF!"}}]
["Other expenditure",null,52563304.940000005,-10678213.750000123,-11807768.539999995,23360716.140000101,3479277.3200000175,11779340.140000051,18250709.189999931,16145928.090000097,-2985563.8199999994,-8225104.6146941883,-8225104.6146941883,-8225104.6146941781,75432415.865917504,75432415.865917504,101971853.5366438,100059709.55221549,"Suppliers and employees",null,72414342.332669586,3018073.5332479179]
["Cash Payments by Type",null,97052646.780000001,29721321.439999875,37944024.379999995,74060900.040000126,49528989.880000018,64484813.140000038,61890091.829999931,59700627.490000099,41888329.44000002,52243899.75599125,52243899.75599125,52243899.755991273,611096686.1651684,673003443.68797374,724961078.04264784,738450392.68125808,null,null,680295836.75704956,-7292393.0690758228]
[]
["Other Cash Flows/Payments by Type"]
["Capital assets",null,4067.78,3149981.02,3319493.9899999998,8234967.8900000006,3427231.47,3635825,2900807.9099999997,233664.94999999995,9462420.5500000007,-195042.04933595657,-195042.04933595657,-195042.04933595657,33783334.411992133,33783334.411992133,136370068.90269196,151886258.5169428,"Capital assets",null,89664751.799652204]
["Repayment of borrowing",null,3858496.09,0,11652185.16,0,0,7115400.2200000035,0,0,3302059.0399999991,2516374.9174118652,2516374.9174118652,2516374.9174118675,33477265.262235597,33477265.262235597,20113593.632987618,15986875.038222259,"Repayment of borrowing",null,21257125.169297472]
["Other Cash Flows/Payments",null,0,0,0,0,0,0,0,null,null,0,0,0,0,0,0,0,null,null,0]
["Total Cash Payments by Type",null,100915210.65000001,32871302.459999874,52915703.530000001,82295867.930000126,52956221.350000016,75236038.360000044,64790899.739999928,59934292.440000102,54652809.030000024,54565232.624067158,54565232.624067158,54565232.624067187,678357285.83939624,740264043.36220145,881444740.57832742,906323526.23642325,null,null,791217713.72599924]
[]
["NET INCREASE/(DECREASE) IN CASH HELD",null,-11323351.310000017,19414951.670000128,-5502292.8500000015,-530864.10000011325,-2007143.5499999523,28563545.819999978,-18682788.049999915,-7991656.3700001165,39672586.56999997,-16770399.871233806,-16770399.871233843,-17636752.451233819,51999048.512603879,-9564564.3637013435,6044405.6234974861,7116499.3223428726,null,null,-4805365.795383215]
["Cash/cash equivalents at the month/year beginning:",null,17624430.360000048,6301079.0500000305,25716030.720000159,20213737.870000158,19682873.770000044,17675730.220000092,46239276.040000066,27556487.990000151,19564831.620000035,59237418.190000005,42467018.318766199,25696618.447532356,null,17624430.360000048,8059865.9962987043,14104271.61979619,null,null,11736430.962450255]
["Cash/cash equivalents at the month/year end:",null,6301079.0500000305,25716030.720000159,20213737.870000158,19682873.770000044,17675730.220000092,46239276.040000066,27556487.990000151,19564831.620000035,59237418.190000005,42467018.318766199,25696618.447532356,8059865.9962985367,null,8059865.9962987043,14104271.61979619,21220770.942139063,null,null,6931065.1670670398]
["References"]
["1. Note that this section of Table SB15 is deliberately not linked to Table B4 because timing differences between the invoicing of clients and receiving the cash means that the cashflow will differ from budgeted revenue, and similarly for budgeted expenditure. ",null,null,null,null,null,null,null,null,null,null,null,null,null,null,{"$f":"P56-'B6-FinPos'!K8","v":0.50662054773420095},{"$f":"Q56-'B6-FinPos'!L8","v":0.50662041641771793},{"$f":"R56-'B6-FinPos'!M8","v":-0.4933798722922802}]
["2. Bulk purchases - Electricity & Waste Water - use detail information from Table SB1",null,null,null,null,null,null,null,null,null,null,null,null,null,null,null,{"$f":"Q58-P58","v":-1.3131648302078247E-7},{"$f":"R58-Q58","v":-1.0000002887099981}]
["3. Acquisition Inventory - Water & other inventory - use detail information from Table SB2"]

{"sheet":"SB16","index":34,"n_rows":45,"n_cols":18,"rows_kept":45,"cut":false,"hidden":false,"merged":[[1,0,2,0],[1,1,2,1]]}
[{"$f":"muni&\" - \"&ADJB16&\" - \"&Date","v":"WC031 Theewaterskloof - Supporting Table SB16 Adjustments Budget - monthly capital expenditure (municipal vote) - 16 April 2026"}]
[{"$f":"desc&\" - Municipal Vote\"","v":"Description - Municipal Vote"},{"$f":"head27","v":"Ref"},{"$f":"Head2","v":"Budget Year 2025/26"},null,null,null,null,null,null,null,null,null,null,null,null,"Medium Term Revenue and Expenditure Framework"]
[null,null,"July","August","Sept.","October","November","December","January","February","March","April","May","June","Full year budget",{"$f":"Head9","v":"Budget Year 2025/26"},{"$f":"Head10","v":"Budget Year +1 2026/27"},{"$f":"Head11","v":"Budget Year +2 2027/28"}]
["R thousands",null,"Outcome","Outcome","Outcome","Outcome","Outcome","Outcome","Outcome","Outcome","Outcome",{"$f":"Head7","v":"Adjusted Budget"},"Adjusted Budget","Adjusted Budget",null,{"$f":"Head7","v":"Adjusted Budget"},{"$f":"Head7","v":"Adjusted Budget"},{"$f":"Head7","v":"Adjusted Budget"}]
["Multi-year expenditure appropriation",1]
[{"$f":"'B5-Capex'!A8","v":"Vote 1 - Directorate Finance"},null,0,0,0,0,0,0,0,0,0,0,0,0,null,0,0,0]
[{"$f":"'B5-Capex'!A9","v":"Vote 2 - Community Services"},null,0,0,0,0,0,1723.96,180990,8133.77,220.06999999997788,228703.06666666665,228703.06666666665,228703.06666666677,null,877177,0,0]
[{"$f":"'B5-Capex'!A10","v":"Vote 3 - Corporate services"},null,0,0,0,0,0,0,0,0,0,0,0,0,null,0,0,0]
[{"$f":"'B5-Capex'!A11","v":"Vote 4 - Electricity"},null,0,0,0,0,0,0,0,0,0,0,0,0,null,0,6000000,6271000]
[{"$f":"'B5-Capex'!A12","v":"Vote 5 - Economic Development and Planning"},null,0,0,0,2659400.3899999997,-60595.200000000012,0,0,0,181253.07,14179227.913333332,14179227.913333332,14179227.913333334,null,45317742,71380000,110200000]
[{"$f":"'B5-Capex'!A13","v":"Vote 6 - Office of the Municipal Manager"},null,0,0,0,0,0,0,0,0,0,0,0,0,null,0,0,0]
[{"$f":"'B5-Capex'!A14","v":"Vote 7 - Housing"},null,0,0,0,0,0,0,0,0,0,0,0,0,null,0,0,0]
[{"$f":"'B5-Capex'!A15","v":"Vote 8 - Technical and Infrastructure Implementation Services"},null,0,0,0,0,0,0,0,0,0,0,0,0,null,0,0,0]
[{"$f":"'B5-Capex'!A16","v":"Vote 9 - Public safety"},null,0,0,0,0,0,0,0,0,0,0,0,0,null,0,0,0]
[{"$f":"'B5-Capex'!A17","v":"Vote 10 - Road transport"},null,0,0,0,0,0,0,0,0,0,0,0,0,null,0,0,0]
[{"$f":"'B5-Capex'!A18","v":"Vote 11 - Sport and recreation"},null,0,0,0,0,0,0,0,0,0,0,0,0,null,0,0,0]
[{"$f":"'B5-Capex'!A19","v":"Vote 12 - Waste management"},null,0,0,0,0,0,0,0,0,0,0,0,0,null,0,0,0]
[{"$f":"'B5-Capex'!A20","v":"Vote 13 - Waste water management"},null,0,156591.53,2222250.2799999998,177477.67,2217872.36,1444457.82,2515784.36,159248.99,2388321.9699999997,1710575.6733333331,1710575.6733333331,1710575.6733333319,null,16413732,21652722.304347821,3608696]
[{"$f":"'B5-Capex'!A21","v":"Vote 14 - Water"},null,0,0,0,0,0,0,0,0,0,433333.33333333331,433333.33333333331,433333.33333333337,null,1300000,0,5351274.5217391299]
[{"$f":"'B5-Capex'!A22","v":"Vote 15 - Directorate Development and Community Services"},null,0,0,0,0,0,0,0,0,0,0,0,0,null,0,0,0]
["Capital Multi-year expenditure sub-total",3,0,156591.53,2222250.2799999998,2836878.0599999996,2157277.1599999997,1446181.78,2696774.36,167382.75999999998,2569795.11,16551839.986666666,16551839.986666666,16551839.986666666,0,63908651,99032722.304347813,125430970.52173913]
[null,null,null,null,null,null,null,null,null,null,null,null,null,null,0]
["Single-year expenditure appropriation"]
[{"$f":"A6","v":"Vote 1 - Directorate Finance"},null,0,30824.89,2344.6,0,4332,0,0,23191.3,2143539.4700000002,119111.24666666667,119111.24666666667,119111.24666666659,null,2561566,0,0]
["Vote 2 - Community Services",null,0,0,0,0,0,0,0,0,0,1666787.3333333337,1666787.3333333337,1666787.3333333326,null,5000362,0,0]
["Vote 3 - Corporate services",null,0,0,0,0,121481.89,188017.78,43029.08,0,16754.32,33572.310000000005,33572.310000000005,33572.31,null,470000,0,0]
["Vote 4 - Electricity",null,0,0,0,0,0,0,0,0,0,0,0,0,null,0,0,0]
["Vote 5 - Economic Development and Planning",null,0,0,0,4159500,72040,714378.14,0,0,4704408.5,8419475.1199999992,8419475.1199999992,8419475.1200000048,null,34908752,36640000,0]
["Vote 6 - Office of the Municipal Manager",null,0,0,0,0,0,0,0,0,0,0,0,0,null,0,0,0]
["Vote 7 - Housing",null,0,0,0,0,0,0,0,0,0,0,0,0,null,0,0,0]
["Vote 8 - Technical and Infrastructure Implementation Services",null,0,0,0,0,0,0,0,0,0,150000,150000,150000,null,450000,0,0]
["Vote 9 - Public safety",null,0,0,0,0,0,0,0,0,0,0,0,0,null,0,0,0]
["Vote 10 - Road transport",null,0,0,0,0,0,0,0,0,0,0,0,0,null,0,0,0]
["Vote 11 - Sport and recreation",null,0,0,0,0,0,0,0,0,0,0,0,0,null,0,0,0]
["Vote 12 - Waste management",null,0,0,0,0,0,0,0,0,0,0,0,0,null,0,0,0]
["Vote 13 - Waste water management",null,0,2959679.45,0,1227950.79,1056052.76,1284326.24,154997.28,33554.36,0,206251.37333333306,206251.37333333306,206251.37333333306,null,7335315,7810969.04565218,7869318.4782608673]
["Vote 14 - Water",null,4067.78,2885.15,1094899.1099999999,10639.04,16047.66,2921.06,6007.19,9536.5300000000007,27923.150000000009,804653.44333333336,804653.44333333336,804653.44333333336,null,3588887,8224221.6500000004,18736711]
["Vote 15 - Directorate Development and Community Services",null,0,0,0,0,0,0,0,0,0,0,0,0,null,0,0,0]
["Capital single-year expenditure sub-total",3,4067.78,2993389.49,1097243.71,5398089.8300000001,1269954.3099999998,2189643.2200000002,204033.55,66282.19,6892625.4400000004,11399850.826666666,11399850.826666666,11399850.82666667,0,54314882,52675190.695652179,26606029.478260867]
["Total Capital Expenditure",2,4067.78,3149981.02,3319493.9899999998,8234967.8899999997,3427231.4699999997,3635825,2900807.9099999997,233664.94999999998,9462420.5500000007,27951690.813333333,27951690.813333333,27951690.813333336,0,118223533,151707913,152037000]
[{"$f":"head27a","v":"References"}]
["1. Table should be completed as either Multi-Year expenditure appropriation or Budget Year and Forward Year estimates"]
["2. Total Capital Expenditure must reconcile to budget table A5 and monthly budget statement table C5"]
[]
["check",null,{"$f":"C40-'SB17'!C26","v":0},{"$f":"D40-'SB17'!D26","v":0},{"$f":"E40-'SB17'!E26","v":0},{"$f":"F40-'SB17'!F26","v":0},{"$f":"G40-'SB17'!G26","v":0},{"$f":"H40-'SB17'!H26","v":0},{"$f":"I40-'SB17'!I26","v":0},{"$f":"J40-'SB17'!J26","v":0},{"$f":"K40-'SB17'!K26","v":0},{"$f":"L40-'SB17'!L26","v":0},{"$f":"M40-'SB17'!M26","v":0},{"$f":"N40-'SB17'!N26","v":0},{"$f":"O40-'B5-Capex'!J42","v":4252213.216521739},{"$f":"P40-'B5-Capex'!K42","v":0},{"$f":"Q40-'B5-Capex'!L42","v":0},{"$f":"R40-'B5-Capex'!M42","v":0}]

{"sheet":"SB17","index":35,"n_rows":31,"n_cols":17,"rows_kept":31,"cut":false,"hidden":false,"merged":[[1,0,2,0],[1,1,2,1],[1,2,1,13]]}
[{"$f":"muni&\" - \"&ADJB17&\" - \"&Date","v":"WC031 Theewaterskloof - Supporting Table SB17 Adjustments Budget - monthly capital expenditure (functional classification) - 16 April 2026"}]
[{"$f":"desc","v":"Description"},{"$f":"head27","v":"Ref"},{"$f":"Head2","v":"Budget Year 2025/26"},null,null,null,null,null,null,null,null,null,null,null,{"$f":"Head3a","v":"Medium Term Revenue and Expenditure Framework"}]
[null,null,"July","August","Sept.","October","November","December","January","February","March","April","May","June",{"$f":"Head9","v":"Budget Year 2025/26"},{"$f":"Head10","v":"Budget Year +1 2026/27"},{"$f":"Head11","v":"Budget Year +2 2027/28"}]
["R thousands",null,"Outcome","Outcome","Outcome","Outcome","Outcome","Outcome","Outcome","Outcome","Outcome",{"$f":"Head7","v":"Adjusted Budget"},"Adjusted Budget","Adjusted Budget","Adjusted Budget","Adjusted Budget","Adjusted Budget"]
["Capital Expenditure - Functional"]
[{"$f":"'B2-FinPerf SC'!A7","v":"Governance and administration"},null,0,30824.89,2344.6,0,125813.89,188017.78,43029.08,23191.3,2160293.79,1669470.89,1669470.89,1669470.8900000006,7581928,0,0]
[{"$f":"'B2-FinPerf SC'!A8","v":"Executive and council"},null,0,0,0,0,0,0,0,0,0,0,0,0,0,0,0]
[{"$f":"'B2-FinPerf SC'!A9","v":"Finance and administration"},null,0,30824.89,2344.6,0,125813.89,188017.78,43029.08,23191.3,2160293.79,1669470.89,1669470.89,1669470.8900000006,7581928,0,0]
[{"$f":"'B2-FinPerf SC'!A10","v":"Internal audit"},null,0,0,0,0,0,0,0,0,0,0,0,0,0,0,0]
[{"$f":"'B2-FinPerf SC'!A11","v":"Community and public safety"},null,0,0,0,6818900.3899999997,11444.799999999988,30581.1,180990,8133.77,4885881.6400000006,22894442.43333333,22894442.43333333,22894442.433333345,80619259,108020000,110200000]
[{"$f":"'B2-FinPerf SC'!A12","v":"Community and social services"},null,0,0,0,0,0,0,0,0,0,133333.33333333334,133333.33333333334,133333.33333333331,400000,0,0]
[{"$f":"'B2-FinPerf SC'!A13","v":"Sport and recreation"},null,0,0,0,0,0,1723.96,180990,8133.77,220.06999999997788,228703.06666666665,228703.06666666665,228703.06666666677,877177,0,0]
[{"$f":"'B2-FinPerf SC'!A14","v":"Public safety"},null,0,0,0,0,0,0,0,0,0,0,0,0,0,0,0]
[{"$f":"'B2-FinPerf SC'!A15","v":"Housing"},null,0,0,0,6818900.3899999997,11444.799999999988,28857.14,0,0,4885661.57,22532406.033333331,22532406.033333331,22532406.033333339,79342082,108020000,110200000]
[{"$f":"'B2-FinPerf SC'!A16","v":"Health"},null,0,0,0,0,0,0,0,0,0,0,0,0,0,0,0]
[{"$f":"'B2-FinPerf SC'!A17","v":"Economic and environmental services"},null,0,0,0,0,0,685521,0,0,0,232963.66666666666,232963.66666666666,232963.66666666674,1384412,0,0]
[{"$f":"'B2-FinPerf SC'!A18","v":"Planning and development"},null,0,0,0,0,0,685521,0,0,0,232963.66666666666,232963.66666666666,232963.66666666674,1384412,0,0]
[{"$f":"'B2-FinPerf SC'!A19","v":"Road transport"},null,0,0,0,0,0,0,0,0,0,0,0,0,0,0,0]
[{"$f":"'B2-FinPerf SC'!A20","v":"Environmental protection"},null,0,0,0,0,0,0,0,0,0,0,0,0,0,0,0]
[{"$f":"'B2-FinPerf SC'!A21","v":"Trading services"},null,4067.78,3119156.13,3317149.3899999997,1416067.5,3289972.7800000003,2731705.12,2676788.8299999996,202339.87999999998,2416245.1199999996,3154813.8233333332,3154813.8233333332,3154813.8233333305,28637934,43687913,41837000]
[{"$f":"'B2-FinPerf SC'!A22","v":"Energy sources"},null,0,0,0,0,0,0,0,0,0,0,0,0,0,6000000,6271000]
[{"$f":"'B2-FinPerf SC'!A23","v":"Water management"},null,4067.78,2885.15,1094899.1099999999,10639.04,16047.66,2921.06,6007.19,9536.5300000000007,27923.150000000009,1237986.7766666668,1237986.7766666668,1237986.7766666668,4888887,8224221.6500000004,24087985.521739129]
[{"$f":"'B2-FinPerf SC'!A24","v":"Waste water management"},null,0,3116270.98,2222250.2799999998,1405428.46,3273925.12,2728784.06,2670781.6399999997,192803.34999999998,2388321.9699999997,1916827.0466666662,1916827.0466666662,1916827.0466666669,23749047,29463691.350000001,11478014.478260867]
[{"$f":"'B2-FinPerf SC'!A25","v":"Waste management"},null,0,0,0,0,0,0,0,0,0,0,0,0,0,0,0]
[{"$f":"'B2-FinPerf SC'!A26","v":"Other"},null,0,0,0,0,0,0,0,0,0,0,0,0,0,0,0]
["Total Capital Expenditure - Functional",null,4067.78,3149981.02,3319493.9899999998,8234967.8899999997,3427231.47,3635825,2900807.9099999997,233664.94999999998,9462420.5500000007,27951690.813333333,27951690.813333333,27951690.813333344,118223533,151707913,152037000]
[{"$f":"head27a","v":"References"}]
["1. Table should be completed as either Multi-Year expenditure appropriation or Budget Year and Forward Year estimates"]
["2. Total Capital Expenditure must reconcile to the 'Financial Position' budget and monthly budget statement"]
[]
["check",null,{"$f":"C26-'SB16'!C40","v":0},{"$f":"D26-'SB16'!D40","v":0},{"$f":"E26-'SB16'!E40","v":0},{"$f":"F26-'SB16'!F40","v":0},{"$f":"G26-'SB16'!G40","v":0},{"$f":"H26-'SB16'!H40","v":0},{"$f":"I26-'SB16'!I40","v":0},{"$f":"J26-'SB16'!J40","v":0},{"$f":"K26-'SB16'!K40","v":0},{"$f":"L26-'SB16'!L40","v":0},{"$f":"M26-'SB16'!M40","v":0},{"$f":"N26-'SB16'!N40","v":0},{"$f":"O26-'B5-Capex'!K65","v":0},{"$f":"P26-'B5-Capex'!L65","v":0},{"$f":"Q26-'B5-Capex'!M65","v":0}]

{"sheet":"SB18a","index":36,"n_rows":191,"n_cols":22,"rows_kept":191,"cut":false,"hidden":false,"merged":[[1,0,3,0],[185,0,185,12],[187,0,187,12],[180,0,180,12],[181,0,181,9],[182,0,182,9],[183,0,183,12],[1,2,1,10],[1,1,3,1]]}
[{"$f":"muni&\" - \"&ADJB18a&\" - \"&Date","v":"WC031 Theewaterskloof - Supporting Table SB18a Adjustments Budget - capital expenditure on new assets by asset class - 16 April 2026"}]
[{"$f":"desc","v":"Description"},{"$f":"head27","v":"Ref"},{"$f":"Head2","v":"Budget Year 2025/26"},null,null,null,null,null,null,null,null,{"$f":"Head10","v":"Budget Year +1 2026/27"},{"$f":"Head11","v":"Budget Year +2 2027/28"}]
[null,null,{"$f":"Head6","v":"Original Budget"},{"$f":"Head54","v":"Prior Adjusted"},{"$f":"Head51","v":"Accum. Funds"},{"$f":"Head52","v":"Multi-year capital"},{"$f":"Head53","v":"Unfore. Unavoid."},{"$f":"Head55","v":"Nat. or Prov. Govt"},{"$f":"Head50","v":"Other Adjusts."},{"$f":"Head56","v":"Total Adjusts."},{"$f":"Head7","v":"Adjusted Budget"},{"$f":"Head7","v":"Adjusted Budget"},{"$f":"Head7","v":"Adjusted Budget"},null,null,null,null,null,null,null,null,"Adjusted Budget"]
[null,null,null,7,8,9,10,11,12,13,14,null,null,null,null,null,null,null,null,null,null,14]
["R thousands",null,"A","A1","B","C","D","E","F","G","H",null,null,null,null,null,null,null,null,null,null,"H"]
["Capital expenditure on new assets by Asset Class/Sub-class"]
[]
["Infrastructure",null,45288340.073999994,80001777,0,0,0,0,-659695,-659695,79342082,114020000,116471000,null,null,null,null,null,null,null,null,80001777]
["Roads Infrastructure",null,45288340.073999994,78724340,0,0,0,0,617742,617742,79342082,108020000,110200000,null,null,null,null,null,null,null,null,78724340]
["Roads",null,45288340.073999994,78724340,0,0,0,0,617742,617742,79342082,108020000,110200000,null,null,null,null,null,null,null,null,78724340]
["Road Structures",null,0,0,0,0,0,0,0,0,0,0,0,null,null,null,null,null,null,null,null,0]
["Road Furniture",null,0,0,0,0,0,0,0,0,0,0,0,null,null,null,null,null,null,null,null,0]
["Capital Spares",null,0,0,0,0,0,0,0,0,0,0,0,null,null,null,null,null,null,null,null,0]
["Storm water Infrastructure",null,0,0,0,0,0,0,0,0,0,0,0,null,null,null,null,null,null,null,null,0]
["Drainage Collection",null,0,0,0,0,0,0,0,0,0,0,0,null,null,null,null,null,null,null,null,0]
["Storm water Conveyance",null,0,0,0,0,0,0,0,0,0,0,0,null,null,null,null,null,null,null,null,0]
["Attenuation",null,0,0,0,0,0,0,0,0,0,0,0,null,null,null,null,null,null,null,null,0]
["Electrical Infrastructure",null,0,1277437,0,0,0,0,-1277437,-1277437,0,6000000,6271000,null,null,null,null,null,null,null,null,1277437]
["Power Plants",null,0,0,0,0,0,0,0,0,0,0,0,null,null,null,null,null,null,null,null,0]
["HV Substations",null,0,0,0,0,0,0,0,0,0,0,0,null,null,null,null,null,null,null,null,0]
["HV Switching Station",null,0,0,0,0,0,0,0,0,0,0,0,null,null,null,null,null,null,null,null,0]
["HV Transmission Conductors",null,0,0,0,0,0,0,0,0,0,0,0,null,null,null,null,null,null,null,null,0]
["MV Substations",null,0,0,0,0,0,0,0,0,0,0,0,null,null,null,null,null,null,null,null,0]
["MV Switching Stations",null,0,0,0,0,0,0,0,0,0,0,0,null,null,null,null,null,null,null,null,0]
["MV Networks",null,0,0,0,0,0,0,0,0,0,0,0,null,null,null,null,null,null,null,null,0]
["LV Networks",null,0,1277437,0,0,0,0,-1277437,-1277437,0,6000000,6271000,null,null,null,null,null,null,null,null,1277437]
["Capital Spares",null,0,0,0,0,0,0,0,0,0,0,0,null,null,null,null,null,null,null,null,0]
["Water Supply Infrastructure",null,0,0,0,0,0,0,0,0,0,0,0,null,null,null,null,null,null,null,null,0]
["Dams and Weirs",null,0,0,0,0,0,0,0,0,0,0,0,null,null,null,null,null,null,null,null,0]
["Boreholes",null,0,0,0,0,0,0,0,0,0,0,0,null,null,null,null,null,null,null,null,0]
["Reservoirs",null,0,0,0,0,0,0,0,0,0,0,0,null,null,null,null,null,null,null,null,0]
["Pump Stations",null,0,0,0,0,0,0,0,0,0,0,0,null,null,null,null,null,null,null,null,0]
["Water Treatment Works",null,0,0,0,0,0,0,0,0,0,0,0,null,null,null,null,null,null,null,null,0]
["Bulk Mains",null,0,0,0,0,0,0,0,0,0,0,0,null,null,null,null,null,null,null,null,0]
["Distribution",null,0,0,0,0,0,0,0,0,0,0,0,null,null,null,null,null,null,null,null,0]
["Distribution Points",null,0,0,0,0,0,0,0,0,0,0,0,null,null,null,null,null,null,null,null,0]
["PRV Stations",null,0,0,0,0,0,0,0,0,0,0,0,null,null,null,null,null,null,null,null,0]
["Capital Spares",null,0,0,0,0,0,0,0,0,0,0,0,null,null,null,null,null,null,null,null,0]
["Sanitation Infrastructure",null,0,0,0,0,0,0,0,0,0,0,0,null,null,null,null,null,null,null,null,0]
["Pump Station",null,0,0,0,0,0,0,0,0,0,0,0,null,null,null,null,null,null,null,null,0]
["Reticulation",null,0,0,0,0,0,0,0,0,0,0,0,null,null,null,null,null,null,null,null,0]
["Waste Water Treatment Works",null,0,0,0,0,0,0,0,0,0,0,0,null,null,null,null,null,null,null,null,0]
["Outfall Sewers",null,0,0,0,0,0,0,0,0,0,0,0,null,null,null,null,null,null,null,null,0]
["Toilet Facilities",null,0,0,0,0,0,0,0,0,0,0,0,null,null,null,null,null,null,null,null,0]
["Capital Spares",null,0,0,0,0,0,0,0,0,0,0,0,null,null,null,null,null,null,null,null,0]
["Solid Waste Infrastructure",null,0,0,0,0,0,0,0,0,0,0,0,null,null,null,null,null,null,null,null,0]
["Landfill Sites",null,0,0,0,0,0,0,0,0,0,0,0,null,null,null,null,null,null,null,null,0]
["Waste Transfer Stations",null,0,0,0,0,0,0,0,0,0,0,0,null,null,null,null,null,null,null,null,0]
["Waste Processing Facilities",null,0,0,0,0,0,0,0,0,0,0,0,null,null,null,null,null,null,null,null,0]
["Waste Drop-off Points",null,0,0,0,0,0,0,0,0,0,0,0,null,null,null,null,null,null,null,null,0]
["Waste Separation Facilities",null,0,0,0,0,0,0,0,0,0,0,0,null,null,null,null,null,null,null,null,0]
["Electricity Generation Facilities",null,0,0,0,0,0,0,0,0,0,0,0,null,null,null,null,null,null,null,null,0]
["Capital Spares",null,0,0,0,0,0,0,0,0,0,0,0,null,null,null,null,null,null,null,null,0]
["Rail Infrastructure",null,0,0,0,0,0,0,0,0,0,0,0,null,null,null,null,null,null,null,null,0]
["Rail Lines",null,0,0,0,0,0,0,0,0,0,0,0,null,null,null,null,null,null,null,null,0]
["Rail Structures",null,0,0,0,0,0,0,0,0,0,0,0,null,null,null,null,null,null,null,null,0]
["Rail Furniture",null,0,0,0,0,0,0,0,0,0,0,0,null,null,null,null,null,null,null,null,0]
["Drainage Collection",null,0,0,0,0,0,0,0,0,0,0,0,null,null,null,null,null,null,null,null,0]
["Storm water Conveyance",null,0,0,0,0,0,0,0,0,0,0,0,null,null,null,null,null,null,null,null,0]
["Attenuation",null,0,0,0,0,0,0,0,0,0,0,0,null,null,null,null,null,null,null,null,0]
["MV Substations",null,0,0,0,0,0,0,0,0,0,0,0,null,null,null,null,null,null,null,null,0]
["LV Networks",null,0,0,0,0,0,0,0,0,0,0,0,null,null,null,null,null,null,null,null,0]
["Capital Spares",null,0,0,0,0,0,0,0,0,0,null,null,null,null,null,null,null,null,null,null,0]
["Coastal Infrastructure",null,0,0,0,0,0,0,0,0,0,0,0,null,null,null,null,null,null,null,null,0]
["Sand Pumps",null,0,0,0,0,0,0,0,0,0,0,0,null,null,null,null,null,null,null,null,0]
["Piers",null,0,0,0,0,0,0,0,0,0,0,0,null,null,null,null,null,null,null,null,0]
["Revetments",null,0,0,0,0,0,0,0,0,0,0,0,null,null,null,null,null,null,null,null,0]
["Promenades",null,0,0,0,0,0,0,0,0,0,0,0,null,null,null,null,null,null,null,null,0]
["Capital Spares",null,0,0,0,0,0,0,0,0,0,0,0,null,null,null,null,null,null,null,null,0]
["Information and Communication Infrastructure",null,0,0,0,0,0,0,0,0,0,0,0,null,null,null,null,null,null,null,null,0]
["Data Centres",null,0,0,0,0,0,0,0,0,0,0,0,null,null,null,null,null,null,null,null,0]
["Core Layers",null,0,0,0,0,0,0,0,0,0,0,0,null,null,null,null,null,null,null,null,0]
["Distribution Layers",null,0,0,0,0,0,0,0,0,0,0,0,null,null,null,null,null,null,null,null,0]
["Capital Spares",null,0,0,0,0,0,0,0,0,0,0,0,null,null,null,null,null,null,null,null,0]
[]
["Community Assets",null,0,1550000,0,0,0,0,-1100000,-1100000,450000,0,0,null,null,null,null,null,null,null,null,1550000]
["Community Facilities",null,0,1550000,0,0,0,0,-1100000,-1100000,450000,0,0,null,null,null,null,null,null,null,null,1550000]
["Halls",null,0,0,0,0,0,0,0,0,0,0,0,null,null,null,null,null,null,null,null,0]
["Centres",null,0,0,0,0,0,0,0,0,0,0,0,null,null,null,null,null,null,null,null,0]
["Crèches",null,0,0,0,0,0,0,0,0,0,0,0,null,null,null,null,null,null,null,null,0]
["Clinics/Care Centres",null,0,0,0,0,0,0,0,0,0,0,0,null,null,null,null,null,null,null,null,0]
["Fire/Ambulance Stations",null,0,0,0,0,0,0,0,0,0,0,0,null,null,null,null,null,null,null,null,0]
["Testing Stations",null,0,0,0,0,0,0,0,0,0,0,0,null,null,null,null,null,null,null,null,0]
["Museums",null,0,0,0,0,0,0,0,0,0,0,0,null,null,null,null,null,null,null,null,0]
["Galleries",null,0,0,0,0,0,0,0,0,0,0,0,null,null,null,null,null,null,null,null,0]
["Theatres",null,0,0,0,0,0,0,0,0,0,0,0,null,null,null,null,null,null,null,null,0]
["Libraries",null,0,0,0,0,0,0,0,0,0,0,0,null,null,null,null,null,null,null,null,0]
["Cemeteries/Crematoria",null,0,0,0,0,0,0,0,0,0,0,0,null,null,null,null,null,null,null,null,0]
["Police",null,0,0,0,0,0,0,0,0,0,0,0,null,null,null,null,null,null,null,null,0]
["Purls",null,0,0,0,0,0,0,0,0,0,0,0,null,null,null,null,null,null,null,null,0]
["Public Open Space",null,0,0,0,0,0,0,0,0,0,0,0,null,null,null,null,null,null,null,null,0]
["Nature Reserves",null,0,0,0,0,0,0,0,0,0,0,0,null,null,null,null,null,null,null,null,0]
["Public Ablution Facilities",null,0,0,0,0,0,0,0,0,0,0,0,null,null,null,null,null,null,null,null,0]
["Markets",null,0,0,0,0,0,0,0,0,0,0,0,null,null,null,null,null,null,null,null,0]
["Stalls",null,0,0,0,0,0,0,0,0,0,0,0,null,null,null,null,null,null,null,null,0]
["Abattoirs",null,0,0,0,0,0,0,0,0,0,0,0,null,null,null,null,null,null,null,null,0]
["Airports",null,0,0,0,0,0,0,0,0,0,0,0,null,null,null,null,null,null,null,null,0]
["Taxi Ranks/Bus Terminals",null,0,1550000,0,0,0,0,-1100000,-1100000,450000,0,0,null,null,null,null,null,null,null,null,1550000]
["Capital Spares",null,0,0,0,0,0,0,0,0,0,0,0,null,null,null,null,null,null,null,null,0]
["Sport and Recreation Facilities",null,0,0,0,0,0,0,0,0,0,0,0,null,null,null,null,null,null,null,null,0]
["Indoor Facilities",null,0,0,0,0,0,0,0,0,0,0,0,null,null,null,null,null,null,null,null,0]
["Outdoor Facilities",null,0,0,0,0,0,0,0,0,0,0,0,null,null,null,null,null,null,null,null,0]
["Capital Spares",null,0,0,0,0,0,0,0,0,0,0,0,null,null,null,null,null,null,null,null,0]
[]
["Heritage assets",null,0,0,0,0,0,0,0,0,0,0,0,null,null,null,null,null,null,null,null,0]
["Monuments",null,0,0,0,0,0,0,0,0,0,0,0,null,null,null,null,null,null,null,null,0]
["Historic Buildings",null,0,0,0,0,0,0,0,0,0,0,0,null,null,null,null,null,null,null,null,0]
["Works of Art",null,0,0,0,0,0,0,0,0,0,0,0,null,null,null,null,null,null,null,null,0]
["Conservation Areas",null,0,0,0,0,0,0,0,0,0,0,0,null,null,null,null,null,null,null,null,0]
["Other Heritage",null,0,0,0,0,0,0,0,0,0,0,0,null,null,null,null,null,null,null,null,0]
[]
["Investment properties",null,0,0,0,0,0,0,0,0,0,0,0,null,null,null,null,null,null,null,null,0]
["Revenue Generating",null,0,0,0,0,0,0,0,0,0,0,0,null,null,null,null,null,null,null,null,0]
["Improved Property",null,0,0,0,0,0,0,0,0,0,0,0,null,null,null,null,null,null,null,null,0]
["Unimproved Property",null,0,0,0,0,0,0,0,0,0,0,0,null,null,null,null,null,null,null,null,0]
["Non-revenue Generating",null,0,0,0,0,0,0,0,0,0,0,0,null,null,null,null,null,null,null,null,0]
["Improved Property",null,0,0,0,0,0,0,0,0,0,0,0,null,null,null,null,null,null,null,null,0]
["Unimproved Property",null,0,0,0,0,0,0,0,0,0,0,0,null,null,null,null,null,null,null,null,0]
[]
["Other assets",null,0,0,0,0,0,0,0,0,0,0,0,null,null,null,null,null,null,null,null,0]
["Operational Buildings",null,0,0,0,0,0,0,0,0,0,0,0,null,null,null,null,null,null,null,null,0]
["Municipal Offices",null,0,0,0,0,0,0,0,0,0,0,0,null,null,null,null,null,null,null,null,0]
["Pay/Enquiry Points",null,0,0,0,0,0,0,0,0,0,0,0,null,null,null,null,null,null,null,null,0]
["Building Plan Offices",null,0,0,0,0,0,0,0,0,0,0,0,null,null,null,null,null,null,null,null,0]
["Workshops",null,0,0,0,0,0,0,0,0,0,0,0,null,null,null,null,null,null,null,null,0]
["Yards",null,0,0,0,0,0,0,0,0,0,0,0,null,null,null,null,null,null,null,null,0]
["Stores",null,0,0,0,0,0,0,0,0,0,0,0,null,null,null,null,null,null,null,null,0]
["Laboratories",null,0,0,0,0,0,0,0,0,0,0,0,null,null,null,null,null,null,null,null,0]
["Training Centres",null,0,0,0,0,0,0,0,0,0,0,0,null,null,null,null,null,null,null,null,0]
["Manufacturing Plant",null,0,0,0,0,0,0,0,0,0,0,0,null,null,null,null,null,null,null,null,0]
["Depots",null,0,0,0,0,0,0,0,0,0,0,0,null,null,null,null,null,null,null,null,0]
["Capital Spares",null,0,0,0,0,0,0,0,0,0,0,0,null,null,null,null,null,null,null,null,0]
["Housing",null,0,0,0,0,0,0,0,0,0,0,0,null,null,null,null,null,null,null,null,0]
["Staff Housing",null,0,0,0,0,0,0,0,0,0,0,0,null,null,null,null,null,null,null,null,0]
["Social Housing",null,0,0,0,0,0,0,0,0,0,0,0,null,null,null,null,null,null,null,null,0]
["Capital Spares",null,0,0,0,0,0,0,0,0,0,0,0,null,null,null,null,null,null,null,null,0]
[]
["Biological or Cultivated Assets",null,0,0,0,0,0,0,0,0,0,0,0,null,null,null,null,null,null,null,null,0]
["Biological or Cultivated Assets",null,0,0,0,0,0,0,0,0,0,0,0,null,null,null,null,null,null,null,null,0]
[]
["Intangible Assets",null,0,0,0,0,0,0,0,0,0,0,0,null,null,null,null,null,null,null,null,0]
["Servitudes",null,0,0,0,0,0,0,0,0,0,0,0,null,null,null,null,null,null,null,null,0]
["Licences and Rights",null,0,0,0,0,0,0,0,0,0,0,0,null,null,null,null,null,null,null,null,0]
["Water Rights",null,0,0,0,0,0,0,0,0,0,0,0,null,null,null,null,null,null,null,null,0]
["Effluent Licenses",null,0,0,0,0,0,0,0,0,0,0,0,null,null,null,null,null,null,null,null,0]
["Solid Waste Licenses",null,0,0,0,0,0,0,0,0,0,0,0,null,null,null,null,null,null,null,null,0]
["Computer Software and Applications",null,0,0,0,0,0,0,0,0,0,0,0,null,null,null,null,null,null,null,null,0]
["Load Settlement Software Applications",null,0,0,0,0,0,0,0,0,0,0,0,null,null,null,null,null,null,null,null,0]
["Unspecified",null,0,0,0,0,0,0,0,0,0,0,0,null,null,null,null,null,null,null,null,0]
[null,null,null,null,null,null,null,null,null,null,null,0,0]
["Computer Equipment",null,50000,2470000,0,0,0,0,-233000,-233000,2237000,0,0,null,null,null,null,null,null,null,null,2470000]
["Computer Equipment",null,50000,2470000,0,0,0,0,-233000,-233000,2237000,0,0,null,null,null,null,null,null,null,null,2470000]
[]
["Furniture and Office Equipment",null,374000,414000,0,0,0,0,100566,100566,514566,0,0,null,null,null,null,null,null,null,null,414000]
["Furniture and Office Equipment",null,374000,414000,0,0,0,0,100566,100566,514566,0,0,null,null,null,null,null,null,null,null,414000]
[]
["Machinery and Equipment",null,50000,730000,0,0,0,0,0,0,730000,0,0,null,null,null,null,null,null,null,null,730000]
["Machinery and Equipment",null,50000,730000,0,0,0,0,0,0,730000,0,0,null,null,null,null,null,null,null,null,730000]
[]
["Transport Assets",null,0,0,0,0,0,0,0,0,0,0,0,null,null,null,null,null,null,null,null,0]
["Transport Assets",null,0,0,0,0,0,0,0,0,0,0,0,null,null,null,null,null,null,null,null,0]
[]
["Land",null,0,0,0,0,0,0,0,0,0,0,0,null,null,null,null,null,null,null,null,0]
["Land",null,0,0,0,0,0,0,0,0,0,0,0,null,null,null,null,null,null,null,null,0]
[]
["Zoo's, Marine and Non-biological Animals",null,0,0,0,0,0,0,0,0,0,0,0,null,null,null,null,null,null,null,null,0]
["Zoo's, Marine and Non-biological Animals",null,0,0,0,0,0,0,0,0,0,0,0,null,null,null,null,null,null,null,null,0]
[null,null,0,0,0,0,0,0,0,null,null,0,0]
["Living resources",null,0,0,0,0,0,0,0,0,0,0,0,null,null,null,null,null,null,null,null,0]
["Mature",null,0,0,0,0,0,0,0,0,0,0,0,null,null,null,null,null,null,null,null,0]
["Policing and Protection",null,0,0,0,0,0,0,0,0,0,0,0,null,null,null,null,null,null,null,null,0]
["Zoological plants and animals",null,0,0,0,0,0,0,0,0,0,0,0,null,null,null,null,null,null,null,null,0]
["Immature",null,0,0,0,0,0,0,0,0,0,0,0,null,null,null,null,null,null,null,null,0]
["Policing and Protection",null,0,0,0,0,0,0,0,0,0,0,0,null,null,null,null,null,null,null,null,0]
["Zoological plants and animals",null,0,0,0,0,0,0,0,0,0,0,0,null,null,null,null,null,null,null,null,0]
[]
["Total Capital Expenditure on new assets to be adjusted",1,45762340.073999994,85165777,0,0,0,0,-1892129,-1892129,83273648,114020000,116471000,null,null,null,null,null,null,null,null,85165777]
[]
[{"$f":"head27a","v":"References"}]
["1. Total Capital Expenditure on new assets (SB18a) plus Total Capital Expenditure on renewal of existing assets (SB18b) plus Total Capital Expenditure on upgrading of existing assets (SB18e) must reconcile to total capital expenditure in Budgeted Capital Expenditure"]
["7. Only complete if a previous adjusted budget has been approved in the same financial year. Reflect most recent adjusted budget."]
["8. Additional cash-backed accumulated funds/unspent funds (section 18(1)(b) and section 28(2)(e) MFMA) identified after Original Budget approved and after annual financial statements audited (note: only where underspending could not reasonably be have for"]
["9. Increases of funds approved under section 31 MFMA"]
["10. Adjustments approved in accordance with section 29 MFMA"]
["11. Adjustments to funding allocations from National or Provincial Government"]
["12. Adjusts. = 'Other' Adjustments proposed to be approved; including revenue under-collection (MFMA section 28(2)(a)); additional revenue appropriation on existing programmes (section 28(2))(b); projected savings (section 28(2)(d)); error correction (sec"]
["13. G = B + C + D + E + F"]
["14. Adjusted Budget H = (A or A1) + G"]
[]
[]
["check balance",null,{"$f":"(C177+SB18b!C177+SB18e!C176)-'B5-Capex'!C65","v":0},null,null,null,null,null,null,null,{"$f":"(K177+SB18b!K177+SB18e!K176)-'B5-Capex'!K65","v":0},{"$f":"(L177+SB18b!L177+SB18e!L176)-'B5-Capex'!L65","v":0},{"$f":"(M177+SB18b!M177+SB18e!M176)-'B5-Capex'!M65","v":0},null,null,null,null,null,null,null,null,0]

{"sheet":"SB18b","index":37,"n_rows":191,"n_cols":22,"rows_kept":191,"cut":false,"hidden":false,"merged":[[1,0,3,0],[1,1,3,1],[1,2,1,10],[180,0,180,12],[187,0,187,12],[181,0,181,9],[182,0,182,9],[183,0,183,12],[185,0,185,12]]}
[{"$f":"muni&\" - \"&ADJB18b&\" - \"&Date","v":"WC031 Theewaterskloof - Supporting Table SB18b Adjustments Budget - capital expenditure on renewal of existing assets by asset class - 16 April 2026"}]
[{"$f":"desc","v":"Description"},{"$f":"head27","v":"Ref"},{"$f":"Head2","v":"Budget Year 2025/26"},null,null,null,null,null,null,null,null,{"$f":"Head10","v":"Budget Year +1 2026/27"},{"$f":"Head11","v":"Budget Year +2 2027/28"}]
[null,null,{"$f":"Head6","v":"Original Budget"},{"$f":"Head54","v":"Prior Adjusted"},{"$f":"Head51","v":"Accum. Funds"},{"$f":"Head52","v":"Multi-year capital"},{"$f":"Head53","v":"Unfore. Unavoid."},{"$f":"Head55","v":"Nat. or Prov. Govt"},{"$f":"Head50","v":"Other Adjusts."},{"$f":"Head56","v":"Total Adjusts."},{"$f":"Head7","v":"Adjusted Budget"},{"$f":"Head7","v":"Adjusted Budget"},{"$f":"Head7","v":"Adjusted Budget"},null,null,null,null,null,null,null,null,"Adjusted Budget"]
[null,null,null,7,8,9,10,11,12,13,14,null,null,null,null,null,null,null,null,null,null,14]
["R thousands",null,"A","A1","B","C","D","E","F","G","H",null,null,null,null,null,null,null,null,null,null,"H"]
["Capital expenditure on renewal of existing assets by Asset Class/Sub-class"]
[]
["Infrastructure",null,0,0,0,0,0,0,0,0,0,0,0,null,null,null,null,null,null,null,null,0]
["Roads Infrastructure",null,0,0,0,0,0,0,0,0,0,0,0,null,null,null,null,null,null,null,null,0]
["Roads",null,0,0,0,0,0,0,0,0,0,0,0,null,null,null,null,null,null,null,null,0]
["Road Structures",null,0,0,0,0,0,0,0,0,0,0,0,null,null,null,null,null,null,null,null,0]
["Road Furniture",null,0,0,0,0,0,0,0,0,0,0,0,null,null,null,null,null,null,null,null,0]
["Capital Spares",null,0,0,0,0,0,0,0,0,0,0,0,null,null,null,null,null,null,null,null,0]
["Storm water Infrastructure",null,0,0,0,0,0,0,0,0,0,0,0,null,null,null,null,null,null,null,null,0]
["Drainage Collection",null,0,0,0,0,0,0,0,0,0,0,0,null,null,null,null,null,null,null,null,0]
["Storm water Conveyance",null,0,0,0,0,0,0,0,0,0,0,0,null,null,null,null,null,null,null,null,0]
["Attenuation",null,0,0,0,0,0,0,0,0,0,0,0,null,null,null,null,null,null,null,null,0]
["Electrical Infrastructure",null,0,0,0,0,0,0,0,0,0,0,0,null,null,null,null,null,null,null,null,0]
["Power Plants",null,0,0,0,0,0,0,0,0,0,0,0,null,null,null,null,null,null,null,null,0]
["HV Substations",null,0,0,0,0,0,0,0,0,0,0,0,null,null,null,null,null,null,null,null,0]
["HV Switching Station",null,0,0,0,0,0,0,0,0,0,0,0,null,null,null,null,null,null,null,null,0]
["HV Transmission Conductors",null,0,0,0,0,0,0,0,0,0,0,0,null,null,null,null,null,null,null,null,0]
["MV Substations",null,0,0,0,0,0,0,0,0,0,0,0,null,null,null,null,null,null,null,null,0]
["MV Switching Stations",null,0,0,0,0,0,0,0,0,0,0,0,null,null,null,null,null,null,null,null,0]
["MV Networks",null,0,0,0,0,0,0,0,0,0,0,0,null,null,null,null,null,null,null,null,0]
["LV Networks",null,0,0,0,0,0,0,0,0,0,0,0,null,null,null,null,null,null,null,null,0]
["Capital Spares",null,0,0,0,0,0,0,0,0,0,0,0,null,null,null,null,null,null,null,null,0]
["Water Supply Infrastructure",null,0,0,0,0,0,0,0,0,0,0,0,null,null,null,null,null,null,null,null,0]
["Dams and Weirs",null,0,0,0,0,0,0,0,0,0,0,0,null,null,null,null,null,null,null,null,0]
["Boreholes",null,0,0,0,0,0,0,0,0,0,0,0,null,null,null,null,null,null,null,null,0]
["Reservoirs",null,0,0,0,0,0,0,0,0,0,0,0,null,null,null,null,null,null,null,null,0]
["Pump Stations",null,0,0,0,0,0,0,0,0,0,0,0,null,null,null,null,null,null,null,null,0]
["Water Treatment Works",null,0,0,0,0,0,0,0,0,0,0,0,null,null,null,null,null,null,null,null,0]
["Bulk Mains",null,0,0,0,0,0,0,0,0,0,0,0,null,null,null,null,null,null,null,null,0]
["Distribution",null,0,0,0,0,0,0,0,0,0,0,0,null,null,null,null,null,null,null,null,0]
["Distribution Points",null,0,0,0,0,0,0,0,0,0,0,0,null,null,null,null,null,null,null,null,0]
["PRV Stations",null,0,0,0,0,0,0,0,0,0,0,0,null,null,null,null,null,null,null,null,0]
["Capital Spares",null,0,0,0,0,0,0,0,0,0,0,0,null,null,null,null,null,null,null,null,0]
["Sanitation Infrastructure",null,0,0,0,0,0,0,0,0,0,0,0,null,null,null,null,null,null,null,null,0]
["Pump Station",null,0,0,0,0,0,0,0,0,0,0,0,null,null,null,null,null,null,null,null,0]
["Reticulation",null,0,0,0,0,0,0,0,0,0,0,0,null,null,null,null,null,null,null,null,0]
["Waste Water Treatment Works",null,0,0,0,0,0,0,0,0,0,0,0,null,null,null,null,null,null,null,null,0]
["Outfall Sewers",null,0,0,0,0,0,0,0,0,0,0,0,null,null,null,null,null,null,null,null,0]
["Toilet Facilities",null,0,0,0,0,0,0,0,0,0,0,0,null,null,null,null,null,null,null,null,0]
["Capital Spares",null,0,0,0,0,0,0,0,0,0,0,0,null,null,null,null,null,null,null,null,0]
["Solid Waste Infrastructure",null,0,0,0,0,0,0,0,0,0,0,0,null,null,null,null,null,null,null,null,0]
["Landfill Sites",null,0,0,0,0,0,0,0,0,0,0,0,null,null,null,null,null,null,null,null,0]
["Waste Transfer Stations",null,0,0,0,0,0,0,0,0,0,0,0,null,null,null,null,null,null,null,null,0]
["Waste Processing Facilities",null,0,0,0,0,0,0,0,0,0,0,0,null,null,null,null,null,null,null,null,0]
["Waste Drop-off Points",null,0,0,0,0,0,0,0,0,0,0,0,null,null,null,null,null,null,null,null,0]
["Waste Separation Facilities",null,0,0,0,0,0,0,0,0,0,0,0,null,null,null,null,null,null,null,null,0]
["Electricity Generation Facilities",null,0,0,0,0,0,0,0,0,0,0,0,null,null,null,null,null,null,null,null,0]
["Capital Spares",null,0,0,0,0,0,0,0,0,0,0,0,null,null,null,null,null,null,null,null,0]
["Rail Infrastructure",null,0,0,0,0,0,0,0,0,0,0,0,null,null,null,null,null,null,null,null,0]
["Rail Lines",null,0,0,0,0,0,0,0,0,0,0,0,null,null,null,null,null,null,null,null,0]
["Rail Structures",null,0,0,0,0,0,0,0,0,0,0,0,null,null,null,null,null,null,null,null,0]
["Rail Furniture",null,0,0,0,0,0,0,0,0,0,0,0,null,null,null,null,null,null,null,null,0]
["Drainage Collection",null,0,0,0,0,0,0,0,0,0,0,0,null,null,null,null,null,null,null,null,0]
["Storm water Conveyance",null,0,0,0,0,0,0,0,0,0,0,0,null,null,null,null,null,null,null,null,0]
["Attenuation",null,0,0,0,0,0,0,0,0,0,0,0,null,null,null,null,null,null,null,null,0]
["MV Substations",null,0,0,0,0,0,0,0,0,0,0,0,null,null,null,null,null,null,null,null,0]
["LV Networks",null,0,0,0,0,0,0,0,0,0,0,0,null,null,null,null,null,null,null,null,0]
["Capital Spares",null,0,0,0,0,0,0,0,0,0,0,0,null,null,null,null,null,null,null,null,0]
["Coastal Infrastructure",null,0,0,0,0,0,0,0,0,0,0,0,null,null,null,null,null,null,null,null,0]
["Sand Pumps",null,0,0,0,0,0,0,0,0,0,0,0,null,null,null,null,null,null,null,null,0]
["Piers",null,0,0,0,0,0,0,0,0,0,0,0,null,null,null,null,null,null,null,null,0]
["Revetments",null,0,0,0,0,0,0,0,0,0,0,0,null,null,null,null,null,null,null,null,0]
["Promenades",null,0,0,0,0,0,0,0,0,0,0,0,null,null,null,null,null,null,null,null,0]
["Capital Spares",null,0,0,0,0,0,0,0,0,0,0,0,null,null,null,null,null,null,null,null,0]
["Information and Communication Infrastructure",null,0,0,0,0,0,0,0,0,0,0,0,null,null,null,null,null,null,null,null,0]
["Data Centres",null,0,0,0,0,0,0,0,0,0,0,0,null,null,null,null,null,null,null,null,0]
["Core Layers",null,0,0,0,0,0,0,0,0,0,0,0,null,null,null,null,null,null,null,null,0]
["Distribution Layers",null,0,0,0,0,0,0,0,0,0,0,0,null,null,null,null,null,null,null,null,0]
["Capital Spares",null,0,0,0,0,0,0,0,0,0,0,0,null,null,null,null,null,null,null,null,0]
[]
["Community Assets",null,0,0,0,0,0,0,0,0,0,0,0,null,null,null,null,null,null,null,null,0]
["Community Facilities",null,0,0,0,0,0,0,0,0,0,0,0,null,null,null,null,null,null,null,null,0]
["Halls",null,0,0,0,0,0,0,0,0,0,0,0,null,null,null,null,null,null,null,null,0]
["Centres",null,0,0,0,0,0,0,0,0,0,0,0,null,null,null,null,null,null,null,null,0]
["Crèches",null,0,0,0,0,0,0,0,0,0,0,0,null,null,null,null,null,null,null,null,0]
["Clinics/Care Centres",null,0,0,0,0,0,0,0,0,0,0,0,null,null,null,null,null,null,null,null,0]
["Fire/Ambulance Stations",null,0,0,0,0,0,0,0,0,0,0,0,null,null,null,null,null,null,null,null,0]
["Testing Stations",null,0,0,0,0,0,0,0,0,0,0,0,null,null,null,null,null,null,null,null,0]
["Museums",null,0,0,0,0,0,0,0,0,0,0,0,null,null,null,null,null,null,null,null,0]
["Galleries",null,0,0,0,0,0,0,0,0,0,0,0,null,null,null,null,null,null,null,null,0]
["Theatres",null,0,0,0,0,0,0,0,0,0,0,0,null,null,null,null,null,null,null,null,0]
["Libraries",null,0,0,0,0,0,0,0,0,0,0,0,null,null,null,null,null,null,null,null,0]
["Cemeteries/Crematoria",null,0,0,0,0,0,0,0,0,0,0,0,null,null,null,null,null,null,null,null,0]
["Police",null,0,0,0,0,0,0,0,0,0,0,0,null,null,null,null,null,null,null,null,0]
["Purls",null,0,0,0,0,0,0,0,0,0,0,0,null,null,null,null,null,null,null,null,0]
["Public Open Space",null,0,0,0,0,0,0,0,0,0,0,0,null,null,null,null,null,null,null,null,0]
["Nature Reserves",null,0,0,0,0,0,0,0,0,0,0,0,null,null,null,null,null,null,null,null,0]
["Public Ablution Facilities",null,0,0,0,0,0,0,0,0,0,0,0,null,null,null,null,null,null,null,null,0]
["Markets",null,0,0,0,0,0,0,0,0,0,0,0,null,null,null,null,null,null,null,null,0]
["Stalls",null,0,0,0,0,0,0,0,0,0,0,0,null,null,null,null,null,null,null,null,0]
["Abattoirs",null,0,0,0,0,0,0,0,0,0,0,0,null,null,null,null,null,null,null,null,0]
["Airports",null,0,0,0,0,0,0,0,0,0,0,0,null,null,null,null,null,null,null,null,0]
["Taxi Ranks/Bus Terminals",null,0,0,0,0,0,0,0,0,0,0,0,null,null,null,null,null,null,null,null,0]
["Capital Spares",null,0,0,0,0,0,0,0,0,0,null,null,null,null,null,null,null,null,null,null,0]
["Sport and Recreation Facilities",null,0,0,0,0,0,0,0,0,0,0,0,null,null,null,null,null,null,null,null,0]
["Indoor Facilities",null,0,0,0,0,0,0,0,0,0,0,0,null,null,null,null,null,null,null,null,0]
["Outdoor Facilities",null,0,0,0,0,0,0,0,0,0,0,0,null,null,null,null,null,null,null,null,0]
["Capital Spares",null,0,0,0,0,0,0,0,0,0,0,0,null,null,null,null,null,null,null,null,0]
[]
["Heritage assets",null,0,0,0,0,0,0,0,0,0,0,0,null,null,null,null,null,null,null,null,0]
["Monuments",null,0,0,0,0,0,0,0,0,0,0,0,null,null,null,null,null,null,null,null,0]
["Historic Buildings",null,0,0,0,0,0,0,0,0,0,0,0,null,null,null,null,null,null,null,null,0]
["Works of Art",null,0,0,0,0,0,0,0,0,0,0,0,null,null,null,null,null,null,null,null,0]
["Conservation Areas",null,0,0,0,0,0,0,0,0,0,0,0,null,null,null,null,null,null,null,null,0]
["Other Heritage",null,0,0,0,0,0,0,0,0,0,0,0,null,null,null,null,null,null,null,null,0]
[]
["Investment properties",null,0,0,0,0,0,0,0,0,0,0,0,null,null,null,null,null,null,null,null,0]
["Revenue Generating",null,0,0,0,0,0,0,0,0,0,0,0,null,null,null,null,null,null,null,null,0]
["Improved Property",null,0,0,0,0,0,0,0,0,0,0,0,null,null,null,null,null,null,null,null,0]
["Unimproved Property",null,0,0,0,0,0,0,0,0,0,0,0,null,null,null,null,null,null,null,null,0]
["Non-revenue Generating",null,0,0,0,0,0,0,0,0,0,0,0,null,null,null,null,null,null,null,null,0]
["Improved Property",null,0,0,0,0,0,0,0,0,0,0,0,null,null,null,null,null,null,null,null,0]
["Unimproved Property",null,0,0,0,0,0,0,0,0,0,0,0,null,null,null,null,null,null,null,null,0]
[]
["Other assets",null,0,0,0,0,0,0,0,0,0,0,0,null,null,null,null,null,null,null,null,0]
["Operational Buildings",null,0,0,0,0,0,0,0,0,0,0,0,null,null,null,null,null,null,null,null,0]
["Municipal Offices",null,0,0,0,0,0,0,0,0,0,0,0,null,null,null,null,null,null,null,null,0]
["Pay/Enquiry Points",null,0,0,0,0,0,0,0,0,0,0,0,null,null,null,null,null,null,null,null,0]
["Building Plan Offices",null,0,0,0,0,0,0,0,0,0,0,0,null,null,null,null,null,null,null,null,0]
["Workshops",null,0,0,0,0,0,0,0,0,0,0,0,null,null,null,null,null,null,null,null,0]
["Yards",null,0,0,0,0,0,0,0,0,0,0,0,null,null,null,null,null,null,null,null,0]
["Stores",null,0,0,0,0,0,0,0,0,0,0,0,null,null,null,null,null,null,null,null,0]
["Laboratories",null,0,0,0,0,0,0,0,0,0,0,0,null,null,null,null,null,null,null,null,0]
["Training Centres",null,0,0,0,0,0,0,0,0,0,0,0,null,null,null,null,null,null,null,null,0]
["Manufacturing Plant",null,0,0,0,0,0,0,0,0,0,0,0,null,null,null,null,null,null,null,null,0]
["Depots",null,0,0,0,0,0,0,0,0,0,0,0,null,null,null,null,null,null,null,null,0]
["Capital Spares",null,0,0,0,0,0,0,0,0,0,0,0,null,null,null,null,null,null,null,null,0]
["Housing",null,0,0,0,0,0,0,0,0,0,0,0,null,null,null,null,null,null,null,null,0]
["Staff Housing",null,0,0,0,0,0,0,0,0,0,0,0,null,null,null,null,null,null,null,null,0]
["Social Housing",null,0,0,0,0,0,0,0,0,0,0,0,null,null,null,null,null,null,null,null,0]
["Capital Spares",null,0,0,0,0,0,0,0,0,0,0,0,null,null,null,null,null,null,null,null,0]
[]
["Biological or Cultivated Assets",null,0,0,0,0,0,0,0,0,0,0,0,null,null,null,null,null,null,null,null,0]
["Biological or Cultivated Assets",null,0,0,0,0,0,0,0,0,0,0,0,null,null,null,null,null,null,null,null,0]
[]
["Intangible Assets",null,0,0,0,0,0,0,0,0,0,0,0,null,null,null,null,null,null,null,null,0]
["Servitudes",null,0,0,0,0,0,0,0,0,0,0,0,null,null,null,null,null,null,null,null,0]
["Licences and Rights",null,0,0,0,0,0,0,0,0,0,0,0,null,null,null,null,null,null,null,null,0]
["Water Rights",null,0,0,0,0,0,0,0,0,0,0,0,null,null,null,null,null,null,null,null,0]
["Effluent Licenses",null,0,0,0,0,0,0,0,0,0,0,0,null,null,null,null,null,null,null,null,0]
["Solid Waste Licenses",null,0,0,0,0,0,0,0,0,0,0,0,null,null,null,null,null,null,null,null,0]
["Computer Software and Applications",null,0,0,0,0,0,0,0,0,0,0,0,null,null,null,null,null,null,null,null,0]
["Load Settlement Software Applications",null,0,0,0,0,0,0,0,0,0,0,0,null,null,null,null,null,null,null,null,0]
["Unspecified",null,0,0,0,0,0,0,0,0,0,0,0,null,null,null,null,null,null,null,null,0]
[]
["Computer Equipment",null,0,0,0,0,0,0,0,0,0,0,0,null,null,null,null,null,null,null,null,0]
["Computer Equipment",null,0,0,0,0,0,0,0,0,0,0,0,null,null,null,null,null,null,null,null,0]
[]
["Furniture and Office Equipment",null,0,0,0,0,0,0,0,0,0,0,0,null,null,null,null,null,null,null,null,0]
["Furniture and Office Equipment",null,0,0,0,0,0,0,0,0,0,0,0,null,null,null,null,null,null,null,null,0]
[]
["Machinery and Equipment",null,0,0,0,0,0,0,0,0,0,0,0,null,null,null,null,null,null,null,null,0]
["Machinery and Equipment",null,0,0,0,0,0,0,0,0,0,0,0,null,null,null,null,null,null,null,null,0]
[]
["Transport Assets",null,0,0,0,0,0,0,0,0,0,0,0,null,null,null,null,null,null,null,null,0]
["Transport Assets",null,0,0,0,0,0,0,0,0,0,0,0,null,null,null,null,null,null,null,null,0]
[]
["Land",null,0,0,0,0,0,0,0,0,0,0,0,null,null,null,null,null,null,null,null,0]
["Land",null,0,0,0,0,0,0,0,0,0,0,0,null,null,null,null,null,null,null,null,0]
[]
["Zoo's, Marine and Non-biological Animals",null,0,0,0,0,0,0,0,0,0,0,0,null,null,null,null,null,null,null,null,0]
["Zoo's, Marine and Non-biological Animals",null,0,0,0,0,0,0,0,0,0,0,0,null,null,null,null,null,null,null,null,0]
[null,null,0,0,0,0,0,0,0,null,null,0,0]
["Living resources",null,0,0,0,0,0,0,0,0,0,0,0,null,null,null,null,null,null,null,null,0]
["Mature",null,0,0,0,0,0,0,0,0,0,0,0,null,null,null,null,null,null,null,null,0]
["Policing and Protection",null,0,0,0,0,0,0,0,0,0,0,0,null,null,null,null,null,null,null,null,0]
["Zoological plants and animals",null,0,0,0,0,0,0,0,0,0,0,0,null,null,null,null,null,null,null,null,0]
["Immature",null,0,0,0,0,0,0,0,0,0,0,0,null,null,null,null,null,null,null,null,0]
["Policing and Protection",null,0,0,0,0,0,0,0,0,0,0,0,null,null,null,null,null,null,null,null,0]
["Zoological plants and animals",null,0,0,0,0,0,0,0,0,0,0,0,null,null,null,null,null,null,null,null,0]
[]
["Total Capital Expenditure on renewal of existing assets to be adjusted",1,0,0,0,0,0,0,0,0,0,0,0,null,null,null,null,null,null,null,null,0]
[]
[{"$f":"head27a","v":"References"}]
["1. Total Capital Expenditure  on renewal of existing assets (SB18b) plus Total Capital Expenditure on new assets (SB18a) plus Total Capital Expenditure  on upgrading of existing assets (SB18e) must reconcile to total capital expenditure in Budgeted Capital Expenditure"]
["7. Only complete if a previous adjusted budget has been approved in the same financial year. Reflect most recent adjusted budget."]
["8. Additional cash-backed accumulated funds/unspent funds (section 18(1)(b) and section 28(2)(e) MFMA) identified after Original Budget approved and after annual financial statements audited (note: only where underspending could not reasonably be have for"]
["9. Increases of funds approved under section 31 MFMA"]
["10. Adjustments approved in accordance with section 29 MFMA"]
["11. Adjustments to funding allocations from National or Provincial Government"]
["12. Adjusts. = 'Other' Adjustments proposed to be approved; including revenue under-collection (MFMA section 28(2)(a)); additional revenue appropriation on existing programmes (section 28(2))(b); projected savings (section 28(2)(d)); error correction (sec"]
["13. G = B + C + D + E + F"]
["14. Adjusted Budget H = (A or A1) + G"]
[]
[]
["check balance",null,{"$f":"(C177+SB18a!C177+SB18e!C176)-'B5-Capex'!C65","v":0},null,null,null,null,null,null,null,{"$f":"(K177+SB18a!K177+SB18e!K176)-'B5-Capex'!K65","v":0},{"$f":"(L177+SB18a!L177+SB18e!L176)-'B5-Capex'!L65","v":0},{"$f":"(M177+SB18a!M177+SB18e!M176)-'B5-Capex'!M65","v":0},null,null,null,null,null,null,null,null,0]

{"sheet":"SB18c","index":38,"n_rows":189,"n_cols":22,"rows_kept":189,"cut":false,"hidden":false,"merged":[[1,0,3,0],[1,1,3,1],[1,2,1,10],[178,0,178,12],[185,0,185,12],[179,0,179,9],[180,0,180,9],[181,0,181,12],[183,0,183,12]]}
[{"$f":"muni&\" - \"&ADJB18c&\" - \"&Date","v":"WC031 Theewaterskloof - Supporting Table SB18c Adjustments Budget - expenditure on repairs and maintenance by asset class - 16 April 2026"}]
[{"$f":"desc","v":"Description"},{"$f":"head27","v":"Ref"},{"$f":"Head2","v":"Budget Year 2025/26"},null,null,null,null,null,null,null,null,{"$f":"Head10","v":"Budget Year +1 2026/27"},{"$f":"Head11","v":"Budget Year +2 2027/28"}]
[null,null,{"$f":"Head6","v":"Original Budget"},{"$f":"Head54","v":"Prior Adjusted"},{"$f":"Head51","v":"Accum. Funds"},{"$f":"Head52","v":"Multi-year capital"},{"$f":"Head53","v":"Unfore. Unavoid."},{"$f":"Head55","v":"Nat. or Prov. Govt"},{"$f":"Head50","v":"Other Adjusts."},{"$f":"Head56","v":"Total Adjusts."},{"$f":"Head7","v":"Adjusted Budget"},{"$f":"Head7","v":"Adjusted Budget"},{"$f":"Head7","v":"Adjusted Budget"},null,null,null,null,null,null,null,null,"Adjusted Budget"]
[null,null,null,7,8,9,10,11,12,13,14,null,null,null,null,null,null,null,null,null,null,14]
["R thousands",null,"A","A1","B","C","D","E","F","G","H",null,null,null,null,null,null,null,null,null,null,"H"]
["Repairs and maintenance expenditure by Asset Class/Sub-class"]
[]
["Infrastructure",null,104798449,101824596,0,0,0,0,-908054,-908054,100916542,109514390,112252278,null,null,null,null,null,null,null,null,101824596]
["Roads Infrastructure",null,28897643,27892294,0,0,0,0,-700489,-700489,27191805,30198036,30952997,null,null,null,null,null,null,null,null,27892294]
["Roads",null,28849293,27843944,0,0,0,0,-700489,-700489,27143455,30147510,30901208,null,null,null,null,null,null,null,null,27843944]
["Road Structures",null,0,0,0,0,0,0,0,0,0,0,0,null,null,null,null,null,null,null,null,0]
["Road Furniture",null,48350,48350,0,0,0,0,0,0,48350,50526,51789,null,null,null,null,null,null,null,null,48350]
["Capital Spares",null,0,0,0,0,0,0,0,0,0,0,0,null,null,null,null,null,null,null,null,0]
["Storm water Infrastructure",null,210000,210000,0,0,0,0,-54250,-54250,155750,219450,224936,null,null,null,null,null,null,null,null,210000]
["Drainage Collection",null,10000,10000,0,0,0,0,0,0,10000,10450,10711,null,null,null,null,null,null,null,null,10000]
["Storm water Conveyance",null,200000,200000,0,0,0,0,-54250,-54250,145750,209000,214225,null,null,null,null,null,null,null,null,200000]
["Attenuation",null,0,0,0,0,0,0,0,0,0,0,0,null,null,null,null,null,null,null,null,0]
["Electrical Infrastructure",null,15283086,13690039,0,0,0,0,-78237,-78237,13611802,15970826,16370095,null,null,null,null,null,null,null,null,13690039]
["Power Plants",null,0,0,0,0,0,0,0,0,0,0,0,null,null,null,null,null,null,null,null,0]
["HV Substations",null,0,0,0,0,0,0,0,0,0,0,0,null,null,null,null,null,null,null,null,0]
["HV Switching Station",null,0,0,0,0,0,0,0,0,0,0,0,null,null,null,null,null,null,null,null,0]
["HV Transmission Conductors",null,0,0,0,0,0,0,0,0,0,0,0,null,null,null,null,null,null,null,null,0]
["MV Substations",null,0,0,0,0,0,0,0,0,0,0,0,null,null,null,null,null,null,null,null,0]
["MV Switching Stations",null,0,0,0,0,0,0,0,0,0,0,0,null,null,null,null,null,null,null,null,0]
["MV Networks",null,0,0,0,0,0,0,0,0,0,0,0,null,null,null,null,null,null,null,null,0]
["LV Networks",null,15283086,13690039,0,0,0,0,-78237,-78237,13611802,15970826,16370095,null,null,null,null,null,null,null,null,13690039]
["Capital Spares",null,0,0,0,0,0,0,0,0,0,0,0,null,null,null,null,null,null,null,null,0]
["Water Supply Infrastructure",null,21459085,21445191,0,0,0,0,269097,269097,21714288,22424750,22985374,null,null,null,null,null,null,null,null,21445191]
["Dams and Weirs",null,25000,21504,0,0,0,0,0,0,21504,26125,26778,null,null,null,null,null,null,null,null,21504]
["Boreholes",null,0,0,0,0,0,0,0,0,0,0,0,null,null,null,null,null,null,null,null,0]
["Reservoirs",null,0,0,0,0,0,0,0,0,0,0,0,null,null,null,null,null,null,null,null,0]
["Pump Stations",null,0,0,0,0,0,0,0,0,0,0,0,null,null,null,null,null,null,null,null,0]
["Water Treatment Works",null,7235331,7485721,0,0,0,0,-59606,-59606,7426115,7560925,7749951,null,null,null,null,null,null,null,null,7485721]
["Bulk Mains",null,0,0,0,0,0,0,0,0,0,0,0,null,null,null,null,null,null,null,null,0]
["Distribution",null,14198754,13937966,0,0,0,0,328703,328703,14266669,14837700,15208645,null,null,null,null,null,null,null,null,13937966]
["Distribution Points",null,0,0,0,0,0,0,0,0,0,0,0,null,null,null,null,null,null,null,null,0]
["PRV Stations",null,0,0,0,0,0,0,0,0,0,0,0,null,null,null,null,null,null,null,null,0]
["Capital Spares",null,0,0,0,0,0,0,0,0,0,0,0,null,null,null,null,null,null,null,null,0]
["Sanitation Infrastructure",null,34231000,34856128,0,0,0,0,-362988,-362988,34493140,35771397,36665694,null,null,null,null,null,null,null,null,34856128]
["Pump Station",null,145390,83051,0,0,0,0,0,0,83051,151933,155732,null,null,null,null,null,null,null,null,83051]
["Reticulation",null,25772877,25884244,0,0,0,0,280635,280635,26164879,26932659,27605978,null,null,null,null,null,null,null,null,25884244]
["Waste Water Treatment Works",null,8312733,8888833,0,0,0,0,-643623,-643623,8245210,8686805,8903984,null,null,null,null,null,null,null,null,8888833]
["Outfall Sewers",null,0,0,0,0,0,0,0,0,0,0,0,null,null,null,null,null,null,null,null,0]
["Toilet Facilities",null,0,0,0,0,0,0,0,0,0,0,0,null,null,null,null,null,null,null,null,0]
["Capital Spares",null,0,0,0,0,0,0,0,0,0,0,0,null,null,null,null,null,null,null,null,0]
["Solid Waste Infrastructure",null,4717635,3730944,0,0,0,0,18813,18813,3749757,4929931,5053182,null,null,null,null,null,null,null,null,3730944]
["Landfill Sites",null,4712635,3725944,0,0,0,0,18813,18813,3744757,4924706,5047826,null,null,null,null,null,null,null,null,3725944]
["Waste Transfer Stations",null,0,0,0,0,0,0,0,0,0,0,0,null,null,null,null,null,null,null,null,0]
["Waste Processing Facilities",null,0,0,0,0,0,0,0,0,0,0,0,null,null,null,null,null,null,null,null,0]
["Waste Drop-off Points",null,5000,5000,0,0,0,0,0,0,5000,5225,5356,null,null,null,null,null,null,null,null,5000]
["Waste Separation Facilities",null,0,0,0,0,0,0,0,0,0,0,0,null,null,null,null,null,null,null,null,0]
["Electricity Generation Facilities",null,0,0,0,0,0,0,0,0,0,0,0,null,null,null,null,null,null,null,null,0]
["Capital Spares",null,0,0,0,0,0,0,0,0,0,0,0,null,null,null,null,null,null,null,null,0]
["Rail Infrastructure",null,0,0,0,0,0,0,0,0,0,0,0,null,null,null,null,null,null,null,null,0]
["Rail Lines",null,0,0,0,0,0,0,0,0,0,0,0,null,null,null,null,null,null,null,null,0]
["Rail Structures",null,0,0,0,0,0,0,0,0,0,0,0,null,null,null,null,null,null,null,null,0]
["Rail Furniture",null,0,0,0,0,0,0,0,0,0,0,0,null,null,null,null,null,null,null,null,0]
["Drainage Collection",null,0,0,0,0,0,0,0,0,0,0,0,null,null,null,null,null,null,null,null,0]
["Storm water Conveyance",null,0,0,0,0,0,0,0,0,0,0,0,null,null,null,null,null,null,null,null,0]
["Attenuation",null,0,0,0,0,0,0,0,0,0,0,0,null,null,null,null,null,null,null,null,0]
["MV Substations",null,0,0,0,0,0,0,0,0,0,0,0,null,null,null,null,null,null,null,null,0]
["LV Networks",null,0,0,0,0,0,0,0,0,0,0,0,null,null,null,null,null,null,null,null,0]
["Capital Spares",null,0,0,0,0,0,0,0,0,0,0,0,null,null,null,null,null,null,null,null,0]
["Coastal Infrastructure",null,0,0,0,0,0,0,0,0,0,0,0,null,null,null,null,null,null,null,null,0]
["Sand Pumps",null,0,0,0,0,0,0,0,0,0,0,0,null,null,null,null,null,null,null,null,0]
["Piers",null,0,0,0,0,0,0,0,0,0,0,0,null,null,null,null,null,null,null,null,0]
["Revetments",null,0,0,0,0,0,0,0,0,0,0,0,null,null,null,null,null,null,null,null,0]
["Promenades",null,0,0,0,0,0,0,0,0,0,0,0,null,null,null,null,null,null,null,null,0]
["Capital Spares",null,0,0,0,0,0,0,0,0,0,0,0,null,null,null,null,null,null,null,null,0]
["Information and Communication Infrastructure",null,0,0,0,0,0,0,0,0,0,0,0,null,null,null,null,null,null,null,null,0]
["Data Centres",null,0,0,0,0,0,0,0,0,0,0,0,null,null,null,null,null,null,null,null,0]
["Core Layers",null,0,0,0,0,0,0,0,0,0,0,0,null,null,null,null,null,null,null,null,0]
["Distribution Layers",null,0,0,0,0,0,0,0,0,0,0,0,null,null,null,null,null,null,null,null,0]
["Capital Spares",null,0,0,0,0,0,0,0,0,0,0,0,null,null,null,null,null,null,null,null,0]
[]
["Community Assets",null,13997720,14981242,0,0,0,0,-1930553,-1930553,13050689,14627626,14993318,null,null,null,null,null,null,null,null,14981242]
["Community Facilities",null,13604069,13449375,0,0,0,0,-1011143,-1011143,12438232,14216259,14571665,null,null,null,null,null,null,null,null,13449375]
["Halls",null,1833504,2845297,0,0,0,0,-597896,-597896,2247401,1916015,1963915,null,null,null,null,null,null,null,null,2845297]
["Centres",null,0,0,0,0,0,0,0,0,0,0,0,null,null,null,null,null,null,null,null,0]
["Crèches",null,0,0,0,0,0,0,0,0,0,0,0,null,null,null,null,null,null,null,null,0]
["Clinics/Care Centres",null,0,0,0,0,0,0,0,0,0,0,0,null,null,null,null,null,null,null,null,0]
["Fire/Ambulance Stations",null,0,0,0,0,0,0,0,0,0,0,0,null,null,null,null,null,null,null,null,0]
["Testing Stations",null,0,0,0,0,0,0,0,0,0,0,0,null,null,null,null,null,null,null,null,0]
["Museums",null,10000,10000,0,0,0,0,-10000,-10000,0,10450,10711,null,null,null,null,null,null,null,null,10000]
["Galleries",null,0,0,0,0,0,0,0,0,0,0,0,null,null,null,null,null,null,null,null,0]
["Theatres",null,0,0,0,0,0,0,0,0,0,0,0,null,null,null,null,null,null,null,null,0]
["Libraries",null,0,0,0,0,0,0,0,0,0,0,0,null,null,null,null,null,null,null,null,0]
["Cemeteries/Crematoria",null,908952,793204,0,0,0,0,-64085,-64085,729119,949856,973604,null,null,null,null,null,null,null,null,793204]
["Police",null,0,0,0,0,0,0,0,0,0,0,0,null,null,null,null,null,null,null,null,0]
["Purls",null,0,0,0,0,0,0,0,0,0,0,0,null,null,null,null,null,null,null,null,0]
["Public Open Space",null,9630474,8757227,0,0,0,0,-175343,-175343,8581884,10063846,10315441,null,null,null,null,null,null,null,null,8757227]
["Nature Reserves",null,1104039,941547,0,0,0,0,-163819,-163819,777728,1153722,1182565,null,null,null,null,null,null,null,null,941547]
["Public Ablution Facilities",null,82100,67100,0,0,0,0,0,0,67100,85795,87940,null,null,null,null,null,null,null,null,67100]
["Markets",null,0,0,0,0,0,0,0,0,0,0,0,null,null,null,null,null,null,null,null,0]
["Stalls",null,0,0,0,0,0,0,0,0,0,0,0,null,null,null,null,null,null,null,null,0]
["Abattoirs",null,0,0,0,0,0,0,0,0,0,0,0,null,null,null,null,null,null,null,null,0]
["Airports",null,0,0,0,0,0,0,0,0,0,0,0,null,null,null,null,null,null,null,null,0]
["Taxi Ranks/Bus Terminals",null,35000,35000,0,0,0,0,0,0,35000,36575,37489,null,null,null,null,null,null,null,null,35000]
["Capital Spares",null,0,0,0,0,0,0,0,0,0,0,0,null,null,null,null,null,null,null,null,0]
["Sport and Recreation Facilities",null,393651,1531867,0,0,0,0,-919410,-919410,612457,411367,421653,null,null,null,null,null,null,null,null,1531867]
["Indoor Facilities",null,0,0,0,0,0,0,0,0,0,0,0,null,null,null,null,null,null,null,null,0]
["Outdoor Facilities",null,393651,1531867,0,0,0,0,-919410,-919410,612457,411367,421653,null,null,null,null,null,null,null,null,1531867]
["Capital Spares",null,0,0,0,0,0,0,0,0,0,0,0,null,null,null,null,null,null,null,null,0]
[]
["Heritage assets",null,0,0,0,0,0,0,0,0,0,0,0,null,null,null,null,null,null,null,null,0]
["Monuments",null,0,0,0,0,0,0,0,0,0,0,0,null,null,null,null,null,null,null,null,0]
["Historic Buildings",null,0,0,0,0,0,0,0,0,0,0,0,null,null,null,null,null,null,null,null,0]
["Works of Art",null,0,0,0,0,0,0,0,0,0,0,0,null,null,null,null,null,null,null,null,0]
["Conservation Areas",null,0,0,0,0,0,0,0,0,0,0,0,null,null,null,null,null,null,null,null,0]
["Other Heritage",null,0,0,0,0,0,0,0,0,0,0,0,null,null,null,null,null,null,null,null,0]
[]
["Investment properties",null,40000,60000,0,0,0,0,-10000,-10000,50000,41800,42845,null,null,null,null,null,null,null,null,60000]
["Revenue Generating",null,0,0,0,0,0,0,0,0,0,0,0,null,null,null,null,null,null,null,null,0]
["Improved Property",null,0,0,0,0,0,0,0,0,0,0,0,null,null,null,null,null,null,null,null,0]
["Unimproved Property",null,0,0,0,0,0,0,0,0,0,0,0,null,null,null,null,null,null,null,null,0]
["Non-revenue Generating",null,40000,60000,0,0,0,0,-10000,-10000,50000,41800,42845,null,null,null,null,null,null,null,null,60000]
["Improved Property",null,40000,60000,0,0,0,0,-10000,-10000,50000,41800,42845,null,null,null,null,null,null,null,null,60000]
["Unimproved Property",null,0,0,0,0,0,0,0,0,0,0,0,null,null,null,null,null,null,null,null,0]
[]
["Other assets",null,11351741,12086108,0,0,0,0,-135944,-135944,11950164,11862565,12159130,null,null,null,null,null,null,null,null,12086108]
["Operational Buildings",null,10533427,11286383,0,0,0,0,-41770,-41770,11244613,11007427,11282613,null,null,null,null,null,null,null,null,11286383]
["Municipal Offices",null,10277658,11093068,0,0,0,0,-11770,-11770,11081298,10740147,11008651,null,null,null,null,null,null,null,null,11093068]
["Pay/Enquiry Points",null,0,0,0,0,0,0,0,0,0,0,0,null,null,null,null,null,null,null,null,0]
["Building Plan Offices",null,0,0,0,0,0,0,0,0,0,0,0,null,null,null,null,null,null,null,null,0]
["Workshops",null,255769,193315,0,0,0,0,-30000,-30000,163315,267280,273962,null,null,null,null,null,null,null,null,193315]
["Yards",null,0,0,0,0,0,0,0,0,0,0,0,null,null,null,null,null,null,null,null,0]
["Stores",null,0,0,0,0,0,0,0,0,0,0,0,null,null,null,null,null,null,null,null,0]
["Laboratories",null,0,0,0,0,0,0,0,0,0,0,0,null,null,null,null,null,null,null,null,0]
["Training Centres",null,0,0,0,0,0,0,0,0,0,0,0,null,null,null,null,null,null,null,null,0]
["Manufacturing Plant",null,0,0,0,0,0,0,0,0,0,0,0,null,null,null,null,null,null,null,null,0]
["Depots",null,0,0,0,0,0,0,0,0,0,0,0,null,null,null,null,null,null,null,null,0]
["Capital Spares",null,0,0,0,0,0,0,0,0,0,0,0,null,null,null,null,null,null,null,null,0]
["Housing",null,818314,799725,0,0,0,0,-94174,-94174,705551,855138,876517,null,null,null,null,null,null,null,null,799725]
["Staff Housing",null,0,0,0,0,0,0,0,0,0,0,0,null,null,null,null,null,null,null,null,0]
["Social Housing",null,818314,799725,0,0,0,0,-94174,-94174,705551,855138,876517,null,null,null,null,null,null,null,null,799725]
["Capital Spares",null,0,0,0,0,0,0,0,0,0,0,0,null,null,null,null,null,null,null,null,0]
[]
["Biological or Cultivated Assets",null,0,0,0,0,0,0,0,0,0,0,0,null,null,null,null,null,null,null,null,0]
["Biological or Cultivated Assets",null,0,0,0,0,0,0,0,0,0,0,0,null,null,null,null,null,null,null,null,0]
[]
["Intangible Assets",null,9904900,10374597,0,0,0,0,-568942,-568942,9805655,10350621,10609389,null,null,null,null,null,null,null,null,10374597]
["Servitudes",null,0,0,0,0,0,0,0,0,0,0,0,null,null,null,null,null,null,null,null,0]
["Licences and Rights",null,9904900,10374597,0,0,0,0,-568942,-568942,9805655,10350621,10609389,null,null,null,null,null,null,null,null,10374597]
["Water Rights",null,0,0,0,0,0,0,0,0,0,0,0,null,null,null,null,null,null,null,null,0]
["Effluent Licenses",null,0,0,0,0,0,0,0,0,0,0,0,null,null,null,null,null,null,null,null,0]
["Solid Waste Licenses",null,0,0,0,0,0,0,0,0,0,0,0,null,null,null,null,null,null,null,null,0]
["Computer Software and Applications",null,9904900,10374597,0,0,0,0,-568942,-568942,9805655,10350621,10609389,null,null,null,null,null,null,null,null,10374597]
["Load Settlement Software Applications",null,0,0,0,0,0,0,0,0,0,0,0,null,null,null,null,null,null,null,null,0]
["Unspecified",null,0,0,0,0,0,0,0,0,0,0,0,null,null,null,null,null,null,null,null,0]
[]
["Computer Equipment",null,0,0,0,0,0,0,0,0,0,0,0,null,null,null,null,null,null,null,null,0]
["Computer Equipment",null,0,0,0,0,0,0,0,0,0,0,0,null,null,null,null,null,null,null,null,0]
[]
["Furniture and Office Equipment",null,205843,205843,0,0,0,0,0,0,205843,215106,220484,null,null,null,null,null,null,null,null,205843]
["Furniture and Office Equipment",null,205843,205843,0,0,0,0,0,0,205843,215106,220484,null,null,null,null,null,null,null,null,205843]
[]
["Machinery and Equipment",null,764438,1058009,0,0,0,0,50000,50000,1108009,798839,818809,null,null,null,null,null,null,null,null,1058009]
["Machinery and Equipment",null,764438,1058009,0,0,0,0,50000,50000,1108009,798839,818809,null,null,null,null,null,null,null,null,1058009]
[]
["Transport Assets",null,7617688,7304495,0,0,0,0,-87180,-87180,7217315,7960515,8159536,null,null,null,null,null,null,null,null,7304495]
["Transport Assets",null,7617688,7304495,0,0,0,0,-87180,-87180,7217315,7960515,8159536,null,null,null,null,null,null,null,null,7304495]
[]
["Land",null,0,0,0,0,0,0,0,0,0,0,0,null,null,null,null,null,null,null,null,0]
["Land",null,0,0,0,0,0,0,0,0,0,0,0,null,null,null,null,null,null,null,null,0]
[]
["Zoo's, Marine and Non-biological Animals",null,0,0,0,0,0,0,0,0,0,0,0,null,null,null,null,null,null,null,null,0]
["Zoo's, Marine and Non-biological Animals",null,0,0,0,0,0,0,0,0,0,0,0,null,null,null,null,null,null,null,null,0]
[]
["Living resources",null,0,0,0,0,0,0,0,0,0,0,0,null,null,null,null,null,null,null,null,0]
["Mature",null,0,0,0,0,0,0,0,0,0,0,0,null,null,null,null,null,null,null,null,0]
["Policing and Protection",null,0,0,0,0,0,0,0,0,0,0,0,null,null,null,null,null,null,null,null,0]
["Zoological plants and animals",null,0,0,0,0,0,0,0,0,0,0,0,null,null,null,null,null,null,null,null,0]
["Immature",null,0,0,0,0,0,0,0,0,0,0,0,null,null,null,null,null,null,null,null,0]
["Policing and Protection",null,0,0,0,0,0,0,0,0,0,0,0,null,null,null,null,null,null,null,null,0]
["Zoological plants and animals",null,0,0,0,0,0,0,0,0,0,0,0,null,null,null,null,null,null,null,null,0]
["Total Repairs and Maintenance Expenditure to be adjusted",1,148680779,147894890,0,0,0,0,-3590673,-3590673,144304217,155371462,159255789,null,null,null,null,null,null,null,null,147894890]
[{"$f":"head27a","v":"References"}]
["1. Total Repairs and Maintenance Expenditure by Asset Category must reconcile to total repairs and maintenance expenditure on Table SB1",null,null,null,null,null,null,null,null,null,{"$f":"K176-'SB1'!K131","v":0},{"$f":"L176-'SB1'!L131","v":0},{"$f":"M176-'SB1'!M131","v":0},null,null,null,null,null,null,null,null,0]
["7. Only complete if a previous adjusted budget has been approved in the same financial year. Reflect most recent adjusted budget."]
["8. Additional cash-backed accumulated funds/unspent funds (section 18(1)(b) and section 28(2)(e) MFMA) identified after Original Budget approved and after annual financial statements audited (note: only where underspending could not reasonably be have for"]
["9. Increases of funds approved under section 31 MFMA"]
["10. Adjustments approved in accordance with section 29 MFMA"]
["11. Adjustments to funding allocations from National or Provincial Government"]
["12. Adjusts. = 'Other' Adjustments proposed to be approved; including revenue under-collection (MFMA section 28(2)(a)); additional revenue appropriation on existing programmes (section 28(2))(b); projected savings (section 28(2)(d)); error correction (sec"]
["13. G = B + C + D + E + F"]
["14. Adjusted Budget H = (A or A1) + G"]
[]
[]
["check balance"]

{"sheet":"SB18d","index":39,"n_rows":190,"n_cols":22,"rows_kept":190,"cut":false,"hidden":false,"merged":[[182,0,182,12],[184,0,184,12],[186,0,186,12],[1,0,3,0],[1,1,3,1],[1,2,1,10],[179,0,179,12],[180,0,180,9],[181,0,181,9]]}
[{"$f":"muni&\" - \"&ADJB18d&\" - \"&Date","v":"WC031 Theewaterskloof - Supporting Table SB18d Adjustments Budget - depreciation by asset class - 16 April 2026"}]
[{"$f":"desc","v":"Description"},{"$f":"head27","v":"Ref"},{"$f":"Head2","v":"Budget Year 2025/26"},null,null,null,null,null,null,null,null,{"$f":"Head10","v":"Budget Year +1 2026/27"},{"$f":"Head11","v":"Budget Year +2 2027/28"}]
[null,null,{"$f":"Head6","v":"Original Budget"},{"$f":"Head54","v":"Prior Adjusted"},{"$f":"Head51","v":"Accum. Funds"},{"$f":"Head52","v":"Multi-year capital"},{"$f":"Head53","v":"Unfore. Unavoid."},{"$f":"Head55","v":"Nat. or Prov. Govt"},{"$f":"Head50","v":"Other Adjusts."},{"$f":"Head56","v":"Total Adjusts."},{"$f":"Head7","v":"Adjusted Budget"},{"$f":"Head7","v":"Adjusted Budget"},{"$f":"Head7","v":"Adjusted Budget"},null,null,null,null,null,null,null,null,"Adjusted Budget"]
[null,null,null,7,8,9,10,11,12,13,14,null,null,null,null,null,null,null,null,null,null,14]
["R thousands",null,"A","A1","B","C","D","E","F","G","H",null,null,null,null,null,null,null,null,null,null,"H"]
["Depreciation by Asset Class/Sub-class"]
[]
["Infrastructure",null,28525668,35955207,0,0,0,0,0,0,35955207,28525668,28525668,null,null,null,null,null,null,null,null,35955207]
["Roads Infrastructure",null,4220632,4293130,0,0,0,0,0,0,4293130,4220632,4220632,null,null,null,null,null,null,null,null,4293130]
["Roads",null,4220632,4293130,0,0,0,0,0,0,4293130,4220632,4220632,null,null,null,null,null,null,null,null,4293130]
["Road Structures",null,0,0,0,0,0,0,0,0,0,0,0,null,null,null,null,null,null,null,null,0]
["Road Furniture",null,0,0,0,0,0,0,0,0,0,0,0,null,null,null,null,null,null,null,null,0]
["Capital Spares",null,0,0,0,0,0,0,0,0,0,0,0,null,null,null,null,null,null,null,null,0]
["Storm water Infrastructure",null,492738,488738,0,0,0,0,0,0,488738,492738,492738,null,null,null,null,null,null,null,null,488738]
["Drainage Collection",null,492738,488738,0,0,0,0,0,0,488738,492738,492738,null,null,null,null,null,null,null,null,488738]
["Storm water Conveyance",null,0,0,0,0,0,0,0,0,0,0,0,null,null,null,null,null,null,null,null,0]
["Attenuation",null,0,0,0,0,0,0,0,0,0,0,0,null,null,null,null,null,null,null,null,0]
["Electrical Infrastructure",null,3579180,3931157,0,0,0,0,0,0,3931157,3579180,3579180,null,null,null,null,null,null,null,null,3931157]
["Power Plants",null,0,0,0,0,0,0,0,0,0,0,0,null,null,null,null,null,null,null,null,0]
["HV Substations",null,0,0,0,0,0,0,0,0,0,0,0,null,null,null,null,null,null,null,null,0]
["HV Switching Station",null,0,0,0,0,0,0,0,0,0,0,0,null,null,null,null,null,null,null,null,0]
["HV Transmission Conductors",null,715836,301836,0,0,0,0,0,0,301836,715836,715836,null,null,null,null,null,null,null,null,301836]
["MV Substations",null,715836,577836,0,0,0,0,0,0,577836,715836,715836,null,null,null,null,null,null,null,null,577836]
["MV Switching Stations",null,0,0,0,0,0,0,0,0,0,0,0,null,null,null,null,null,null,null,null,0]
["MV Networks",null,715836,763836,0,0,0,0,0,0,763836,715836,715836,null,null,null,null,null,null,null,null,763836]
["LV Networks",null,1431672,2287649,0,0,0,0,0,0,2287649,1431672,1431672,null,null,null,null,null,null,null,null,2287649]
["Capital Spares",null,0,0,0,0,0,0,0,0,0,0,0,null,null,null,null,null,null,null,null,0]
["Water Supply Infrastructure",null,7251820,7624941,0,0,0,0,0,0,7624941,7251820,7251820,null,null,null,null,null,null,null,null,7624941]
["Dams and Weirs",null,36463,36463,0,0,0,0,0,0,36463,36463,36463,null,null,null,null,null,null,null,null,36463]
["Boreholes",null,127735,126735,0,0,0,0,0,0,126735,127735,127735,null,null,null,null,null,null,null,null,126735]
["Reservoirs",null,539562,550562,0,0,0,0,0,0,550562,539562,539562,null,null,null,null,null,null,null,null,550562]
["Pump Stations",null,1027630,1016630,0,0,0,0,0,0,1016630,1027630,1027630,null,null,null,null,null,null,null,null,1016630]
["Water Treatment Works",null,1153856,1140856,0,0,0,0,0,0,1140856,1153856,1153856,null,null,null,null,null,null,null,null,1140856]
["Bulk Mains",null,316952,314952,0,0,0,0,0,0,314952,316952,316952,null,null,null,null,null,null,null,null,314952]
["Distribution",null,4049622,4438743,0,0,0,0,0,0,4438743,4049622,4049622,null,null,null,null,null,null,null,null,4438743]
["Distribution Points",null,0,0,0,0,0,0,0,0,0,0,0,null,null,null,null,null,null,null,null,0]
["PRV Stations",null,0,0,0,0,0,0,0,0,0,0,0,null,null,null,null,null,null,null,null,0]
["Capital Spares",null,0,0,0,0,0,0,0,0,0,0,0,null,null,null,null,null,null,null,null,0]
["Sanitation Infrastructure",null,9397304,10806534,0,0,0,0,0,0,10806534,9397304,9397304,null,null,null,null,null,null,null,null,10806534]
["Pump Station",null,61733,61733,0,0,0,0,0,0,61733,61733,61733,null,null,null,null,null,null,null,null,61733]
["Reticulation",null,6195770,7643000,0,0,0,0,0,0,7643000,6195770,6195770,null,null,null,null,null,null,null,null,7643000]
["Waste Water Treatment Works",null,3139801,3101801,0,0,0,0,0,0,3101801,3139801,3139801,null,null,null,null,null,null,null,null,3101801]
["Outfall Sewers",null,0,0,0,0,0,0,0,0,0,0,0,null,null,null,null,null,null,null,null,0]
["Toilet Facilities",null,0,0,0,0,0,0,0,0,0,0,0,null,null,null,null,null,null,null,null,0]
["Capital Spares",null,0,0,0,0,0,0,0,0,0,0,0,null,null,null,null,null,null,null,null,0]
["Solid Waste Infrastructure",null,3583994,8810707,0,0,0,0,0,0,8810707,3583994,3583994,null,null,null,null,null,null,null,null,8810707]
["Landfill Sites",null,1543990,7260000,0,0,0,0,0,0,7260000,1543990,1543990,null,null,null,null,null,null,null,null,7260000]
["Waste Transfer Stations",null,2040004,1550707,0,0,0,0,0,0,1550707,2040004,2040004,null,null,null,null,null,null,null,null,1550707]
["Waste Processing Facilities",null,0,0,0,0,0,0,0,0,0,0,0,null,null,null,null,null,null,null,null,0]
["Waste Drop-off Points",null,0,0,0,0,0,0,0,0,0,0,0,null,null,null,null,null,null,null,null,0]
["Waste Separation Facilities",null,0,0,0,0,0,0,0,0,0,0,0,null,null,null,null,null,null,null,null,0]
["Electricity Generation Facilities",null,0,0,0,0,0,0,0,0,0,0,0,null,null,null,null,null,null,null,null,0]
["Capital Spares",null,0,0,0,0,0,0,0,0,0,0,0,null,null,null,null,null,null,null,null,0]
["Rail Infrastructure",null,0,0,0,0,0,0,0,0,0,0,0,null,null,null,null,null,null,null,null,0]
["Rail Lines",null,0,0,0,0,0,0,0,0,0,0,0,null,null,null,null,null,null,null,null,0]
["Rail Structures",null,0,0,0,0,0,0,0,0,0,0,0,null,null,null,null,null,null,null,null,0]
["Rail Furniture",null,0,0,0,0,0,0,0,0,0,0,0,null,null,null,null,null,null,null,null,0]
["Drainage Collection",null,0,0,0,0,0,0,0,0,0,0,0,null,null,null,null,null,null,null,null,0]
["Storm water Conveyance",null,0,0,0,0,0,0,0,0,0,0,0,null,null,null,null,null,null,null,null,0]
["Attenuation",null,0,0,0,0,0,0,0,0,0,0,0,null,null,null,null,null,null,null,null,0]
["MV Substations",null,0,0,0,0,0,0,0,0,0,0,0,null,null,null,null,null,null,null,null,0]
["LV Networks",null,0,0,0,0,0,0,0,0,0,0,0,null,null,null,null,null,null,null,null,0]
["Capital Spares",null,0,0,0,0,0,0,0,0,0,0,0,null,null,null,null,null,null,null,null,0]
["Coastal Infrastructure",null,0,0,0,0,0,0,0,0,0,0,0,null,null,null,null,null,null,null,null,0]
["Sand Pumps",null,0,0,0,0,0,0,0,0,0,0,0,null,null,null,null,null,null,null,null,0]
["Piers",null,0,0,0,0,0,0,0,0,0,0,0,null,null,null,null,null,null,null,null,0]
["Revetments",null,0,0,0,0,0,0,0,0,0,0,0,null,null,null,null,null,null,null,null,0]
["Promenades",null,0,0,0,0,0,0,0,0,0,0,0,null,null,null,null,null,null,null,null,0]
["Capital Spares",null,0,0,0,0,0,0,0,0,0,0,0,null,null,null,null,null,null,null,null,0]
["Information and Communication Infrastructure",null,0,0,0,0,0,0,0,0,0,0,0,null,null,null,null,null,null,null,null,0]
["Data Centres",null,0,0,0,0,0,0,0,0,0,0,0,null,null,null,null,null,null,null,null,0]
["Core Layers",null,0,0,0,0,0,0,0,0,0,0,0,null,null,null,null,null,null,null,null,0]
["Distribution Layers",null,0,0,0,0,0,0,0,0,0,0,0,null,null,null,null,null,null,null,null,0]
["Capital Spares",null,0,0,0,0,0,0,0,0,0,0,0,null,null,null,null,null,null,null,null,0]
[]
["Community Assets",null,122442,122442,0,0,0,0,0,0,122442,122442,122442,null,null,null,null,null,null,null,null,122442]
["Community Facilities",null,122442,122442,0,0,0,0,0,0,122442,122442,122442,null,null,null,null,null,null,null,null,122442]
["Halls",null,0,0,0,0,0,0,0,0,0,0,0,null,null,null,null,null,null,null,null,0]
["Centres",null,0,0,0,0,0,0,0,0,0,0,0,null,null,null,null,null,null,null,null,0]
["Crèches",null,0,0,0,0,0,0,0,0,0,0,0,null,null,null,null,null,null,null,null,0]
["Clinics/Care Centres",null,0,0,0,0,0,0,0,0,0,0,0,null,null,null,null,null,null,null,null,0]
["Fire/Ambulance Stations",null,0,0,0,0,0,0,0,0,0,0,0,null,null,null,null,null,null,null,null,0]
["Testing Stations",null,0,0,0,0,0,0,0,0,0,0,0,null,null,null,null,null,null,null,null,0]
["Museums",null,0,0,0,0,0,0,0,0,0,0,0,null,null,null,null,null,null,null,null,0]
["Galleries",null,0,0,0,0,0,0,0,0,0,0,0,null,null,null,null,null,null,null,null,0]
["Theatres",null,0,0,0,0,0,0,0,0,0,0,0,null,null,null,null,null,null,null,null,0]
["Libraries",null,0,0,0,0,0,0,0,0,0,0,0,null,null,null,null,null,null,null,null,0]
["Cemeteries/Crematoria",null,0,0,0,0,0,0,0,0,0,0,0,null,null,null,null,null,null,null,null,0]
["Police",null,0,0,0,0,0,0,0,0,0,0,0,null,null,null,null,null,null,null,null,0]
["Purls",null,0,0,0,0,0,0,0,0,0,0,0,null,null,null,null,null,null,null,null,0]
["Public Open Space",null,122442,122442,0,0,0,0,0,0,122442,122442,122442,null,null,null,null,null,null,null,null,122442]
["Nature Reserves",null,0,0,0,0,0,0,0,0,0,0,0,null,null,null,null,null,null,null,null,0]
["Public Ablution Facilities",null,0,0,0,0,0,0,0,0,0,0,0,null,null,null,null,null,null,null,null,0]
["Markets",null,0,0,0,0,0,0,0,0,0,0,0,null,null,null,null,null,null,null,null,0]
["Stalls",null,0,0,0,0,0,0,0,0,0,0,0,null,null,null,null,null,null,null,null,0]
["Abattoirs",null,0,0,0,0,0,0,0,0,0,0,0,null,null,null,null,null,null,null,null,0]
["Airports",null,0,0,0,0,0,0,0,0,0,0,0,null,null,null,null,null,null,null,null,0]
["Taxi Ranks/Bus Terminals",null,0,0,0,0,0,0,0,0,0,0,0,null,null,null,null,null,null,null,null,0]
["Capital Spares",null,0,0,0,0,0,0,0,0,0,0,0,null,null,null,null,null,null,null,null,0]
["Sport and Recreation Facilities",null,0,0,0,0,0,0,0,0,0,0,0,null,null,null,null,null,null,null,null,0]
["Indoor Facilities",null,0,0,0,0,0,0,0,0,0,0,0,null,null,null,null,null,null,null,null,0]
["Outdoor Facilities",null,0,0,0,0,0,0,0,0,0,0,0,null,null,null,null,null,null,null,null,0]
["Capital Spares",null,0,0,0,0,0,0,0,0,0,0,0,null,null,null,null,null,null,null,null,0]
[]
["Heritage assets",null,0,0,0,0,0,0,0,0,0,0,0,null,null,null,null,null,null,null,null,0]
["Monuments",null,0,0,0,0,0,0,0,0,0,0,0,null,null,null,null,null,null,null,null,0]
["Historic Buildings",null,0,0,0,0,0,0,0,0,0,0,0,null,null,null,null,null,null,null,null,0]
["Works of Art",null,0,0,0,0,0,0,0,0,0,0,0,null,null,null,null,null,null,null,null,0]
["Conservation Areas",null,0,0,0,0,0,0,0,0,0,0,0,null,null,null,null,null,null,null,null,0]
["Other Heritage",null,0,0,0,0,0,0,0,0,0,0,0,null,null,null,null,null,null,null,null,0]
[]
["Investment properties",null,0,0,0,0,0,0,0,0,0,0,0,null,null,null,null,null,null,null,null,0]
["Revenue Generating",null,0,0,0,0,0,0,0,0,0,0,0,null,null,null,null,null,null,null,null,0]
["Improved Property",null,0,0,0,0,0,0,0,0,0,0,0,null,null,null,null,null,null,null,null,0]
["Unimproved Property",null,0,0,0,0,0,0,0,0,0,0,0,null,null,null,null,null,null,null,null,0]
["Non-revenue Generating",null,0,0,0,0,0,0,0,0,0,0,0,null,null,null,null,null,null,null,null,0]
["Improved Property",null,0,0,0,0,0,0,0,0,0,0,0,null,null,null,null,null,null,null,null,0]
["Unimproved Property",null,0,0,0,0,0,0,0,0,0,0,0,null,null,null,null,null,null,null,null,0]
[]
["Other assets",null,1922722,1901722,0,0,0,0,0,0,1901722,1922722,1922722,null,null,null,null,null,null,null,null,1901722]
["Operational Buildings",null,1922722,1901722,0,0,0,0,0,0,1901722,1922722,1922722,null,null,null,null,null,null,null,null,1901722]
["Municipal Offices",null,1922722,1901722,0,0,0,0,0,0,1901722,1922722,1922722,null,null,null,null,null,null,null,null,1901722]
["Pay/Enquiry Points",null,0,0,0,0,0,0,0,0,0,0,0,null,null,null,null,null,null,null,null,0]
["Building Plan Offices",null,0,0,0,0,0,0,0,0,0,0,0,null,null,null,null,null,null,null,null,0]
["Workshops",null,0,0,0,0,0,0,0,0,0,0,0,null,null,null,null,null,null,null,null,0]
["Yards",null,0,0,0,0,0,0,0,0,0,0,0,null,null,null,null,null,null,null,null,0]
["Stores",null,0,0,0,0,0,0,0,0,0,0,0,null,null,null,null,null,null,null,null,0]
["Laboratories",null,0,0,0,0,0,0,0,0,0,0,0,null,null,null,null,null,null,null,null,0]
["Training Centres",null,0,0,0,0,0,0,0,0,0,0,0,null,null,null,null,null,null,null,null,0]
["Manufacturing Plant",null,0,0,0,0,0,0,0,0,0,0,0,null,null,null,null,null,null,null,null,0]
["Depots",null,0,0,0,0,0,0,0,0,0,0,0,null,null,null,null,null,null,null,null,0]
["Capital Spares",null,0,0,0,0,0,0,0,0,0,0,0,null,null,null,null,null,null,null,null,0]
["Housing",null,0,0,0,0,0,0,0,0,0,0,0,null,null,null,null,null,null,null,null,0]
["Staff Housing",null,0,0,0,0,0,0,0,0,0,0,0,null,null,null,null,null,null,null,null,0]
["Social Housing",null,0,0,0,0,0,0,0,0,0,0,0,null,null,null,null,null,null,null,null,0]
["Capital Spares",null,0,0,0,0,0,0,0,0,0,0,0,null,null,null,null,null,null,null,null,0]
[]
["Biological or Cultivated Assets",null,0,0,0,0,0,0,0,0,0,0,0,null,null,null,null,null,null,null,null,0]
["Biological or Cultivated Assets",null,0,0,0,0,0,0,0,0,0,0,0,null,null,null,null,null,null,null,null,0]
[]
["Intangible Assets",null,60512,58512,0,0,0,0,0,0,58512,60512,30512,null,null,null,null,null,null,null,null,58512]
["Servitudes",null,0,0,0,0,0,0,0,0,0,0,0,null,null,null,null,null,null,null,null,0]
["Licences and Rights",null,60512,58512,0,0,0,0,0,0,58512,60512,30512,null,null,null,null,null,null,null,null,58512]
["Water Rights",null,0,0,0,0,0,0,0,0,0,0,0,null,null,null,null,null,null,null,null,0]
["Effluent Licenses",null,0,0,0,0,0,0,0,0,0,0,0,null,null,null,null,null,null,null,null,0]
["Solid Waste Licenses",null,0,0,0,0,0,0,0,0,0,0,0,null,null,null,null,null,null,null,null,0]
["Computer Software and Applications",null,60512,58512,0,0,0,0,0,0,58512,60512,30512,null,null,null,null,null,null,null,null,58512]
["Load Settlement Software Applications",null,0,0,0,0,0,0,0,0,0,0,0,null,null,null,null,null,null,null,null,0]
["Unspecified",null,0,0,0,0,0,0,0,0,0,0,0,null,null,null,null,null,null,null,null,0]
[]
["Computer Equipment",null,762157,1001657,0,0,0,0,0,0,1001657,762157,762157,null,null,null,null,null,null,null,null,1001657]
["Computer Equipment",null,762157,1001657,0,0,0,0,0,0,1001657,762157,762157,null,null,null,null,null,null,null,null,1001657]
[]
["Furniture and Office Equipment",null,607401,583068,0,0,0,0,0,0,583068,607401,607401,null,null,null,null,null,null,null,null,583068]
["Furniture and Office Equipment",null,607401,583068,0,0,0,0,0,0,583068,607401,607401,null,null,null,null,null,null,null,null,583068]
[]
["Machinery and Equipment",null,792558,770558,0,0,0,0,0,0,770558,792558,792558,null,null,null,null,null,null,null,null,770558]
["Machinery and Equipment",null,792558,770558,0,0,0,0,0,0,770558,792558,792558,null,null,null,null,null,null,null,null,770558]
[]
["Transport Assets",null,2747857,3454375,0,0,0,0,0,0,3454375,2747857,2747857,null,null,null,null,null,null,null,null,3454375]
["Transport Assets",null,2747857,3454375,0,0,0,0,0,0,3454375,2747857,2747857,null,null,null,null,null,null,null,null,3454375]
[]
["Land",null,0,0,0,0,0,0,0,0,0,0,0,null,null,null,null,null,null,null,null,0]
["Land",null,0,0,0,0,0,0,0,0,0,0,0,null,null,null,null,null,null,null,null,0]
[]
["Zoo's, Marine and Non-biological Animals",null,0,0,0,0,0,0,0,0,0,0,0,null,null,null,null,null,null,null,null,0]
["Zoo's, Marine and Non-biological Animals",null,0,0,0,0,0,0,0,0,0,0,0,null,null,null,null,null,null,null,null,0]
[null,null,0,0,0,0,0,0,0,null,null,0,0]
["Living resources",null,0,0,0,0,0,0,0,0,0,0,0,null,null,null,null,null,null,null,null,0]
["Mature",null,0,0,0,0,0,0,0,0,0,0,0,null,null,null,null,null,null,null,null,0]
["Policing and Protection",null,0,0,0,0,0,0,0,0,0,0,0,null,null,null,null,null,null,null,null,0]
["Zoological plants and animals",null,0,0,0,0,0,0,0,0,0,0,0,null,null,null,null,null,null,null,null,0]
["Immature",null,0,0,0,0,0,0,0,0,0,0,0,null,null,null,null,null,null,null,null,0]
["Policing and Protection",null,0,0,0,0,0,0,0,0,0,0,0,null,null,null,null,null,null,null,null,0]
["Zoological plants and animals",null,0,0,0,0,0,0,0,0,0,0,0,null,null,null,null,null,null,null,null,0]
[]
["Total Depreciation to be adjusted",1,35541317,43847541,0,0,0,0,0,0,43847541,35541317,35511317,null,null,null,null,null,null,null,null,43847541]
[{"$f":"head27a","v":"References"}]
["1. Total Repairs and Maintenance Expenditure by Asset Category must reconcile to total repairs and maintenance expenditure on Table SB1",null,null,null,null,null,null,null,null,null,{"$f":"K177-'B4-FinPerf RE'!K43","v":0},{"$f":"L177-'B4-FinPerf RE'!L43","v":0},{"$f":"M177-'B4-FinPerf RE'!M43","v":0},null,null,null,null,null,null,null,null,0]
["7. Only complete if a previous adjusted budget has been approved in the same financial year. Reflect most recent adjusted budget."]
["8. Additional cash-backed accumulated funds/unspent funds (section 18(1)(b) and section 28(2)(e) MFMA) identified after Original Budget approved and after annual financial statements audited (note: only where underspending could not reasonably be have for"]
["9. Increases of funds approved under section 31 MFMA"]
["10. Adjustments approved in accordance with section 29 MFMA"]
["11. Adjustments to funding allocations from National or Provincial Government"]
["12. Adjusts. = 'Other' Adjustments proposed to be approved; including revenue under-collection (MFMA section 28(2)(a)); additional revenue appropriation on existing programmes (section 28(2))(b); projected savings (section 28(2)(d)); error correction (sec"]
["13. G = B + C + D + E + F"]
["14. Adjusted Budget H = (A or A1) + G"]
[]
[]
["check balance",null,{"$f":"C177-'B4-FinPerf RE'!C43","v":0},{"$f":"D177-'B4-FinPerf RE'!D43","v":0},{"$f":"E177-'B4-FinPerf RE'!E43","v":0},{"$f":"F177-'B4-FinPerf RE'!F43","v":0},{"$f":"G177-'B4-FinPerf RE'!G43","v":0},{"$f":"H177-'B4-FinPerf RE'!H43","v":0},{"$f":"I177-'B4-FinPerf RE'!I43","v":0},{"$f":"J177-'B4-FinPerf RE'!J43","v":0},{"$f":"K177-'B4-FinPerf RE'!K43","v":0},{"$f":"L177-'B4-FinPerf RE'!L43","v":0},{"$f":"M177-'B4-FinPerf RE'!M43","v":0},null,null,null,null,null,null,null,null,0]

{"sheet":"SB18e","index":40,"n_rows":190,"n_cols":22,"rows_kept":190,"cut":false,"hidden":false,"merged":[[182,0,182,12],[184,0,184,12],[186,0,186,12],[1,0,3,0],[1,1,3,1],[1,2,1,10],[179,0,179,12],[180,0,180,9],[181,0,181,9]]}
[{"$f":"muni&\" - \"&ADJB18e&\" - \"&Date","v":"WC031 Theewaterskloof - Supporting Table SB18e Adjustments Budget - capital expenditure on upgrading of existing assets by asset class - 16 April 2026"}]
[{"$f":"desc","v":"Description"},{"$f":"head27","v":"Ref"},{"$f":"Head2","v":"Budget Year 2025/26"},null,null,null,null,null,null,null,null,{"$f":"Head10","v":"Budget Year +1 2026/27"},{"$f":"Head11","v":"Budget Year +2 2027/28"}]
[null,null,{"$f":"Head6","v":"Original Budget"},{"$f":"Head54","v":"Prior Adjusted"},{"$f":"Head51","v":"Accum. Funds"},{"$f":"Head52","v":"Multi-year capital"},{"$f":"Head53","v":"Unfore. Unavoid."},{"$f":"Head55","v":"Nat. or Prov. Govt"},{"$f":"Head50","v":"Other Adjusts."},{"$f":"Head56","v":"Total Adjusts."},{"$f":"Head7","v":"Adjusted Budget"},{"$f":"Head7","v":"Adjusted Budget"},{"$f":"Head7","v":"Adjusted Budget"},null,null,null,null,null,null,null,null,"Adjusted Budget"]
[null,null,null,7,8,9,10,11,12,13,14,null,null,null,null,null,null,null,null,null,null,14]
["R thousands",null,"A","A1","B","C","D","E","F","G","H",null,null,null,null,null,null,null,null,null,null,"H"]
["Capital expenditure on upgrading of existing assets by Asset Class/Sub-class"]
[]
["Infrastructure",null,36667999.645652175,31300228.71652174,0,0,0,0,-2662294.71652174,-2662294.71652174,28637934,37687913,35566000,null,null,null,null,null,null,null,null,31300228.71652174]
["Roads Infrastructure",null,0,0,0,0,0,0,0,0,0,0,0,null,null,null,null,null,null,null,null,0]
["Roads",null,0,0,0,0,0,0,0,0,0,0,0,null,null,null,null,null,null,null,null,0]
["Road Structures",null,0,0,0,0,0,0,0,0,0,0,0,null,null,null,null,null,null,null,null,0]
["Road Furniture",null,0,0,0,0,0,0,0,0,0,0,0,null,null,null,null,null,null,null,null,0]
["Capital Spares",null,0,0,0,0,0,0,0,0,0,0,0,null,null,null,null,null,null,null,null,0]
["Storm water Infrastructure",null,0,0,0,0,0,0,0,0,0,0,0,null,null,null,null,null,null,null,null,0]
["Drainage Collection",null,0,0,0,0,0,0,0,0,0,0,0,null,null,null,null,null,null,null,null,0]
["Storm water Conveyance",null,0,0,0,0,0,0,0,0,0,0,0,null,null,null,null,null,null,null,null,0]
["Attenuation",null,0,0,0,0,0,0,0,0,0,0,0,null,null,null,null,null,null,null,null,0]
["Electrical Infrastructure",null,0,0,0,0,0,0,0,0,0,0,0,null,null,null,null,null,null,null,null,0]
["Power Plants",null,0,0,0,0,0,0,0,0,0,0,0,null,null,null,null,null,null,null,null,0]
["HV Substations",null,0,0,0,0,0,0,0,0,0,0,0,null,null,null,null,null,null,null,null,0]
["HV Switching Station",null,0,0,0,0,0,0,0,0,0,0,0,null,null,null,null,null,null,null,null,0]
["HV Transmission Conductors",null,0,0,0,0,0,0,0,0,0,0,0,null,null,null,null,null,null,null,null,0]
["MV Substations",null,0,0,0,0,0,0,0,0,0,0,0,null,null,null,null,null,null,null,null,0]
["MV Switching Stations",null,0,0,0,0,0,0,0,0,0,0,0,null,null,null,null,null,null,null,null,0]
["MV Networks",null,0,0,0,0,0,0,0,0,0,0,0,null,null,null,null,null,null,null,null,0]
["LV Networks",null,0,0,0,0,0,0,0,0,0,0,0,null,null,null,null,null,null,null,null,0]
["Capital Spares",null,0,0,0,0,0,0,0,0,0,0,0,null,null,null,null,null,null,null,null,0]
["Water Supply Infrastructure",null,5000000,3800000,0,0,0,0,0,0,3800000,0,22042316.521739129,null,null,null,null,null,null,null,null,3800000]
["Dams and Weirs",null,0,0,0,0,0,0,0,0,0,0,0,null,null,null,null,null,null,null,null,0]
["Boreholes",null,0,0,0,0,0,0,0,0,0,0,0,null,null,null,null,null,null,null,null,0]
["Reservoirs",null,0,0,0,0,0,0,0,0,0,0,0,null,null,null,null,null,null,null,null,0]
["Pump Stations",null,0,0,0,0,0,0,0,0,0,0,0,null,null,null,null,null,null,null,null,0]
["Water Treatment Works",null,0,1300000,0,0,0,0,0,0,1300000,0,5351274.5217391299,null,null,null,null,null,null,null,null,1300000]
["Bulk Mains",null,0,0,0,0,0,0,0,0,0,0,0,null,null,null,null,null,null,null,null,0]
["Distribution",null,5000000,2500000,0,0,0,0,0,0,2500000,0,16691042,null,null,null,null,null,null,null,null,2500000]
["Distribution Points",null,0,0,0,0,0,0,0,0,0,0,0,null,null,null,null,null,null,null,null,0]
["PRV Stations",null,0,0,0,0,0,0,0,0,0,0,0,null,null,null,null,null,null,null,null,0]
["Capital Spares",null,0,0,0,0,0,0,0,0,0,0,0,null,null,null,null,null,null,null,null,0]
["Sanitation Infrastructure",null,31667999.645652171,27500228.71652174,0,0,0,0,-2662294.71652174,-2662294.71652174,24837934,37687913,13523683.478260867,null,null,null,null,null,null,null,null,27500228.71652174]
["Pump Station",null,0,0,0,0,0,0,0,0,0,0,0,null,null,null,null,null,null,null,null,0]
["Reticulation",null,10792571.949999999,9997609.9478260875,0,0,0,0,-2662294.9478260875,-2662294.9478260875,7335315,0,2199193,null,null,null,null,null,null,null,null,9997609.9478260875]
["Waste Water Treatment Works",null,20875427.695652172,17502618.768695652,0,0,0,0,0.2313043475151062,0.2313043475151062,17502619,37687913,11324490.478260867,null,null,null,null,null,null,null,null,17502618.768695652]
["Outfall Sewers",null,0,0,0,0,0,0,0,0,0,0,0,null,null,null,null,null,null,null,null,0]
["Toilet Facilities",null,0,0,0,0,0,0,0,0,0,0,0,null,null,null,null,null,null,null,null,0]
["Capital Spares",null,0,0,0,0,0,0,0,0,0,0,0,null,null,null,null,null,null,null,null,0]
["Solid Waste Infrastructure",null,0,0,0,0,0,0,0,0,0,0,0,null,null,null,null,null,null,null,null,0]
["Landfill Sites",null,0,0,0,0,0,0,0,0,0,0,0,null,null,null,null,null,null,null,null,0]
["Waste Transfer Stations",null,0,0,0,0,0,0,0,0,0,0,0,null,null,null,null,null,null,null,null,0]
["Waste Processing Facilities",null,0,0,0,0,0,0,0,0,0,0,0,null,null,null,null,null,null,null,null,0]
["Waste Drop-off Points",null,0,0,0,0,0,0,0,0,0,0,0,null,null,null,null,null,null,null,null,0]
["Waste Separation Facilities",null,0,0,0,0,0,0,0,0,0,0,0,null,null,null,null,null,null,null,null,0]
["Electricity Generation Facilities",null,0,0,0,0,0,0,0,0,0,0,0,null,null,null,null,null,null,null,null,0]
["Capital Spares",null,0,0,0,0,0,0,0,0,0,0,0,null,null,null,null,null,null,null,null,0]
["Rail Infrastructure",null,0,0,0,0,0,0,0,0,0,0,0,null,null,null,null,null,null,null,null,0]
["Rail Lines",null,0,0,0,0,0,0,0,0,0,0,0,null,null,null,null,null,null,null,null,0]
["Rail Structures",null,0,0,0,0,0,0,0,0,0,0,0,null,null,null,null,null,null,null,null,0]
["Rail Furniture",null,0,0,0,0,0,0,0,0,0,0,0,null,null,null,null,null,null,null,null,0]
["Drainage Collection",null,0,0,0,0,0,0,0,0,0,0,0,null,null,null,null,null,null,null,null,0]
["Storm water Conveyance",null,0,0,0,0,0,0,0,0,0,0,0,null,null,null,null,null,null,null,null,0]
["Attenuation",null,0,0,0,0,0,0,0,0,0,0,0,null,null,null,null,null,null,null,null,0]
["MV Substations",null,0,0,0,0,0,0,0,0,0,0,0,null,null,null,null,null,null,null,null,0]
["LV Networks",null,0,0,0,0,0,0,0,0,0,0,0,null,null,null,null,null,null,null,null,0]
["Capital Spares",null,0,0,0,0,0,0,0,0,0,0,0,null,null,null,null,null,null,null,null,0]
["Coastal Infrastructure",null,0,0,0,0,0,0,0,0,0,0,0,null,null,null,null,null,null,null,null,0]
["Sand Pumps",null,0,0,0,0,0,0,0,0,0,0,0,null,null,null,null,null,null,null,null,0]
["Piers",null,0,0,0,0,0,0,0,0,0,0,0,null,null,null,null,null,null,null,null,0]
["Revetments",null,0,0,0,0,0,0,0,0,0,0,0,null,null,null,null,null,null,null,null,0]
["Promenades",null,0,0,0,0,0,0,0,0,0,0,0,null,null,null,null,null,null,null,null,0]
["Capital Spares",null,0,0,0,0,0,0,0,0,0,0,0,null,null,null,null,null,null,null,null,0]
["Information and Communication Infrastructure",null,0,0,0,0,0,0,0,0,0,0,0,null,null,null,null,null,null,null,null,0]
["Data Centres",null,0,0,0,0,0,0,0,0,0,0,0,null,null,null,null,null,null,null,null,0]
["Core Layers",null,0,0,0,0,0,0,0,0,0,0,0,null,null,null,null,null,null,null,null,0]
["Distribution Layers",null,0,0,0,0,0,0,0,0,0,0,0,null,null,null,null,null,null,null,null,0]
["Capital Spares",null,0,0,0,0,0,0,0,0,0,0,0,null,null,null,null,null,null,null,null,0]
[]
["Community Assets",null,0,1459378.5,0,0,0,0,302210.5,302210.5,1761589,0,0,null,null,null,null,null,null,null,null,1459378.5]
["Community Facilities",null,0,884412,0,0,0,0,0,0,884412,0,0,null,null,null,null,null,null,null,null,884412]
["Halls",null,0,0,0,0,0,0,0,0,0,0,0,null,null,null,null,null,null,null,null,0]
["Centres",null,0,0,0,0,0,0,0,0,0,0,0,null,null,null,null,null,null,null,null,0]
["Crèches",null,0,0,0,0,0,0,0,0,0,0,0,null,null,null,null,null,null,null,null,0]
["Clinics/Care Centres",null,0,0,0,0,0,0,0,0,0,0,0,null,null,null,null,null,null,null,null,0]
["Fire/Ambulance Stations",null,0,0,0,0,0,0,0,0,0,0,0,null,null,null,null,null,null,null,null,0]
["Testing Stations",null,0,0,0,0,0,0,0,0,0,0,0,null,null,null,null,null,null,null,null,0]
["Museums",null,0,0,0,0,0,0,0,0,0,0,0,null,null,null,null,null,null,null,null,0]
["Galleries",null,0,0,0,0,0,0,0,0,0,0,0,null,null,null,null,null,null,null,null,0]
["Theatres",null,0,0,0,0,0,0,0,0,0,0,0,null,null,null,null,null,null,null,null,0]
["Libraries",null,0,0,0,0,0,0,0,0,0,0,0,null,null,null,null,null,null,null,null,0]
["Cemeteries/Crematoria",null,0,0,0,0,0,0,0,0,0,0,0,null,null,null,null,null,null,null,null,0]
["Police",null,0,0,0,0,0,0,0,0,0,0,0,null,null,null,null,null,null,null,null,0]
["Purls",null,0,0,0,0,0,0,0,0,0,0,0,null,null,null,null,null,null,null,null,0]
["Public Open Space",null,0,0,0,0,0,0,0,0,0,0,0,null,null,null,null,null,null,null,null,0]
["Nature Reserves",null,0,0,0,0,0,0,0,0,0,0,0,null,null,null,null,null,null,null,null,0]
["Public Ablution Facilities",null,0,0,0,0,0,0,0,0,0,0,0,null,null,null,null,null,null,null,null,0]
["Markets",null,0,0,0,0,0,0,0,0,0,0,0,null,null,null,null,null,null,null,null,0]
["Stalls",null,0,0,0,0,0,0,0,0,0,0,0,null,null,null,null,null,null,null,null,0]
["Abattoirs",null,0,0,0,0,0,0,0,0,0,0,0,null,null,null,null,null,null,null,null,0]
["Airports",null,0,0,0,0,0,0,0,0,0,0,0,null,null,null,null,null,null,null,null,0]
["Taxi Ranks/Bus Terminals",null,0,884412,0,0,0,0,0,0,884412,0,0,null,null,null,null,null,null,null,null,884412]
["Capital Spares",null,0,0,0,0,0,0,0,0,0,0,0,null,null,null,null,null,null,null,null,0]
["Sport and Recreation Facilities",null,0,574966.5,0,0,0,0,302210.5,302210.5,877177,0,0,null,null,null,null,null,null,null,null,574966.5]
["Indoor Facilities",null,0,0,0,0,0,0,0,0,0,0,0,null,null,null,null,null,null,null,null,0]
["Outdoor Facilities",null,0,574966.5,0,0,0,0,302210.5,302210.5,877177,0,0,null,null,null,null,null,null,null,null,574966.5]
["Capital Spares",null,0,0,0,0,0,0,0,0,0,0,0,null,null,null,null,null,null,null,null,0]
[]
["Heritage assets",null,0,0,0,0,0,0,0,0,0,0,0,null,null,null,null,null,null,null,null,0]
["Monuments",null,0,0,0,0,0,0,0,0,0,0,0,null,null,null,null,null,null,null,null,0]
["Historic Buildings",null,0,0,0,0,0,0,0,0,0,0,0,null,null,null,null,null,null,null,null,0]
["Works of Art",null,0,0,0,0,0,0,0,0,0,0,0,null,null,null,null,null,null,null,null,0]
["Conservation Areas",null,0,0,0,0,0,0,0,0,0,0,0,null,null,null,null,null,null,null,null,0]
["Other Heritage",null,0,0,0,0,0,0,0,0,0,0,0,null,null,null,null,null,null,null,null,0]
[]
["Investment properties",null,0,0,0,0,0,0,0,0,0,0,0,null,null,null,null,null,null,null,null,0]
["Revenue Generating",null,0,0,0,0,0,0,0,0,0,0,0,null,null,null,null,null,null,null,null,0]
["Improved Property",null,0,0,0,0,0,0,0,0,0,0,0,null,null,null,null,null,null,null,null,0]
["Unimproved Property",null,0,0,0,0,0,0,0,0,0,0,0,null,null,null,null,null,null,null,null,0]
["Non-revenue Generating",null,0,0,0,0,0,0,0,0,0,0,0,null,null,null,null,null,null,null,null,0]
["Improved Property",null,0,0,0,0,0,0,0,0,0,0,0,null,null,null,null,null,null,null,null,0]
["Unimproved Property",null,0,0,0,0,0,0,0,0,0,0,0,null,null,null,null,null,null,null,null,0]
[]
["Other assets",null,0,0,0,0,0,0,0,0,0,0,0,null,null,null,null,null,null,null,null,0]
["Operational Buildings",null,0,0,0,0,0,0,0,0,0,0,0,null,null,null,null,null,null,null,null,0]
["Municipal Offices",null,0,0,0,0,0,0,0,0,0,0,0,null,null,null,null,null,null,null,null,0]
["Pay/Enquiry Points",null,0,0,0,0,0,0,0,0,0,0,0,null,null,null,null,null,null,null,null,0]
["Building Plan Offices",null,0,0,0,0,0,0,0,0,0,0,0,null,null,null,null,null,null,null,null,0]
["Workshops",null,0,0,0,0,0,0,0,0,0,0,0,null,null,null,null,null,null,null,null,0]
["Yards",null,0,0,0,0,0,0,0,0,0,0,0,null,null,null,null,null,null,null,null,0]
["Stores",null,0,0,0,0,0,0,0,0,0,0,0,null,null,null,null,null,null,null,null,0]
["Laboratories",null,0,0,0,0,0,0,0,0,0,0,0,null,null,null,null,null,null,null,null,0]
["Training Centres",null,0,0,0,0,0,0,0,0,0,0,0,null,null,null,null,null,null,null,null,0]
["Manufacturing Plant",null,0,0,0,0,0,0,0,0,0,0,0,null,null,null,null,null,null,null,null,0]
["Depots",null,0,0,0,0,0,0,0,0,0,0,0,null,null,null,null,null,null,null,null,0]
["Capital Spares",null,0,0,0,0,0,0,0,0,0,0,0,null,null,null,null,null,null,null,null,0]
["Housing",null,0,0,0,0,0,0,0,0,0,0,0,null,null,null,null,null,null,null,null,0]
["Staff Housing",null,0,0,0,0,0,0,0,0,0,0,0,null,null,null,null,null,null,null,null,0]
["Social Housing",null,0,0,0,0,0,0,0,0,0,0,0,null,null,null,null,null,null,null,null,0]
["Capital Spares",null,0,0,0,0,0,0,0,0,0,0,0,null,null,null,null,null,null,null,null,0]
[]
["Biological or Cultivated Assets",null,0,0,0,0,0,0,0,0,0,0,0,null,null,null,null,null,null,null,null,0]
["Biological or Cultivated Assets",null,0,0,0,0,0,0,0,0,0,0,0,null,null,null,null,null,null,null,null,0]
[]
["Intangible Assets",null,0,0,0,0,0,0,0,0,0,0,0,null,null,null,null,null,null,null,null,0]
["Servitudes",null,0,0,0,0,0,0,0,0,0,0,0,null,null,null,null,null,null,null,null,0]
["Licences and Rights",null,0,0,0,0,0,0,0,0,0,0,0,null,null,null,null,null,null,null,null,0]
["Water Rights",null,0,0,0,0,0,0,0,0,0,0,0,null,null,null,null,null,null,null,null,0]
["Effluent Licenses",null,0,0,0,0,0,0,0,0,0,0,0,null,null,null,null,null,null,null,null,0]
["Solid Waste Licenses",null,0,0,0,0,0,0,0,0,0,0,0,null,null,null,null,null,null,null,null,0]
["Computer Software and Applications",null,0,0,0,0,0,0,0,0,0,0,0,null,null,null,null,null,null,null,null,0]
["Load Settlement Software Applications",null,0,0,0,0,0,0,0,0,0,0,0,null,null,null,null,null,null,null,null,0]
["Unspecified",null,0,0,0,0,0,0,0,0,0,0,0,null,null,null,null,null,null,null,null,0]
[]
["Computer Equipment",null,0,0,0,0,0,0,0,0,0,0,0,null,null,null,null,null,null,null,null,0]
["Computer Equipment",null,0,0,0,0,0,0,0,0,0,0,0,null,null,null,null,null,null,null,null,0]
[]
["Furniture and Office Equipment",null,0,0,0,0,0,0,0,0,0,0,0,null,null,null,null,null,null,null,null,0]
["Furniture and Office Equipment",null,0,0,0,0,0,0,0,0,0,0,0,null,null,null,null,null,null,null,null,0]
[]
["Machinery and Equipment",null,0,0,0,0,0,0,0,0,0,0,0,null,null,null,null,null,null,null,null,0]
["Machinery and Equipment",null,0,0,0,0,0,0,0,0,0,0,0,null,null,null,null,null,null,null,null,0]
[]
["Transport Assets",null,6400000,4550362,0,0,0,0,0,0,4550362,0,0,null,null,null,null,null,null,null,null,4550362]
["Transport Assets",null,6400000,4550362,0,0,0,0,0,0,4550362,0,0,null,null,null,null,null,null,null,null,4550362]
[]
["Land",null,0,0,0,0,0,0,0,0,0,0,0,null,null,null,null,null,null,null,null,0]
["Land",null,0,0,0,0,0,0,0,0,0,0,0,null,null,null,null,null,null,null,null,0]
[]
["Zoo's, Marine and Non-biological Animals",null,0,0,0,0,0,0,0,0,0,0,0,null,null,null,null,null,null,null,null,0]
["Zoo's, Marine and Non-biological Animals",null,0,0,0,0,0,0,0,0,0,0,0,null,null,null,null,null,null,null,null,0]
[null,null,0,0,0,0,0,0,0,null,null,0,0]
["Living resources",null,0,0,0,0,0,0,0,0,0,0,0,null,null,null,null,null,null,null,null,0]
["Mature",null,0,0,0,0,0,0,0,0,0,0,0,null,null,null,null,null,null,null,null,0]
["Policing and Protection",null,0,0,0,0,0,0,0,0,0,0,0,null,null,null,null,null,null,null,null,0]
["Zoological plants and animals",null,0,0,0,0,0,0,0,0,0,0,0,null,null,null,null,null,null,null,null,0]
["Immature",null,0,0,0,0,0,0,0,0,0,0,0,null,null,null,null,null,null,null,null,0]
["Policing and Protection",null,0,0,0,0,0,0,0,0,0,0,0,null,null,null,null,null,null,null,null,0]
["Zoological plants and animals",null,0,0,0,0,0,0,0,0,0,0,0,null,null,null,null,null,null,null,null,0]
["Total Capital Expenditure on upgrading of existing assets to be adjusted",1,43067999.645652175,37309969.21652174,0,0,0,0,-2360084.21652174,-2360084.21652174,34949885,37687913,35566000,null,null,null,null,null,null,null,null,37309969.21652174]
[]
[{"$f":"head27a","v":"References"}]
["1. Total Capital Expenditure  on renewal of existing assets (SB18b) plus Total Capital Expenditure on new assets (SB18a) plus Total Capital Expenditure on upgrading of existing assets (SB18e) must reconcile to total capital expenditure in Budgeted Capital Expenditure"]
["7. Only complete if a previous adjusted budget has been approved in the same financial year. Reflect most recent adjusted budget."]
["8. Additional cash-backed accumulated funds/unspent funds (section 18(1)(b) and section 28(2)(e) MFMA) identified after Original Budget approved and after annual financial statements audited (note: only where underspending could not reasonably be have for"]
["9. Increases of funds approved under section 31 MFMA"]
["10. Adjustments approved in accordance with section 29 MFMA"]
["11. Adjustments to funding allocations from National or Provincial Government"]
["12. Adjusts. = 'Other' Adjustments proposed to be approved; including revenue under-collection (MFMA section 28(2)(a)); additional revenue appropriation on existing programmes (section 28(2))(b); projected savings (section 28(2)(d)); error correction (sec"]
["13. G = B + C + D + E + F"]
["14. Adjusted Budget H = (A or A1) + G"]
[]
[]
["check balance",null,{"$f":"(C176+SB18a!C177+SB18b!C177)-'B5-Capex'!C65","v":0},null,null,null,null,null,null,null,{"$f":"(K176+SB18a!K177+SB18b!K177)-'B5-Capex'!K65","v":0},{"$f":"(L176+SB18a!L177+SB18b!L177)-'B5-Capex'!L65","v":0},{"$f":"(M176+SB18a!M177+SB18b!M177)-'B5-Capex'!M65","v":0},null,null,null,null,null,null,null,null,0]

{"sheet":"SB19","index":41,"n_rows":102,"n_cols":18,"rows_kept":102,"cut":false,"hidden":false,"merged":[[1,12,1,17],[2,12,2,13],[2,14,2,15],[2,16,2,17]]}
[{"$f":"muni&\" - \"&ADJB19&\" - \"&Date","v":"WC031 Theewaterskloof - Supporting Table SB19 List of capital programmes and projects affected by Adjustments Budget - 16 April 2026"}]
["Function","Project Description","Project Number","Type","MTSF Service Outcome","IUDF","Own Strategic Objectives","Asset Class","Asset Sub-Class ","Ward Location","GPS Longitude","GPS Lattitude",{"$f":"Head3a","v":"Medium Term Revenue and Expenditure Framework"}]
[null,null,null,null,null,null,null,null,null,null,null,null,{"$f":"Head9","v":"Budget Year 2025/26"},null,{"$f":"Head10","v":"Budget Year +1 2026/27"},null,{"$f":"Head11","v":"Budget Year +2 2027/28"}]
["R thousands",null,null,null,null,null,null,null,null,null,null,null,{"$f":"Head6","v":"Original Budget"},{"$f":"Head7","v":"Adjusted Budget"},{"$f":"Head6","v":"Original Budget"},{"$f":"Head7","v":"Adjusted Budget"},{"$f":"Head6","v":"Original Budget"},{"$f":"Head7","v":"Adjusted Budget"}]
["Parent municipality:"]
["List all capital projects grouped by Function"]
["Electricity: Distribution","Electrification TWK Area",null,"New",null,null,"SO6","Electrical Infrastructure","LV Networks","Ward 6","19°16'50.35\"E","33°59'37.04\"S",0,0,5217391,{"$f":"O7","v":5217391},5453043,{"$f":"Q7","v":5453043}]
["Electricity: Distribution","Electrification TWK Area",null,"New",null,null,"SO6","Electrical Infrastructure","LV Networks","Ward 3","19°25'41.38\"E","34°14'50.88\"S",0,0,782609,{"$f":"O8","v":782609},817957,{"$f":"Q8","v":817957}]
["Human Settlements","Greyton Erf 595 (538)(Yield reduced)(393)",null,"New",null,null,"SO9","Housing","Social Housing","Ward 2","19°36'54.1\"E","34°03'22.3\"S",10000000,0,16000000,16000000,0,0]
["Human Settlements","Botrivier Beaumont (1046) IRDP Services Ph2(774)",null,"New",null,null,"SO9","Housing","Social Housing","Ward 7","19°11'51.3\"E","34°13'16.2\"S",12400000,0,4720000,4720000,0,0]
["Human Settlements","Villiersdorp Destiny Farm (1133) ",null,"New",null,null,"SO9","Housing","Social Housing","Ward 6","19°16'38.9\"E","33°59'31.3\"S",10560000,0,38700000,38700000,94200000,94200000]
["Human Settlements","Caledon Riemvasmaak (811) increased to (1014)",null,"New",null,null,"SO9","Housing","Social Housing","Ward 3","19°25'38.4\"E","34°14'49.2\"S",6119000,null,11960000,11960000,16000000,16000000]
["Human Settlements","Greater Villiersdorp UISP (2600)",null,"New",null,null,"SO9","Housing","Social Housing","Ward 5 and 6","19°16'45.3\"E","33°59'08.3\"S",5621000,null,0,0,0,0]
["Human Settlements","Gyspy Queen",null,"New",null,null,"SO9","Housing","Social Housing","Ward 11","19°00'34.9\"E","34°09'27.6\"S",0,0,16000000,16000000,0,0]
["Human Settlements","Grabouw Hillside (321) (102+219)",null,"New",null,null,"SO9","Housing","Social Housing","Ward 13","18°59'19.4\"E","34°09'39.6\"S",0,0,20640000,20640000,0,0]
["Roads & Stormwater","Upgrading of Villiersdorp Access Road",null,"Upgrading",null,null,"SO6","Roads Infrastructure","Roads",null,null,null,0,0,0,0,0,0]
["Sewerage: Treatment Works","Upgrading of Botrivier Waste Waster Treatment Works (WWTW) Phase 2",null,"Upgrading",null,null,"SO6","Sanitation Infrastructure","Waste Water Treatment Works","Ward 7",-34.234014971678498,19.206514961663601,13594457,15751714,21652722.304347821,21652722.304347821,0,0]
["Sewerage: Treatment Works","Upgrade of RSE Waste Water Treatment Works (WWTW) Phase 1",null,"Upgrading",null,null,"SO6","Sanitation Infrastructure","Waste Water Treatment Works","Ward 1",-34.138176999999999,19.924551999999998,0,0,7810969.04565218,7810969.04565218,5670125.4782608673,5670125.4782608673]
["Sewerage: Networks","Grabouw Waste Water Treatment Plant Upgrade",null,"Upgrading",null,null,"SO6","Sanitation Infrastructure","Waste Water Treatment Works","Ward 13",-34.157428023945101,19.020231038028701,0,0,0,0,2199193,2199193]
["Water: Treatment Works","Upgrade of Villiersdorp Water Treat Works (WTW)",null,"Upgrading",null,null,"SO6","Water Supply Infrastructure","Water Treatment Works","Ward 5",-33.998561088646198,19.294918254943902,7280970.6956521701,0,8224221.6500000004,8224221.6500000004,2045669,2045669]
["Water: Distribution","Villiersdorp Destiny Farm Reservoir",null,"Upgrading",null,null,"SO6","Water Supply Infrastructure","Reservoirs",null,null,null,0,0,0,0,977483.05,977483.05]
["Water: Distribution","Grabouw WEST bulk supply upgrades Steenbras upper: NEW 6.5Ml Steenbras upper reservoir & supply lines",null,"Upgrading",null,null,"SO6","Water Supply Infrastructure","Distribution",null,null,null,0,0,0,0,15713558.949999999,15713558.949999999]
["Finance and administration","Upgrading of Fleet",null,"Upgrading",null,null,"SO4","Transport Assets","Transport Assets",null,null,null,5000000,3150362,0,0,0,0]
["Waste water management","Upgrading of Grabouw Gypsy Queen Bulk Sewer and Water Provision",null,"Upgrading",null,null,"SO6","Sanitation Infrastructure","Reticulation",null,null,null,10792571.949999999,7335315,0,0,0,0]
["Water management","Smart meter replacement",null,"Upgrading",null,null,"SO6","Water Supply Infrastructure","Distribution",null,null,null,5000000,2500000,0,0,0,0]
["Housing","Greater Grabouw",null,"New",null,null,"SO9","Roads Infrastructure","Roads",null,null,null,300169.61249999999,300169.61249999999,0,0,0,0]
["Finance and administration","Furniture and Office Equipment",null,"New",null,null,"SO4","Furniture and Office Equipment","Furniture and Office Equipment",null,null,null,374000,379566,0,0,0,0]
["Finance and administration","Machinery and Equipment",null,"New",null,null,"SO4","Machinery and Equipment","Machinery and Equipment",null,null,null,50000,730000,0,0,0,0]
["Finance and administration","Computer Equipment",null,"New",null,null,"SO4","Computer Equipment","Computer Equipment",null,null,null,50000,372000,0,0,0,0]
["Housing","Grabouw- Hillside Tops",null,"New",null,null,"SO9","Roads Infrastructure","Roads",null,null,null,288170.46150000003,0,0,0,0,0]
["Waste water management","Upgrading of Caledon Waste Water Treatment Works (WWTW) Phase 5",null,"Upgrading",null,null,"SO6","Sanitation Infrastructure","Waste Water Treatment Works",null,null,null,0,0,0,0,1000000,1000000]
["Waste water management","Upgrading of Greyton Waste Water Treatment Works (WWTW)",null,"Upgrading",null,null,"SO6","Sanitation Infrastructure","Waste Water Treatment Works",null,null,null,0,0,0,0,2608696,2608696]
["Water management","Upgrading of the Ultra Fultration Plant in Genadendal",null,"Upgrading",null,null,"SO6","Water Supply Infrastructure","Water Treatment Works",null,null,null,0,0,0,0,2608696,2608696]
["Water management","Upgrade of RSE Ultra Fultration Plant",null,"Upgrading",null,null,"SO6","Water Supply Infrastructure","Water Treatment Works",null,null,null,0,0,0,0,2742578.5217391299,2742578.5217391299]
["Finance and administration","Purchase of Fleet",null,"Upgrading",null,null,"SO4","Transport Assets","Transport Assets",null,null,null,1400000,1400000,0,0,0,0]
["Planning and development","Villiersdorp Upgrade - Taxi Rank",null,"Upgrading",null,null,"SO11","Community Facilities","Taxi Ranks/Bus Terminals",null,null,null,0,884412.08000000007,0,0,0,0]
["Sport and recreation","Upgrading of Pineview Park Sport Ground",null,"Upgrading",null,null,"SO6","Sport and Recreation Facilities","Outdoor Facilities",null,null,null,0,763177,0,0,0,0]
["Sport and recreation","Upgrading of Pineview Park Sport Ground",null,null,null,null,null,null,null,null,null,null,null,114000]
["Housing","Botrivier Beaumont Planning",null,null,null,null,null,null,null,null,null,null,null,307147]
["Housing","Caledon Riemvasmaal Planning",null,null,null,null,null,null,null,null,null,null,null,125000]
["Housing","Greyton 595 Planning",null,null,null,null,null,null,null,null,null,null,null,185595]
["Housing","Grabouw- Hillside Tops",null,null,null,null,null,null,null,null,null,null,null,288170]
["Waste water management","Upgrading of Botrivier Waste Waster Treatment Works (WWTW) ",null,null,null,null,null,null,null,null,null,null,null,662018]
["Water management","Upgrade of Villiersdorp Water Treat Works (WTW)",null,null,null,null,null,null,null,null,null,null,null,1088887]
["Water management","Upgrading RSE WTP",null,null,null,null,null,null,null,null,null,null,null,1300000]
["Planning and development","Grabouw Taxi Rank",null,null,null,null,null,null,null,null,null,null,null,450000]
["Housing","Villiersdorp Destiny Farm (1133)",null,null,null,null,null,null,null,null,null,null,null,24700000]
["Housing","Greater Grabouw",null,null,null,null,null,null,null,null,null,null,null,3000000]
["Housing","Grabouw Iraq (456)",null,null,null,null,null,null,null,null,null,null,null,8336000]
["Housing","Grabouw- Hillside (321) (102+219)",null,null,null,null,null,null,null,null,null,null,null,9200000]
["Housing","Villiersdorp Berg en Dal (182)",null,null,null,null,null,null,null,null,null,null,null,2600000]
["Housing","Caledon Riemvasmaak (1014)",null,null,null,null,null,null,null,null,null,null,null,11000000]
["Housing","Botriver Beaumont Services Ph1(272) Ph2(774)",null,null,null,null,null,null,null,null,null,null,null,7000000]
["Housing","Rooidakke (1054)",null,null,null,null,null,null,null,null,null,null,null,5300000]
["Housing","Greater Villiersdorp UISP (2600)",null,null,null,null,null,null,null,null,null,null,null,5000000]
["Housing","Greyton Erf 595 (538) (Yield reduced) (393)",null,null,null,null,null,null,null,null,null,null,null,2000000]
["Finance and administration","Computer Equipment (New)",null,null,null,null,null,null,null,null,null,null,null,2000000]
[]
[null,null,null,null,null,null,null,null,null,null,null,null,0,{"$f":"N7:N59","v":0},0,0,0,0]
[null,null,null,null,null,null,null,null,null,null,null,null,0,0,0,0,0,0]
[null,null,null,null,null,null,null,null,null,null,null,null,0,0,0,0,0,0]
[null,null,null,null,null,null,null,null,null,null,null,null,0,0,0,0,0,0]
[null,null,null,null,null,null,null,null,null,null,null,null,0,0,0,0,0,0]
[null,null,null,null,null,null,null,null,null,null,null,null,0,0,0,0,0,0]
[null,null,null,null,null,null,null,null,null,null,null,null,0,0,0,0,0,0]
[null,null,null,null,null,null,null,null,null,null,null,null,0,0,0,0,0,0]
[null,null,null,null,null,null,null,null,null,null,null,null,0,0,0,0,0,0]
[null,null,null,null,null,null,null,null,null,null,null,null,0,0,0,0,0,0]
[null,null,null,null,null,null,null,null,null,null,null,null,0,0,0,0,0,0]
[null,null,null,null,null,null,null,null,null,null,null,null,0,0,0,0,0,0]
[null,null,null,null,null,null,null,null,null,null,null,null,0,0,0,0,0,0]
[null,null,null,null,null,null,null,null,null,null,null,null,0,0,0,0,0,0]
[null,null,null,null,null,null,null,null,null,null,null,null,0,0,0,0,0,0]
[null,null,null,null,null,null,null,null,null,null,null,null,0,0,0,0,0,0]
[null,null,null,null,null,null,null,null,null,null,null,null,0,0,0,0,0,0]
[null,null,null,null,null,null,null,null,null,null,null,null,0,0,0,0,0,0]
[null,null,null,null,null,null,null,null,null,null,null,null,0,0,0,0,0,0]
[null,null,null,null,null,null,null,null,null,null,null,null,0,0,0,0,0,0]
[null,null,null,null,null,null,null,null,null,null,null,null,0,0,0,0,0,0]
[null,null,null,null,null,null,null,null,null,null,null,null,0,0,0,0,0,0]
[null,null,null,null,null,null,null,null,null,null,null,null,0,0,0,0,0,0]
[null,null,null,null,null,null,null,null,null,null,null,null,0,0,0,0,0,0]
[null,null,null,null,null,null,null,null,null,null,null,null,0,0,0,0,0,0]
[null,null,null,null,null,null,null,null,null,null,null,null,0,0,0,0,0,0]
[null,null,null,null,null,null,null,null,null,null,null,null,0,0,0,0,0,0]
[null,null,null,null,null,null,null,null,null,null,null,null,0,0,0,0,0,0]
["Entities:"]
["List all capital projects grouped by Municipal Entity"]
[null,null,null,null,null,null,null,null,null,null,null,null,0,0,0,0,0,0]
["Entity Name",null,null,null,null,null,null,null,null,null,null,null,0,0,0,0,0,0]
["Project name",null,null,null,null,null,null,null,null,null,null,null,0,0,0,0,0,0]
[null,null,null,null,null,null,null,null,null,null,null,null,0,0,0,0,0,0]
[null,null,null,null,null,null,null,null,null,null,null,null,0,0,0,0,0,0]
[null,null,null,null,null,null,null,null,null,null,null,null,0,0,0,0,0,0]
[null,null,null,null,null,null,null,null,null,null,null,null,0,0,0,0,0,0]
["References"]
["List all projects where approved budgets have been adjusted",null,null,null,null,null,null,null,null,null,null,null,{"$f":"SUM(M5:M96)-'B5-Capex'!C76","v":0},{"$f":"SUM(N7:N59-'B5-Capex'!K76)","v":0},{"$f":"SUM(O5:O96)-'B5-Capex'!L76","v":0},{"$f":"SUM(P5:P96)-'B5-Capex'!L76","v":0},{"$f":"SUM(Q5:Q96)-'B5-Capex'!M76","v":0},{"$f":"SUM(R5:R96)-'B5-Capex'!M76","v":0}]
["Refer MFMA s30",null,null,null,null,null,null,null,null,null,null,null,null,{"$f":"SUM(N8:N59)","v":118223532.6925}]
["Asset class as per table B9 and asset sub-class as per table SB18",null,null,null,null,null,null,null,null,null,null,null,null,{"$f":"+B5B!K395","v":118223533}]
["GPS coordinates correct to seconds. Provide a logical starting point on networked infrastructure."]
["Distinguish projects approved in terms of MFMA section 19(1)(b) and MRRR Regulation 13"]
["Project Number consists of MSCOA Project Longcode and seq No (sample PC001002006002_00002)"]

{"sheet":"SB20","index":42,"n_rows":55,"n_cols":13,"rows_kept":55,"cut":false,"hidden":false,"merged":[[0,0,0,12],[1,0,3,0],[1,1,3,1],[1,2,1,10],[52,0,52,12],[48,0,48,12],[49,0,49,12],[46,0,46,12],[47,0,47,12]]}
[{"$f":"muni&\" - \"&ADJB20&\" - \"&Date","v":"WC031 Theewaterskloof - Supporting Table SB20 Not required - 16 April 2026"}]
[{"$f":"desc","v":"Description"},{"$f":"head27","v":"Ref"},{"$f":"Head2","v":"Budget Year 2025/26"},null,null,null,null,null,null,null,null,{"$f":"Head10","v":"Budget Year +1 2026/27"},{"$f":"Head11","v":"Budget Year +2 2027/28"}]
[null,null,{"$f":"Head6","v":"Original Budget"},{"$f":"Head54","v":"Prior Adjusted"},{"$f":"Head51","v":"Accum. Funds"},{"$f":"Head52","v":"Multi-year capital"},{"$f":"Head53","v":"Unfore. Unavoid."},{"$f":"Head55","v":"Nat. or Prov. Govt"},{"$f":"Head50","v":"Other Adjusts."},{"$f":"Head56","v":"Total Adjusts."},{"$f":"Head7","v":"Adjusted Budget"},{"$f":"Head7","v":"Adjusted Budget"},{"$f":"Head7","v":"Adjusted Budget"}]
[null,null,null,3,4,5,6,8,9,10,11]
["R thousands",null,"A","A1","B","C","D","E","F","G","H"]
["Revenue By Municipal Entity"]
["Entity 1 total revenue",null,0,0,0,0,0,0,0,{"$f":"SUM(E7:I7)","v":0},{"$f":"IF(D7=0,C7+J7,D7+J7)","v":0},0,0]
["Entity 2 total revenue",null,0,0,0,0,0,0,0,0,0,0,0]
["Entity 3 (etc) total revenue",null,0,0,0,0,0,0,0,0,0,0,0]
[null,null,0,0,0,0,0,0,0,0,0,0,0]
[null,null,0,0,0,0,0,0,0,0,0,0,0]
[null,null,0,0,0,0,0,0,0,0,0,0,0]
[null,null,0,0,0,0,0,0,0,0,0,0,0]
[null,null,0,0,0,0,0,0,0,0,0,0,0]
[null,null,0,0,0,0,0,0,0,0,0,0,0]
[null,null,0,0,0,0,0,0,0,0,0,0,0]
["Total Operating Revenue",1,{"$f":"SUM(C7:C16)","v":0},0,0,0,0,0,0,0,0,0,0]
[]
["Expenditure By Municipal Entity"]
["Entity 1 total operating expenditure",null,0,0,0,0,0,0,0,{"$f":"SUM(E20:I20)","v":0},{"$f":"IF(D20=0,C20+J20,D20+J20)","v":0},0,0]
["Entity 2 total operating expenditure",null,0,0,0,0,0,0,0,0,0,0,0]
["Entity 3 etc. total operating expenditure",null,0,0,0,0,0,0,0,0,0,0,0]
[null,null,0,0,0,0,0,0,0,0,0,0,0]
[null,null,0,0,0,0,0,0,0,0,0,0,0]
[null,null,0,0,0,0,0,0,0,0,0,0,0]
[null,null,0,0,0,0,0,0,0,0,0,0,0]
[null,null,0,0,0,0,0,0,0,0,0,0,0]
[null,null,0,0,0,0,0,0,0,0,0,0,0]
[null,null,0,0,0,0,0,0,0,0,0,0,0]
["Total Operating Expenditure",2,{"$f":"SUM(C20:C29)","v":0},0,0,0,0,0,0,0,0,0,0]
[]
["Capital Expenditure By Municipal Entity"]
["Entity 1 total capital expenditure",null,0,0,0,0,0,0,0,{"$f":"SUM(E33:I33)","v":0},{"$f":"IF(D33=0,C33+J33,D33+J33)","v":0},0,0]
["Entity 2 total capital expenditure",null,0,0,0,0,0,0,0,0,0,0,0]
["Entity 3 etc. total capital expenditure",null,0,0,0,0,0,0,0,0,0,0,0]
[null,null,0,0,0,0,0,0,0,0,0,0,0]
[null,null,0,0,0,0,0,0,0,0,0,0,0]
[null,null,0,0,0,0,0,0,0,0,0,0,0]
[null,null,0,0,0,0,0,0,0,0,0,0,0]
[null,null,0,0,0,0,0,0,0,0,0,0,0]
[null,null,0,0,0,0,0,0,0,0,0,0,0]
[null,null,0,0,0,0,0,0,0,0,0,0,0]
["Total Capital Expenditure",2,{"$f":"SUM(C33:C42)","v":0},{"$f":"SUM(D33:D42)","v":0},0,0,0,0,0,0,0,0,0]
[{"$f":"head27a","v":"References"}]
["1. Must reconcile to the sum of all municipal entity monthly revenue reports"]
["2. Must reconcile to the sum of all municipal entity monthly expenditure reports"]
["3. Only complete if a previous adjusted budget has been approved in the same financial year. Reflect most recent adjusted budget."]
["4. Additional cash-backed accumulated funds/unspent funds identified after Original Budget approved and after annual financial statements audited (note: only where underspending could not reasonably be have foreseen)"]
["5. Increases of funds approved under section 87 MFMA"]
["6. Adjustments approved in accordance with section 87 MFMA"]
["7. Adjustments made under delegation by the AO since the budget was approved or since a previously 'approved' Adjustments Budget in the same financial year"]
["8. Adjustments to funding allocations by National or Provincial Government"]
["9. Adjusts. = 'Other' Adjustments approved by entity Board; including revenue under-collection ; additional revenue appropriation on existing programmes; projected savings; error correction"]
["10. H = B + C + D + E + F + G"]
["11. Adjusted Budget (H) = (A or A1) + G"]